BEGIN:VCALENDAR
VERSION:2.0
PRODID:-//USZZ - ECPv6.7.0//NONSGML v1.0//EN
CALSCALE:GREGORIAN
METHOD:PUBLISH
X-WR-CALNAME:USZZ
X-ORIGINAL-URL:https://www.uszz.sk
X-WR-CALDESC:Udalosti pre USZZ
REFRESH-INTERVAL;VALUE=DURATION:PT1H
X-Robots-Tag:noindex
X-PUBLISHED-TTL:PT1H
BEGIN:VTIMEZONE
TZID:Europe/Bratislava
BEGIN:DAYLIGHT
TZOFFSETFROM:+0100
TZOFFSETTO:+0200
TZNAME:CEST
DTSTART:20240331T010000
END:DAYLIGHT
BEGIN:STANDARD
TZOFFSETFROM:+0200
TZOFFSETTO:+0100
TZNAME:CET
DTSTART:20241027T010000
END:STANDARD
BEGIN:DAYLIGHT
TZOFFSETFROM:+0100
TZOFFSETTO:+0200
TZNAME:CEST
DTSTART:20250330T010000
END:DAYLIGHT
BEGIN:STANDARD
TZOFFSETFROM:+0200
TZOFFSETTO:+0100
TZNAME:CET
DTSTART:20251026T010000
END:STANDARD
END:VTIMEZONE
BEGIN:VEVENT
DTSTART;VALUE=DATE:20241213
DTEND;VALUE=DATE:20250301
DTSTAMP:20260425T054257
CREATED:20241211T065417Z
LAST-MODIFIED:20241211T065417Z
UID:16566-1734048000-1740787199@www.uszz.sk
SUMMARY:8. Bienále slovenských výtvarníkov amatérov v Srbsku
DESCRIPTION:Múzeum vojvodinských Slovákov pozýva na 8. Bienále slovenských výtvarníkov amatérov v Srbsku. Výstava sa bude konať od 13. decembra 2024 do 28. februára 2025 v Galérii Zuzky Medveďovej v Báčskom Petrovci. Vernisáž sa uskutoční v piatok 13. decembra 2024 o 18.00 hod.
URL:https://www.uszz.sk/event/8-bienale-slovenskych-vytvarnikov-amaterov-v-srbsku/
LOCATION:Galéria Zuzky Medveďovej\, Báčsky Petrovec\, Srbsko
ATTACH;FMTTYPE=image/jpeg:https://www.uszz.sk/wp-content/uploads/2024/12/8-bienale-amaterov-2024-plagat-PRINT-1-e1733900016584.jpg
END:VEVENT
BEGIN:VEVENT
DTSTART;VALUE=DATE:20250206
DTEND;VALUE=DATE:20250303
DTSTAMP:20260425T054257
CREATED:20250204T083818Z
LAST-MODIFIED:20250204T083849Z
UID:16987-1738800000-1740959999@www.uszz.sk
SUMMARY:Insitné umenie Padina
DESCRIPTION:V priestoroch Mestského domu kultúry v Revúcej sa koná predajná výstava slovenských dolnozemských umelcov. Vystavujúci maliari sú Juraj Lavroš. Vladimír Galaš a Pavel Ljavroš ml. Vernisáž výstavy sa koná 6.2. o 17:00.
URL:https://www.uszz.sk/event/insitne-umenie-padina/
LOCATION:Mestský dom kultúry v Revúcej
ATTACH;FMTTYPE=image/jpeg:https://www.uszz.sk/wp-content/uploads/2025/02/475859863_9077657408976704_5478856356808940178_n.jpg
END:VEVENT
BEGIN:VEVENT
DTSTART;VALUE=DATE:20250207
DTEND;VALUE=DATE:20250317
DTSTAMP:20260425T054257
CREATED:20250203T143404Z
LAST-MODIFIED:20250207T202520Z
UID:16974-1738886400-1742169599@www.uszz.sk
SUMMARY:OBRAZY Z DOLNEJ ZEME - JÁN GLÓZIK
DESCRIPTION:Galéria MÚR a TRISTÁN studio Vás pozývajú na výstavu OBRAZY Z DOLNEJ ZEME – JÁN GLÓZIK\, ktorá sa koná v dňoch 7. 2. 2025 – 16. 3. 2025 v Prešove. \nViac info v článku na webe slovenskezahraničie: Obrazy z Dolnej zeme \n 
URL:https://www.uszz.sk/event/obrazy-z-dolnej-zeme-jan-glozik/
LOCATION:Prešov
ATTACH;FMTTYPE=image/jpeg:https://www.uszz.sk/wp-content/uploads/2025/02/Baner.jpg
END:VEVENT
END:VCALENDAR