BEGIN:VCALENDAR
VERSION:2.0
PRODID:-//USZZ - ECPv6.7.0//NONSGML v1.0//EN
CALSCALE:GREGORIAN
METHOD:PUBLISH
X-ORIGINAL-URL:https://www.uszz.sk
X-WR-CALDESC:Udalosti pre USZZ
REFRESH-INTERVAL;VALUE=DURATION:PT1H
X-Robots-Tag:noindex
X-PUBLISHED-TTL:PT1H
BEGIN:VTIMEZONE
TZID:Europe/Bratislava
BEGIN:DAYLIGHT
TZOFFSETFROM:+0100
TZOFFSETTO:+0200
TZNAME:CEST
DTSTART:20250330T010000
END:DAYLIGHT
BEGIN:STANDARD
TZOFFSETFROM:+0200
TZOFFSETTO:+0100
TZNAME:CET
DTSTART:20251026T010000
END:STANDARD
TZID:America/Los_Angeles
BEGIN:DAYLIGHT
TZOFFSETFROM:-0800
TZOFFSETTO:-0700
TZNAME:PDT
DTSTART:20250309T100000
END:DAYLIGHT
BEGIN:STANDARD
TZOFFSETFROM:-0700
TZOFFSETTO:-0800
TZNAME:PST
DTSTART:20251102T090000
END:STANDARD
END:VTIMEZONE
BEGIN:VEVENT
DTSTART;TZID=Europe/Bratislava:20250320T170000
DTEND;TZID=Europe/Bratislava:20250531T000000
DTSTAMP:20260425T021706
CREATED:20250318T130450Z
LAST-MODIFIED:20250318T130450Z
UID:17191-1742490000-1748649600@www.uszz.sk
SUMMARY:Výstava Pavla Surového
DESCRIPTION:Dávame do pozornosti výstavu Trón Pavla Surového\, ktorá sa koná v Slovenskom národnom múzeu v Martine v dňoch 20.3. – 31.5. 2025 \nVýstava otvárala prestížnu titulu „Európske mesto kultúry – Nový Sad 2022“ a zároveň bola nainštalovaná v istom čase až v 7 Kultúrnych staniciach v Novom Sade. Je to zároveň aj najoceňovanejší fotografický projekt slovenského umelca žijúceho v Srbsku\, ktorý získal na 3 kontinentoch viac ako 100 medailou. \nVýstava svetovo uznávaného grafického dizajnéra a módneho fotografa Pavla Surového\, Slováka zo Srbska\, zobrazuje bohatstvo rozličností ľudového odevu na Balkáne. Jeho práca je špecifická reinterpretácia ľudových krojov\, ako nehmotného kultúrneho dedičstva\, ktorá komponuje tradičné prvky a zobrazuje ich z originálnej perspektívy\, ktorá špecifickým spôsobom mení estetické a tradičné modely. Vo fókuse je spoj tradície a duchovna\, výstava Trón predstavuje originálny a autentický balkánsky ľudový odev. \nÚspešná výstava „Trón“ mala svetovú premiéru v Paríži\, ďalej bola nainštalovaná v Slovinsku\, Maďarsku\, Českej republike\, Srbskej republike a niekoľkokrát v hlavnom meste Srbska v Belehrade. \n 
URL:https://www.uszz.sk/event/vystava-pavla-suroveho/
LOCATION:Slovenské národné múzeum v Martine\, Slovakia (Slovak Republic)
ATTACH;FMTTYPE=image/jpeg:https://www.uszz.sk/wp-content/uploads/2025/03/pozvanka-tron-pavla-suroveho-snm-martin_50.jpg
END:VEVENT
BEGIN:VEVENT
DTSTART;VALUE=DATE:20250517
DTEND;VALUE=DATE:20250518
DTSTAMP:20260425T021706
CREATED:20250411T112741Z
LAST-MODIFIED:20250411T112741Z
UID:17523-1747440000-1747526399@www.uszz.sk
SUMMARY:XV. Výstup na Pilíš – Spoločnými chodníkmi v znamení prehlbovania priateľstva
DESCRIPTION:Dňa 17. mája 2025 sa uskutoční už 15. ročník výstupu na Pilíš pod názvom Memoriál Juraja Migaša. Podujatie organizuje Združenie pilíšskych Slovákov\, Slovenská samospráva v Mlynkoch a Športový a kultúrny spolok Pilíš. \nTento tradičný výstup na vrchol Pilíša – pešo i na bicykloch – je venovaný nielen ucteniu si pamiatky významnej osobnosti\, ale predovšetkým prehlbovaniu priateľstva medzi Slovákmi a ich priateľmi v Maďarsku i na Slovensku. \nProgram:\n\n\n9:00 – Otvorenie III. výstavy slovenských maliarov \n\n\n9:30 – Kladenie vencov pri pamätnej tabuli Juraja Migaša \n\n\n10:00 – Výstup na Pilíš pešo a na bicykloch \n\n\n13:00 – Pripnutie stužiek priateľstva pri rozhľadni sv. Eusébia \n\n\nPodujatie sa koná s podporou Veľvyslanectva Slovenskej republiky v Budapešti.
URL:https://www.uszz.sk/event/xv-vystup-na-pilis-spolocnymi-chodnikmi-v-znameni-prehlbovania-priatelstva/
ATTACH;FMTTYPE=image/jpeg:https://www.uszz.sk/wp-content/uploads/2025/04/1-1.jpg
END:VEVENT
BEGIN:VEVENT
DTSTART;TZID=America/Los_Angeles:20250517T133000
DTEND;TZID=America/Los_Angeles:20250517T133000
DTSTAMP:20260425T021706
CREATED:20250515T091053Z
LAST-MODIFIED:20250515T091053Z
UID:17798-1747488600-1747488600@www.uszz.sk
SUMMARY:12. Krajanský folklórny festival 2025 San Diego
DESCRIPTION:Vážení českí a slovenskí priaznivci\,\nPozývame vás v sobotu 17. mája 2025 na 12. český\, moravský a slovenský folklórny festival na najväčšie české a slovenské podujatie v San Diegu\, ktoré organizuje a zakladá Anka Hradsky! \nVyužite LIMITOVANÚ špeciálnu cenu TERAZ!!\n– za vstupenky zaplatené do 17. apríla 2025 je 17 USD v hotovosti alebo šekom; pri platbe cez Venmo $18 (zahŕňa servisný poplatok).\n-potom 25 USD v hotovosti alebo šekom až do vypredania podujatia; pri platbe cez Venmo $26 (zahŕňa transakčný poplatok);\n– deti do 15 rokov majú vstup ZDARMA.\nVstupenky si môžete zakúpiť cez Venmo @Anna-Hradsky. \nVstupenky sú prísne nevratné.
URL:https://www.uszz.sk/event/12-krajansky-folklorny-festival-2025-san-diego/
LOCATION:San Diego – La Mesa\, California\, United States
ATTACH;FMTTYPE=image/jpeg:https://www.uszz.sk/wp-content/uploads/2025/05/18223-1.jpg
END:VEVENT
BEGIN:VEVENT
DTSTART;TZID=Europe/Bratislava:20250517T180000
DTEND;TZID=Europe/Bratislava:20250517T220000
DTSTAMP:20260425T021706
CREATED:20250514T071853Z
LAST-MODIFIED:20250514T071853Z
UID:17780-1747504800-1747519200@www.uszz.sk
SUMMARY:240 rokov od príchodu Slovákov do Begeča
DESCRIPTION:V sobotu 17. mája 2025 sa v Kultúrnej stanici Begeč (Srbsko) uskutoční slávnostný folklórny koncert pod názvom „Begeč je láska – Begeč sa miluje“\, ktorý sa koná pri príležitosti 240. výročia príchodu Slovákov do Begeča. \nNa podujatí sa predstavia slovenské a maďarské kultúrne spolky a umelecké súbory z Nového Sadu\, Futogu\, Báčskeho Petrovca\, Báčskej Palanky\, Pivnice a Lugu\, ako aj deti z miestnych škôl a škôlky. Program doplnia hostia prekvapenia a očakáva sa aj účasť veľvyslanca Slovenskej republiky v Srbsku. \nOrganizátormi koncertu sú Miestny odbor Matice slovenskej Begeč a Kultúrna stanica Begeč. Vstup je za dobrovoľný príspevok.
URL:https://www.uszz.sk/event/240-rokov-od-prichodu-slovakov-do-begeca/
LOCATION:Kultúrna stanica Begeč\, Serbia
ATTACH;FMTTYPE=image/jpeg:https://www.uszz.sk/wp-content/uploads/2025/05/497508732_9621090994652617_6778954192990161879_n.jpg
END:VEVENT
END:VCALENDAR