BEGIN:VCALENDAR
VERSION:2.0
PRODID:-//USZZ - ECPv6.7.0//NONSGML v1.0//EN
CALSCALE:GREGORIAN
METHOD:PUBLISH
X-WR-CALNAME:USZZ
X-ORIGINAL-URL:https://www.uszz.sk
X-WR-CALDESC:Udalosti pre USZZ
REFRESH-INTERVAL;VALUE=DURATION:PT1H
X-Robots-Tag:noindex
X-PUBLISHED-TTL:PT1H
BEGIN:VTIMEZONE
TZID:Europe/Bratislava
BEGIN:DAYLIGHT
TZOFFSETFROM:+0100
TZOFFSETTO:+0200
TZNAME:CEST
DTSTART:20250330T010000
END:DAYLIGHT
BEGIN:STANDARD
TZOFFSETFROM:+0200
TZOFFSETTO:+0100
TZNAME:CET
DTSTART:20251026T010000
END:STANDARD
END:VTIMEZONE
BEGIN:VEVENT
DTSTART;TZID=Europe/Bratislava:20250320T170000
DTEND;TZID=Europe/Bratislava:20250531T000000
DTSTAMP:20260425T021552
CREATED:20250318T130450Z
LAST-MODIFIED:20250318T130450Z
UID:17191-1742490000-1748649600@www.uszz.sk
SUMMARY:Výstava Pavla Surového
DESCRIPTION:Dávame do pozornosti výstavu Trón Pavla Surového\, ktorá sa koná v Slovenskom národnom múzeu v Martine v dňoch 20.3. – 31.5. 2025 \nVýstava otvárala prestížnu titulu „Európske mesto kultúry – Nový Sad 2022“ a zároveň bola nainštalovaná v istom čase až v 7 Kultúrnych staniciach v Novom Sade. Je to zároveň aj najoceňovanejší fotografický projekt slovenského umelca žijúceho v Srbsku\, ktorý získal na 3 kontinentoch viac ako 100 medailou. \nVýstava svetovo uznávaného grafického dizajnéra a módneho fotografa Pavla Surového\, Slováka zo Srbska\, zobrazuje bohatstvo rozličností ľudového odevu na Balkáne. Jeho práca je špecifická reinterpretácia ľudových krojov\, ako nehmotného kultúrneho dedičstva\, ktorá komponuje tradičné prvky a zobrazuje ich z originálnej perspektívy\, ktorá špecifickým spôsobom mení estetické a tradičné modely. Vo fókuse je spoj tradície a duchovna\, výstava Trón predstavuje originálny a autentický balkánsky ľudový odev. \nÚspešná výstava „Trón“ mala svetovú premiéru v Paríži\, ďalej bola nainštalovaná v Slovinsku\, Maďarsku\, Českej republike\, Srbskej republike a niekoľkokrát v hlavnom meste Srbska v Belehrade. \n 
URL:https://www.uszz.sk/event/vystava-pavla-suroveho/
LOCATION:Slovenské národné múzeum v Martine\, Slovakia (Slovak Republic)
ATTACH;FMTTYPE=image/jpeg:https://www.uszz.sk/wp-content/uploads/2025/03/pozvanka-tron-pavla-suroveho-snm-martin_50.jpg
END:VEVENT
BEGIN:VEVENT
DTSTART;TZID=Europe/Bratislava:20250522T190000
DTEND;TZID=Europe/Bratislava:20250525T233000
DTSTAMP:20260425T021552
CREATED:20250515T091940Z
LAST-MODIFIED:20250515T091940Z
UID:17802-1747940400-1748215800@www.uszz.sk
SUMMARY:Dni Petrovca 2025
DESCRIPTION:PROGRAM:\nŠtvrtok 22. mája\nSlávnostná sieň Gymnázia Jána Kollára\n19.00 – Koncert Komorného zboru Musica viva a hostí \nPiatok 23. mája\n11.00 – Súťaže penzistov v šachu\, šípkach a biliarde\, Združenie penzistov Petrovec\n17.30 – Otvorenie výstavy obrazov Petrovské pohľady 17\, Združenie petrovských výtvarných umelcov \n18.30 – Otvorenie výstavy poštových známok Umenie vo filatelii\, Spolok filatelistov Petrovec\, Knižnica Štefana Homolu\n19.30 – Slávnostná akadémia Rady Miestneho spoločenstva Petrovec K 280. výročiu Petrovca – Nadstavba pilierov našich predkov\, veľká sála SVD\n21.00 – 24.00 – Disko zábava v Loveckom dome v Lesíku \nSobota 24. mája\nNámestie slobody a Ulica maršala Tita\n10.00 – 13.00 – Predajná výstava tort a predaj svadobnej kapusty\, Spolok petrovských žien\n11.00 – 18.00 – Stánkový predaj a prezentácia činnosti spolkov a združení\, Ulica maršala Tita \n11.00 – 18.00 – Predajná výstava kvetín\, sadeníc a kríkov\, Park Mateja Čániho\n12.30 – 16.00 – Kultúrno-umelecký program Na petrovskom jarmoku \nVystúpia: PU Včielka\,\nSpevácka skupina Perličky YMCA\,\nFS Nezábudky\, ZŠ Jána Čajaka\,\nKUS Petrovská družina\,\nSpevácka skupina Petrovčanky Spolku petrovských žien\,\nYmcári svojmu prostrediu\nHudobno-spevácka skupina YMCA musica\n19.00 – 20.00 – Vystupujú Andrea Stanivuková a Boris Gabríni\n20.00 – 22.00 – Koncert hudobnej skupiny Zana\nPark Zuzky Medveďovej – Rádio klub Petrovec YU7AJM\n10.00 – 16.00 – ukážka vysielacej techniky v parku\nPark Zuzky Medveďovej\n13.00 – 18.00 Výtvarný tábor Maľujeme v prírode\, v organizácii Združenia petrovských výtvarných umelcov \nNádvorie Miestneho spoločenstva Petrovec\n11.00 – 17.00 – Súťaž o najlepšiu čerstvú klobásu\n– Súťaž o najlepšiu údenú klobásu\n– Súťaž o najlepšiu domácu pálenku\n12.00 – 24.00 – Ľudová veselica\nZdruženie drobnochovateľov (Chmeľová 20)\n8.00 – 18.00 – Predajná výstava a burza drobných zvierat\n13.00 – 15.00 – Predaj králičieho paprikáša\nGymnázium Jána Kollára so žiackym domovom\n11.00 – 19.00 – Deň otvorených dverí\nŠportovo-rekreačné stredisko Vrbara\n09.00 – 12.00 – Triagonal vo futbale (ročník 2014/2015)\n17.00 – 19.00 – Futbalový zápas veteránov: FK Mladosť Petrovec – FK Tatra Kysáč \nNedeľa 25. mája\nKanál DTD pri rybárskej chate\n8.00 – Súťaž žiakov ZŠ Jána Čajaka v love rýb udicou na plavák\n10.00 – Predaj rybacích špecialít\nLovecký dom v Lesíku\n9.00 – Súťaž v streľbe do hlinených terčov\n11.00 – 13.00 – Predaj paprikáša z diviny\nEvanjelický chrám Boží\n9.30 – Služby Božie\nTelocvičňa ZŠ Jána Čajaka\n9.00 – STK Mladosť: turnaj v stolnom tenise\, Memoriál Jaroslava Báďonského\nŠportová hala ZŠ Jána Čajaka\n14.00 – 17.00 – VK Mladosť: turnaj vo volejbale pre deti mladšej kategórie\nŠportovo-rekreačné stredisko Vrbara\n17.30 – 19.30 – Futbalový zápas: FK Mladosť Petrovec – FK Mladost Apatin\nBudova ZŠ Jána Čajaka\n18.00 – 20.00 – ŠK Mladosť: otvorený šachový turnaj Obce Báčsky Petrovec \nV prípade nepriaznivého počasia v sobotu 24. mája 2025 program z Námestia slobody bude realizovaný\nvo veľkej sále SVD. \nPočas osláv Dňa Petrovca môžete navštíviť:\n– Galériu Zuzky Medveďovej – samostatnú výstavu akademickej maliarky Jasny Opavskej\n– Komplex tradičnej architektúry\n– Výstavu Poznávacie znaky našej tradície a histórie\, Spolok petrovských žien
URL:https://www.uszz.sk/event/dni-petrovca-2025/
LOCATION:Báčsky Petrovec\, Serbia
ATTACH;FMTTYPE=image/jpeg:https://www.uszz.sk/wp-content/uploads/2025/05/18721-1.jpg
END:VEVENT
BEGIN:VEVENT
DTSTART;VALUE=DATE:20250524
DTEND;VALUE=DATE:20250526
DTSTAMP:20260425T021552
CREATED:20250515T103353Z
LAST-MODIFIED:20250515T103353Z
UID:17805-1748044800-1748217599@www.uszz.sk
SUMMARY:Czech and Slovak Festival 2025 New York City
DESCRIPTION:
URL:https://www.uszz.sk/event/czech-and-slovak-festival-2025-new-york-city/
LOCATION:New York\, United States
ATTACH;FMTTYPE=image/jpeg:https://www.uszz.sk/wp-content/uploads/2025/05/18724-1.jpg
END:VEVENT
END:VCALENDAR