BEGIN:VCALENDAR
VERSION:2.0
PRODID:-//USZZ - ECPv6.7.0//NONSGML v1.0//EN
CALSCALE:GREGORIAN
METHOD:PUBLISH
X-WR-CALNAME:USZZ
X-ORIGINAL-URL:https://www.uszz.sk
X-WR-CALDESC:Udalosti pre USZZ
REFRESH-INTERVAL;VALUE=DURATION:PT1H
X-Robots-Tag:noindex
X-PUBLISHED-TTL:PT1H
BEGIN:VTIMEZONE
TZID:Europe/Bratislava
BEGIN:DAYLIGHT
TZOFFSETFROM:+0100
TZOFFSETTO:+0200
TZNAME:CEST
DTSTART:20250330T010000
END:DAYLIGHT
BEGIN:STANDARD
TZOFFSETFROM:+0200
TZOFFSETTO:+0100
TZNAME:CET
DTSTART:20251026T010000
END:STANDARD
END:VTIMEZONE
BEGIN:VEVENT
DTSTART;VALUE=DATE:20250606
DTEND;VALUE=DATE:20250707
DTSTAMP:20260425T003051
CREATED:20250606T062623Z
LAST-MODIFIED:20250616T063305Z
UID:18095-1749168000-1751846399@www.uszz.sk
SUMMARY:Výstava kovačického umenia
DESCRIPTION:Záštitu nad výstavou prevzali veľvyslanec Slovenskej republiky v Českej republike Martin Muránsky\, senátor Zdeněk Hraba a predsedníčka Úradu pre Slovákov žijúcich v zahraničí Dagmar Repčeková. \nVýstavu organizujú Veľvyslanectvo Srbskej republiky v Českej republike\, European Institute of Business and Public Education a Galéria naivného umenia.
URL:https://www.uszz.sk/event/vystava-kovacickeho-umenia/
LOCATION:Praha\, Czech Republic
ATTACH;FMTTYPE=image/jpeg:https://www.uszz.sk/wp-content/uploads/2025/06/505962550_1033329425655057_3256748176979521013_n.jpg
END:VEVENT
BEGIN:VEVENT
DTSTART;TZID=Europe/Bratislava:20250614T130000
DTEND;TZID=Europe/Bratislava:20250614T220000
DTSTAMP:20260425T003051
CREATED:20250604T103748Z
LAST-MODIFIED:20250604T103815Z
UID:17981-1749906000-1749938400@www.uszz.sk
SUMMARY:53. Folklórny festival Tancuj\, tancuj...
DESCRIPTION:NRSNM\, ÚKVS\, Obec Báčsky Petrovec\, Miestne spoločenstvo Hložany a KOS Jednota z Hložian Vás srdečne pozývajú na 53. ročník nášho najmasovejšieho celomenšinového podujatia – Folklórneho festivalu Tancuj\, tancuj… \nProgram festivalu:\n13.00 Koncert speváckych skupín a ľudových orchestrov (Dom kultúry)\n16.00 Slávnostné defilé účastníkov festivalu (stredom osady smerom k amfiteátru)\n17.00 Otvárací ceremoniál (amfiteáter)\n17.30 I. koncert tanečných skupín\n20.00 II. koncert tanečných skupín\n21.30 Revuálna časť a vyhlásenie výsledkov festivalu
URL:https://www.uszz.sk/event/folklorny-festival-tancuj-tancuj/
LOCATION:Hložany\, Serbia
ATTACH;FMTTYPE=image/jpeg:https://www.uszz.sk/wp-content/uploads/2025/06/502617864_122174521550302866_7226222734175155061_n.jpg
END:VEVENT
END:VCALENDAR