BEGIN:VCALENDAR
VERSION:2.0
PRODID:-//USZZ - ECPv6.7.0//NONSGML v1.0//EN
CALSCALE:GREGORIAN
METHOD:PUBLISH
X-ORIGINAL-URL:https://www.uszz.sk
X-WR-CALDESC:Udalosti pre USZZ
REFRESH-INTERVAL;VALUE=DURATION:PT1H
X-Robots-Tag:noindex
X-PUBLISHED-TTL:PT1H
BEGIN:VTIMEZONE
TZID:Europe/Bratislava
BEGIN:DAYLIGHT
TZOFFSETFROM:+0100
TZOFFSETTO:+0200
TZNAME:CEST
DTSTART:20250330T010000
END:DAYLIGHT
BEGIN:STANDARD
TZOFFSETFROM:+0200
TZOFFSETTO:+0100
TZNAME:CET
DTSTART:20251026T010000
END:STANDARD
END:VTIMEZONE
BEGIN:VEVENT
DTSTART;VALUE=DATE:20250606
DTEND;VALUE=DATE:20250707
DTSTAMP:20260425T003125
CREATED:20250606T062623Z
LAST-MODIFIED:20250616T063305Z
UID:18095-1749168000-1751846399@www.uszz.sk
SUMMARY:Výstava kovačického umenia
DESCRIPTION:Záštitu nad výstavou prevzali veľvyslanec Slovenskej republiky v Českej republike Martin Muránsky\, senátor Zdeněk Hraba a predsedníčka Úradu pre Slovákov žijúcich v zahraničí Dagmar Repčeková. \nVýstavu organizujú Veľvyslanectvo Srbskej republiky v Českej republike\, European Institute of Business and Public Education a Galéria naivného umenia.
URL:https://www.uszz.sk/event/vystava-kovacickeho-umenia/
LOCATION:Praha\, Czech Republic
ATTACH;FMTTYPE=image/jpeg:https://www.uszz.sk/wp-content/uploads/2025/06/505962550_1033329425655057_3256748176979521013_n.jpg
END:VEVENT
BEGIN:VEVENT
DTSTART;VALUE=DATE:20250703
DTEND;VALUE=DATE:20250902
DTSTAMP:20260425T003125
CREATED:20250703T152457Z
LAST-MODIFIED:20250703T152457Z
UID:18328-1751500800-1756771199@www.uszz.sk
SUMMARY:Výstava Trón Pavla Surového
DESCRIPTION:Najoceňovanejší fotografický projekt slovenského umelca žijúceho v Srbsku\, Trón Pavla Surového\, ktorý zároveň otváral aj prestižnu titulu Európske mesto kultúry – Nový Sad 2022\, prichádza na Slovensko do Bratislavy.
URL:https://www.uszz.sk/event/vystava-tron-pavla-suroveho/
LOCATION:Bratislavský hrad\, Bratislava\, Slovakia (Slovak Republic)
ATTACH;FMTTYPE=image/png:https://www.uszz.sk/wp-content/uploads/2025/07/IMG_1867.png
END:VEVENT
BEGIN:VEVENT
DTSTART;TZID=Europe/Bratislava:20250705T100000
DTEND;TZID=Europe/Bratislava:20250705T110000
DTSTAMP:20260425T003125
CREATED:20250627T072032Z
LAST-MODIFIED:20250627T072227Z
UID:18282-1751709600-1751713200@www.uszz.sk
SUMMARY:Pamätný Deň Slovákov žijúcich v zahraničí v Bratislave
DESCRIPTION:Úrad pre Slovákov žijúcich v zahraničí pozýva verejnosť na tradičné oslavy pamätného Dňa Slovákov žijúcich v zahraničí\, ktoré sa aj tento rok uskutočnia v bratislavskom Sade Janka Kráľa v sobotu 5. júla 2025. Okrem štátnych predstaviteľov a predstaviteľov úradu sa ceremónie slávnostného kladenia kvetov zúčastnia aj zahraniční Slováci z celého sveta. V kultúrnom programe sa predstavia kanadský folklórny súbor Vychodna Slovak Dancers\, sólistky Anita a Renáta Rybárové zo Srbska a Jozef Ivaška st. a Jozef Ivaška ml. z Rakúska. \nSlávnostná ceremónia kladenia kvetov k základnému kameňu Pamätníka slovenského vysťahovalectva sa uskutoční\n5. júla 2025 o 10:00 v centre Sadu Janka Kráľa v bratislavskej mestskej časti Petržalka. \nPresná poloha: https://goo.gl/maps/hGQkutqapN5gRWWS8 \nTento pamätný deň symbolicky pripadá na deň štátneho sviatku sv. Cyrila a Metoda – 5. júla. Oslavujeme ho už od vzniku Slovenskej republiky v roku 1993. V roku 2000 bol 5. júla v centre Sadu Janka Kráľa v bratislavskej Petržalke osadený 4\,5-tonový monument z červeného mramoru z Tardošského lomu\, ktorý darovali krajania z Maďarska. Odvtedy sa tento základný kameň budúceho pamätníka slovenského vysťahovalectva a zahraničných Slovákov stal miestom pripomenutia si krajanov žijúcich za hranicami Slovenska.
URL:https://www.uszz.sk/event/pamatny-den-slovakov-zijucich-v-zahranici-v-bratislave/
LOCATION:Sad Janka Kráľa\, Bratislava\, Slovenská republika
ATTACH;FMTTYPE=image/jpeg:https://www.uszz.sk/wp-content/uploads/2025/06/Copy-of-Pozvanka_Pamatny-den-Instagram-Post-45.jpg
END:VEVENT
BEGIN:VEVENT
DTSTART;TZID=Europe/Bratislava:20250705T130000
DTEND;TZID=Europe/Bratislava:20250705T235900
DTSTAMP:20260425T003125
CREATED:20250627T071037Z
LAST-MODIFIED:20250627T072412Z
UID:18274-1751720400-1751759940@www.uszz.sk
SUMMARY:Deň kultúrneho dedičstva Slovákov v Maďarsku 2025
DESCRIPTION:Ústav kultúry Slovákov v Maďarsku\,Celoštátna slovenská samospráva v Maďarskua parlamentný hovorca Slovákov v Maďarsku \nVás srdečne pozývajúna oslavy \nDŇA KULTÚRNEHO DEDIČSTVA SLOVÁKOV V MAĎARSKU\,ktoré usporiadame5. júla 2025 (v sobotu) v Novej Hute. \nProgram: \n13.00 Otvorenie výstavyMiestohistorické fotografie (Spoločenský dom)Predstaví sa sklárske múzeum a okolitá obec (Školská športová hala) \n14.00 Slovenské inšpirácie z Novej Huty – prezentácia knihy Výskumného ústavu Slovákov v Maďarsku (Spoločenský dom) \n14.30 Otvorenie slovenského jarmoku a detského dvora (parkovisko pri prírodnom javisku) \n15.00 Požehnanie (Prírodné javisko)Slávnostné pozdravy (Prírodné javisko) \n15.20 Program žiakov slovenskej školy v Novom Meste pod Šiatrom (Prírodné javisko) \n15.45 Galaprogram regionálnych stredísk Ústavu kultúry Slovákov v Maďarsku (Prírodné javisko) \nSprievodné podujatia:Národopisná zbierka v prírode • Predstaví sa inštitúcie Celoštátnej slovenskej samosprávy v Maďarsku • Slovenský jarmok – regionálne strediská ÚKSM • detské divadelné predstavenie • remeselnícke dielne • spoločenské hry • kvízové hry • „Gastronómia pre mňa je…“ – výstava • Filmové premietanie • CSSM 3:0 • Futbalový pohár
URL:https://www.uszz.sk/event/den-kulturneho-dedicstva-slovakov-v-madarsku-2025/
LOCATION:Nová Huta\, Hungary
ATTACH;FMTTYPE=image/jpeg:https://www.uszz.sk/wp-content/uploads/2025/06/504266613_1067299712228443_8632388907661417207_n.jpg
END:VEVENT
BEGIN:VEVENT
DTSTART;TZID=Europe/Bratislava:20250705T170000
DTEND;TZID=Europe/Bratislava:20250705T233000
DTSTAMP:20260425T003125
CREATED:20250616T070658Z
LAST-MODIFIED:20250616T070824Z
UID:18109-1751734800-1751758200@www.uszz.sk
SUMMARY:Deň Slovákov žijúcich v zahraničí 2025 Melbourne
DESCRIPTION:Združenie austrálskych Slovákov vo Viktórii srdečne pozýva všetkých na oslavu Deň zahraničných Slovákov. V programe vystúpi folklórny súbor Liptár\, deti Slovenskej detskej besedy a iné. \nEmail: sylviathompsonova@gmail.comIvan: 0402 292 078Tatiana: 0456 452 312
URL:https://www.uszz.sk/event/den-slovakov-zijucich-v-zahranici-2025-melbourne/
LOCATION:Melbourne\, Australia
ATTACH;FMTTYPE=image/jpeg:https://www.uszz.sk/wp-content/uploads/2025/06/18933-1.jpg
END:VEVENT
END:VCALENDAR