BEGIN:VCALENDAR
VERSION:2.0
PRODID:-//USZZ - ECPv6.7.0//NONSGML v1.0//EN
CALSCALE:GREGORIAN
METHOD:PUBLISH
X-WR-CALNAME:USZZ
X-ORIGINAL-URL:https://www.uszz.sk
X-WR-CALDESC:Udalosti pre USZZ
REFRESH-INTERVAL;VALUE=DURATION:PT1H
X-Robots-Tag:noindex
X-PUBLISHED-TTL:PT1H
BEGIN:VTIMEZONE
TZID:Europe/Bratislava
BEGIN:DAYLIGHT
TZOFFSETFROM:+0100
TZOFFSETTO:+0200
TZNAME:CEST
DTSTART:20250330T010000
END:DAYLIGHT
BEGIN:STANDARD
TZOFFSETFROM:+0200
TZOFFSETTO:+0100
TZNAME:CET
DTSTART:20251026T010000
END:STANDARD
END:VTIMEZONE
BEGIN:VEVENT
DTSTART;VALUE=DATE:20250703
DTEND;VALUE=DATE:20250902
DTSTAMP:20260424T224942
CREATED:20250703T152457Z
LAST-MODIFIED:20250703T152457Z
UID:18328-1751500800-1756771199@www.uszz.sk
SUMMARY:Výstava Trón Pavla Surového
DESCRIPTION:Najoceňovanejší fotografický projekt slovenského umelca žijúceho v Srbsku\, Trón Pavla Surového\, ktorý zároveň otváral aj prestižnu titulu Európske mesto kultúry – Nový Sad 2022\, prichádza na Slovensko do Bratislavy.
URL:https://www.uszz.sk/event/vystava-tron-pavla-suroveho/
LOCATION:Bratislavský hrad\, Bratislava\, Slovakia (Slovak Republic)
ATTACH;FMTTYPE=image/png:https://www.uszz.sk/wp-content/uploads/2025/07/IMG_1867.png
END:VEVENT
BEGIN:VEVENT
DTSTART;VALUE=DATE:20250711
DTEND;VALUE=DATE:20250714
DTSTAMP:20260424T224942
CREATED:20250616T072957Z
LAST-MODIFIED:20250616T131034Z
UID:18123-1752192000-1752451199@www.uszz.sk
SUMMARY:Krajanský dvor 2025
DESCRIPTION:Vstúpte do areálu Krajanského dvora počas 58. FS  pod Poľanou a naplno si vychutnajte ponuku\, ktorú pre vás pripravil Úrad pre Slovákov žijúcich v zahraničí. Jedinečné jedlá\, ale aj spevy a iné prejavy tradičnej kultúry vám predstavia Slováci z Chorvátska\, Maďarska\, Poľska\, Rumunska a Srbska. Želáme vám príjemne strávené chvíle medzi zahraničnými Slovákmi a želáme si\, aby stretnutia v Detve boli obohacujúce pre všetkých\, tak pre účastníkov\, ako aj pre návštevníkov\, a aby aj naďalej posilňovali slovenské cítenie a utvrdzovali identitu našich krajanov. \n \n 
URL:https://www.uszz.sk/event/krajansky-dvor-2025/
LOCATION:Detva\, Slovakia (Slovak Republic)
ATTACH;FMTTYPE=image/jpeg:https://www.uszz.sk/wp-content/uploads/2025/06/500105793_122184802724321130_5176663943565933372_n.jpg
END:VEVENT
BEGIN:VEVENT
DTSTART;VALUE=DATE:20250711
DTEND;VALUE=DATE:20250714
DTSTAMP:20260424T224942
CREATED:20250701T104526Z
LAST-MODIFIED:20250701T104526Z
UID:18316-1752192000-1752451199@www.uszz.sk
SUMMARY:Dokumentárna výstava 50 rokov s krajanmi na Detve
DESCRIPTION:KDE?: GALÉRIA NA STROMORADÍ\, areál amfiteátra FSP v DetveKEDY?: Piatok 11. júla 2025 – nedeľa 13. júla 2025 \nDokumentárna panelová výstava nainštalovaná v areáli detvianskeho amfiteátra slovom a obrazom mapuje 50 ročníkov programu Krajanská nedeľa a 10 ročníkov podujatia Krajanský dvor.Návštevníci festivalu sa tak majú možnosť oboznámiť s tým\, kto a za akých podmienok zakladal tieto významné podujatia pre Slovákov žijúcich v zahraničí\, aké mali ciele\, kto ich realizoval\, autorsky zastrešoval a kto sa na nich zúčastňoval. Ide o najväčšie pravidelné stretnutie krajanov na Slovensku\, ktoré na jednej strane poskytuje priestor pre rozvoj a smerovanie slovenského folklorizmu v zahraničí\, na druhej strane prispieva k zachovaniu identity Slovákov počnúc Dolnou zemou cez početné európske krajiny až po zámorie.Autorky: Katarína Mosnáková Bagľašová a Katarína KoňarikováProdukcia: Cultura Inferior TerraDizajn: Rudolf SzabóZdroje fotografií: Krajanské múzeum Matice slovenskej\, Podpolianske múzeum v Detve\, Úrad pre Slovákov žijúcich v zahraničí a súkromné archívy krajanov.
URL:https://www.uszz.sk/event/dokumentarna-vystava-50-rokov-s-krajanmi-na-detve/
LOCATION:Amfiteáter Detva\, Detva\, Slovenská republika
ATTACH;FMTTYPE=image/jpeg:https://www.uszz.sk/wp-content/uploads/2025/07/514708573_122191186952321130_5820132478927073510_n.jpg
END:VEVENT
BEGIN:VEVENT
DTSTART;TZID=Europe/Bratislava:20250712T120000
DTEND;TZID=Europe/Bratislava:20250712T130000
DTSTAMP:20260424T224942
CREATED:20250522T171711Z
LAST-MODIFIED:20250522T171711Z
UID:17870-1752321600-1752325200@www.uszz.sk
SUMMARY:Škola dolnozemských tancov
DESCRIPTION:
URL:https://www.uszz.sk/event/skola-dolnozemskych-tancov/
LOCATION:Jarmočná scéna\, Detva\, Slovakia (Slovak Republic)
ATTACH;FMTTYPE=image/jpeg:https://www.uszz.sk/wp-content/uploads/2025/05/497792170_122182250198321130_6040894082899288883_n-1.jpg
END:VEVENT
BEGIN:VEVENT
DTSTART;TZID=Europe/Bratislava:20250712T130000
DTEND;TZID=Europe/Bratislava:20250712T170000
DTSTAMP:20260424T224942
CREATED:20250523T073742Z
LAST-MODIFIED:20250523T073948Z
UID:17876-1752325200-1752339600@www.uszz.sk
SUMMARY:Detská diskotéka Manchester
DESCRIPTION:Vstupné: £5 na osobu (v cene je vstup\, káva/čaj alebo nealko nápoj a 1 tombolový lístok!) a ak prinesieš kamoša\, máš jeden lístok zdarma\nTáto udalosť NIE JE určená len pre našich žiakov a ich rodiny – srdečne pozývame každéhoČi už nás poznáte\, počuli ste o nás\, alebo ste na nás práve natrafili – pridajte sa!Pozývame všetkých členov našej širšej komunity\, priateľov\, známych\, aj rodiny z iných kultúr\, ktorí chcú spoznať slovenskú atmosféru\, hudbu a komunitu.\nČo vás čaká:– Skvelá príležitosť stretnúť nových ľudí\, nadviazať priateľstvá a stráviť krásne popoludnie s deťmi\nPríďte osláviť koniec školského roka vo veľkom štýle – so srdcom\, komunitou a radosťou!
URL:https://www.uszz.sk/event/detska-diskoteka-manchester/
LOCATION:St. Hughes Parish Hall\, 314 Manchester Rd\, West Timperley\, Timperley\, Altrincham WA14 5NB\, United Kingdom
ATTACH;FMTTYPE=image/jpeg:https://www.uszz.sk/wp-content/uploads/2025/05/497707926_122195176724248952_403316847996342631_n.jpg
END:VEVENT
BEGIN:VEVENT
DTSTART;TZID=Europe/Bratislava:20250712T140000
DTEND;TZID=Europe/Bratislava:20250712T150000
DTSTAMP:20260424T224942
CREATED:20250616T071706Z
LAST-MODIFIED:20250616T071706Z
UID:18119-1752328800-1752332400@www.uszz.sk
SUMMARY:Krajania na scéne za potokom
DESCRIPTION:Aj v tomto roku sa návštevníci FSP v Detve budú môcť tešiť na vystúpenia ľudových hudieb\, speváckych skupín a sólistov Slovákov žijúcich v zahraničí. Na scéne Za potokom im organizátori pod vedením Jaroslava Černáka a Ladislava Drugdu venovali jednu hodinu hudobno-speváckeho programu. Zaznejú tu piesne viacerých slovenských regiónov\, ale aj originálne melódie autochtónnych komunít z Dolnej zeme.\n\n\n\nÚčinkujú: ŽSS FS Nadeje z Paríža (Francúzsko)\, sólista Dávid Kelemen a ľudová hudba z Ečera (Maďarsko)\, MSS\, ŽSS\, sólistka Anna Holoková a ľudová hudba SKOS Detvan z Vojlovice (Srbsko)\, sólista Marek Gabriš a MSS z Toronta (Kanada)\, sólistka Adriana Fúriková (Rumunsko)\, ŽSS a ľudová hudba VSLPT Poľana z Brna (Česká republika)\, Ľudová hudba Pazovskí kacúri zo Starej Pazovy (Srbsko).
URL:https://www.uszz.sk/event/krajania-na-scene-za-potokom/
LOCATION:Detva\, Slovakia (Slovak Republic)
ATTACH;FMTTYPE=image/jpeg:https://www.uszz.sk/wp-content/uploads/2025/06/502570044_122186053508321130_9134336108546841284_n.jpg
END:VEVENT
END:VCALENDAR