BEGIN:VCALENDAR
VERSION:2.0
PRODID:-//USZZ - ECPv6.7.0//NONSGML v1.0//EN
CALSCALE:GREGORIAN
METHOD:PUBLISH
X-ORIGINAL-URL:https://www.uszz.sk
X-WR-CALDESC:Udalosti pre USZZ
REFRESH-INTERVAL;VALUE=DURATION:PT1H
X-Robots-Tag:noindex
X-PUBLISHED-TTL:PT1H
BEGIN:VTIMEZONE
TZID:Europe/Bratislava
BEGIN:DAYLIGHT
TZOFFSETFROM:+0100
TZOFFSETTO:+0200
TZNAME:CEST
DTSTART:20250330T010000
END:DAYLIGHT
BEGIN:STANDARD
TZOFFSETFROM:+0200
TZOFFSETTO:+0100
TZNAME:CET
DTSTART:20251026T010000
END:STANDARD
END:VTIMEZONE
BEGIN:VEVENT
DTSTART;VALUE=DATE:20250827
DTEND;VALUE=DATE:20250927
DTSTAMP:20260424T164749
CREATED:20250911T054015Z
LAST-MODIFIED:20250911T054101Z
UID:19075-1756252800-1758931199@www.uszz.sk
SUMMARY:Ahoj festival
DESCRIPTION:S veľkou radosťou Vás pozývame na ďalší ročník kultúrneho festivalu Českého klubu Zürich. Na organizácii sa opäť podieľa aj slovenský kultúrny spolok Slowakischer Kulturverein. Vďaka tomu sa môžete tešiť na umelcov z Česka a Slovenska\, ktorí sa odprezentujú v dňoch  27.8. – 26.9. 2025 na rôznych miestach v kantóne Zürich. \nOrganizujú : Český Klub Zürich a Slovenský kultúrny spolok za podpory mesta Zürich\, velvyslanectva ČR v Berne\, Veľvyslanectvo Slovenska v Berne\, Ministerstva zahraničných vecí ČR\, Úradu pre Slovákov žijúcich v zahraničí\, Českého literárního centra a Moravskej zemskej knižnice. V spolupráci s divadlom Keller 62\, PBZ Bibliothek Schütze\, sphères\, Galériou Go Green Art\, Galériou Krause a GZ Riesbach. \nInformácie o programe na stránke Slovenského kultúrneho spolku: Ahoj Festival 2025 | Slovenska kultúra
URL:https://www.uszz.sk/event/ahoj-festival/
LOCATION:Zürich\, Švajčiarsko
ATTACH;FMTTYPE=image/jpeg:https://www.uszz.sk/wp-content/uploads/2025/09/3rba8kXFBklF9QhSQzvKdInahR4MdY8Swco4cStc_page-0001-scaled.jpg
END:VEVENT
BEGIN:VEVENT
DTSTART;TZID=Europe/Bratislava:20250917T180000
DTEND;TZID=Europe/Bratislava:20250922T190000
DTSTAMP:20260424T164749
CREATED:20250813T125544Z
LAST-MODIFIED:20250813T125544Z
UID:18818-1758132000-1758567600@www.uszz.sk
SUMMARY:Výstava Portréty slovenskej a českej Británie 
DESCRIPTION:Portréty slovenskej a českej Británie je nový multidisciplinárny projekt Slovak Theatre London\, vytvorený v spolupráci s filmovým a portrétnym fotografom Robertom Viglaskym (Peaky Blinders\, Rivals). Inšpiráciou bola kniha Ulice Londýna sú dláždené zlatom od Zuzany Slobodovej. Projekt oslavuje odvahu\, kultúru a tvorivosť Slovákov a Čechov žijúcich vo Veľkej Británii. \nPrvým výstupom projektu je výstava veľkoformátových portrétov jednotlivcov\, rodín a komunitných organizácií naprieč generáciami a profesiami. Portréty vznikli pred ručne maľovaným plátnom od Hapaca Studio a sprevádzajú ich autentické výpovede samotných účastníkov. Výstava skúma témy identity\, komunity a spolupatričnosti. \nPortréty sú rozdelené do troch kapitol: \n\nPionieri – utečenci a emigranti z obdobia vojny a komunizmu\,\nVizionári – profesionáli a lídri\, ktorí formovali Britániu po roku 1989\,\nPotomkovia – mladá generácia hľadajúca rovnováhu medzi pluralitnými identitami.\n\nZaznievajú aj hlasy rómskej\, židovskej a zmiešanej komunity\, ktoré sú často vynechávané z verejného diskurzu. \nSúčasťou výstavy je krátky dokumentárny film o vzniku projektu a interaktívny priestor\, kde návštevníci môžu zanechať svoj vlastný príbeh. Počas trvania výstavy sa uskutočnia aj bezplatné workshopy s účastníkmi projektu. \nProjekt prináša Slovak Theatre London\, nezisková organizácia\, ktorá spája divadlo s komunitným rozprávaním príbehov. Medzi jej predchádzajúce inscenácie patria Migrants’ Rhapsody\, Mum\, What Did You Want? a Extreme: The New Norm\, s ktorými sa predstavila aj na prestížnom festivale Edinburgh Fringe. \nRobert Viglasky je medzinárodne uznávaný slovenský fotograf žijúci v Spojenom kráľovstve\, známy svojím filmovým vizuálnym štýlom a prácou pre BBC\, Netflix či Warner Bros. Pôsobí ako hlavný fotograf seriálu Peaky Blinders a je členom prestížnej spoločnosti Society of Motion Picture Still Photographers (SMPSP). \nRok 2025 symbolicky pripomína 80. výročie Slovenského národného povstania a konca druhej svetovej vojny – kľúčové míľniky v histórii migrácie Slovákov a Čechov do Británie. Dnes tu žije viac ako 200 000 krajanov\, no ich príbehy sú v umeleckom priestore stále nedostatočne zastúpené. Tento projekt ich zachytáva a otvára priestor na medzigeneračný dialóg. \nVernisáž výstavy sa uskutoční v stredu 17. septembra 2025 o 18:00 v Nunnery Gallery\, 181 Bow Road\, Londýn E3 2SJ. Výstava potrvá do 22. septembra a bude otvorená denne od 10:00 do 16:00. Vstup je voľný\, odporúča sa však rezervácia bezplatnej vstupenky:\nhttp://bit.ly/44JP6G5 \nMáte otázky\, záujem o spoluprácu alebo chcete pomôcť ako dobrovoľník? Napíšte nám na: slovaktheatreinlondon@gmail.com
URL:https://www.uszz.sk/event/vystava-portrety-slovenskej-a-ceskej-britanie/
LOCATION:Nunnery Gallery\, 181 Bow Road\, Londýn\, E3 2SJ\, United Kingdom
ATTACH;FMTTYPE=image/jpeg:https://www.uszz.sk/wp-content/uploads/2025/08/Invitation-Exhibition-Portraits-of-SC-Britain-by-STL-scaled.jpg
END:VEVENT
BEGIN:VEVENT
DTSTART;VALUE=DATE:20250919
DTEND;VALUE=DATE:20250920
DTSTAMP:20260424T164749
CREATED:20250911T115010Z
LAST-MODIFIED:20250911T115010Z
UID:19101-1758240000-1758326399@www.uszz.sk
SUMMARY:Fórum Spojení hranicami
DESCRIPTION:Vo Viedni žije dnes oficiálne uznaná historicky autochtónna slovenská národnostná skupina. Ale v súčasnosti sa aj v rakúskom pohraničí bežne na ulici ozýva slovenčina. Rozprávajme sa preto o tom\, kto sme\, ako žijeme\, čo nám chýba a čo naopak je naším prínosom pre rakúsku a slovenskú spoločnosť. Spojení hranicami nie je len výzva spoločného života s pôvodným obyvateľstvom – je to aj o nás – Slovákoch\, o našej identite. Nehľadajme\, čo nás rozdeľuje\, ale to\, čo nás spája. Našou víziou je\, aby sa Slovenky a Slováci žijúci v rakúskom pohraničí stali prirodzenou súčasťou miestneho života –  či už ako dobrí susedia\, aktívni občania alebo spoľahliví partneri v každodenných záležitostiach. A zároveň cítili\, že Slovensko na nich tiež nezabúda. \nTermín: v piatok 19.9.2025 o 9:00                   Miesto: Zámok Kittsee \nProgram \nÚvod – Moderuje: Elena Seeber\, Rádio Slovensko \n09.00 Otvorenie – starosta Kittsee Johannes Hornek (tbc)\, veľvyslanec SR v Rakúsku Jozef Polakovič \n09.15 Úvodné prezentácie \n\nKto sú Slovenky a Slováci v Rakúsku? – Rakúsko-slovenský kultúrny spolok (RSKS) v spolupráci s Rastislavom Pavlíkom (Hainburg INstitut)\nPrístup vlády SR ku podpore krajanov v AT vrátane novej diaspóry – Úrad pre Slovákov žijúcich v zahraničí predsedníčka ÚSŽZ Dagmar Repčeková\nDiaspóra a domáci talent – Dominika Vargová\, talentová expertka\, odbor talentových politík\, Výskumná a inovačná autorita (VAIA)\nDiskusia\n\n10.45 Blok 2: Moderovaná diskusia na tému regionálny rozvoj a príležitosti pre slovensko-rakúske vzťahy. \nModeruje: Andrea Kasanická-Kostolná\, regionálna koordinátorka mesta Viedeň pre program INTERREG AT-CZ a AT-HU\, bývalá spolupracovníčka Spoločného sekretariátu programu INTERREG SK-AT\, pobočka Viedeň \nÚčastníci: \n\nChristian Berger\, Regionálny manažment Dolného Rakúska NÖ.Regional\, iniciatíva baum_cityregion\nKatarína Schlosser\, zástupkyňa správcu Fondu malých projektov Regionálny manažment Dolného Rakúska NÖ.Regional\nAndrej Batyás\, vedúci Spoločného technického sekretariátu INTERREG AT-SK\n\nVýmena účastníkov diskusie \nTerajší a bývalí komunálni poslanci SK národnosti: Rastislav Pavlík (Hainburg a.d. Donau)\, Eva Dohálová (Hohenau a.d. March)\, Inna Mlada (Schwechat)\, Adriana Orsághová (Kittsee) \n12.15 Blok 3: Moderovaná diskusia: Dvojjazyčnosť – podmienka udržateľného prístupu na prospech Slovenska aj Rakúska \nModeruje: Andrea Kasanická-Kostolná \nÚčastníci: \n\nKatarína Baranyaiová\, vedúca oddelenia koordinácie štátnej politiky a externej komunikácie\, ÚSŽZ (úloha úradu v podpore vzdelávania slovenských detí v zahraničí)\nVlado Mlynár\, predseda Školský spolok SOVA a zástupca starostu Školského spolku Komenský (vzdelávanie v slovenčine – príklad víkendovej školy a bilingválneho vzdelávania od materskej školy po maturitu)\nKarel Hanzl\, starosta Školského spolku Komenský (Komenského škola – skúsenosti a odporúčania pre bilingválnu školu)\nMartina Emrich\, Školská správa (Bildungsdirektion) Dolné Rakúsko (podpora slovenčiny v materských školách a v povinnom školstve – Projekt eTom (Education for Tomorrow SK-AT)\n\n13.45 Get-together – networkingová časť \n14.30 Poďakovanie a stručná prezentácia záverov fóra \n(Link) elektronické prihlásenie na fórum \n\n\nOrganizátori: Rakúsko-slovenský kultúrny spolok\, Veľvyslanectvo SR v Rakúsku\, Úrad pre Slovákov žijúcich v zahraničí s ďalšími partnermi
URL:https://www.uszz.sk/event/forum-spojeni-hranicami/
LOCATION:Kittsee\, Austria
ATTACH;FMTTYPE=image/png:https://www.uszz.sk/wp-content/uploads/2025/09/SpojeniHranicami.png
END:VEVENT
END:VCALENDAR