BEGIN:VCALENDAR
VERSION:2.0
PRODID:-//USZZ - ECPv6.7.0//NONSGML v1.0//EN
CALSCALE:GREGORIAN
METHOD:PUBLISH
X-ORIGINAL-URL:https://www.uszz.sk
X-WR-CALDESC:Udalosti pre USZZ
REFRESH-INTERVAL;VALUE=DURATION:PT1H
X-Robots-Tag:noindex
X-PUBLISHED-TTL:PT1H
BEGIN:VTIMEZONE
TZID:Europe/Bratislava
BEGIN:DAYLIGHT
TZOFFSETFROM:+0100
TZOFFSETTO:+0200
TZNAME:CEST
DTSTART:20250330T010000
END:DAYLIGHT
BEGIN:STANDARD
TZOFFSETFROM:+0200
TZOFFSETTO:+0100
TZNAME:CET
DTSTART:20251026T010000
END:STANDARD
END:VTIMEZONE
BEGIN:VEVENT
DTSTART;VALUE=DATE:20251004
DTEND;VALUE=DATE:20251013
DTSTAMP:20260424T151219
CREATED:20250919T115738Z
LAST-MODIFIED:20250919T115738Z
UID:19210-1759536000-1760313599@www.uszz.sk
SUMMARY:Detská maliarska paleta 2
DESCRIPTION:
URL:https://www.uszz.sk/event/detska-maliarska-paleta-2/
LOCATION:Báčsky Petrovec\, Serbia
ATTACH;FMTTYPE=image/jpeg:https://www.uszz.sk/wp-content/uploads/2025/09/1000023483-scaled.jpg
END:VEVENT
BEGIN:VEVENT
DTSTART;VALUE=DATE:20251010
DTEND;VALUE=DATE:20251013
DTSTAMP:20260424T151219
CREATED:20250912T064302Z
LAST-MODIFIED:20250912T064343Z
UID:19137-1760054400-1760313599@www.uszz.sk
SUMMARY:15. ročník Stretnutia slovenských dolnozemských učiteľov
DESCRIPTION:Národnostná rada slovenskej národnostnej menšiny v Srbsku a Asociácia slovenských pedagógov organizuje 15. ročník Stretnutia slovenských dolnozemských učiteľov za finančnej podpory Úradu pre Slovákov žijúcich v zahraničí. Na stretnutí sa pravidelne zúčastňujú 10 predstavitelia slovenských učiteľov z Maďarska\, Rumunska a zo Srbska\, vrátane aj ocenených učiteľov. V tomto roku bude stretnutie rozšírené aj o účasť 3 pedagógov z Chorvátska\, Ukrajiny a Poľska. \nStretnutie sa uskutoční od 10. – 12. októbra 2025 v Kovačici. Účastníkom bude zabezpečené ubytovanie a strava v Kovačici. V rámci podujatia sa bude analyzovať odborná téma Význam národnostných škôl v živote slovenskej komunity v zahraničí. \nDňa\, 10. októbra bude po štrnástykrát udelená aj Cena Samuela Tešedíka popredným slovenským učiteľom v zahraničí. \nPotvrdenie účasti do 20. 09. 2025 na mail: svetlana.zolnjan@rada.org.rs.
URL:https://www.uszz.sk/event/15-rocnik-stretnutia-slovenskych-dolnozemskych-ucitelov/
LOCATION:Kovačica\, Srbsko
ATTACH;FMTTYPE=image/jpeg:https://www.uszz.sk/wp-content/uploads/2025/09/NRSNM-fb.jpg
END:VEVENT
BEGIN:VEVENT
DTSTART;VALUE=DATE:20251011
DTEND;VALUE=DATE:20251012
DTSTAMP:20260424T151219
CREATED:20251010T085731Z
LAST-MODIFIED:20251010T085731Z
UID:19477-1760140800-1760227199@www.uszz.sk
SUMMARY:Jesenný folklórny workshop
DESCRIPTION:
URL:https://www.uszz.sk/event/jesenny-folklorny-workshop/
LOCATION:Paríž\, France
ATTACH;FMTTYPE=image/jpeg:https://www.uszz.sk/wp-content/uploads/2025/10/560404593_1821023035843225_8678638666509808764_n.jpg
END:VEVENT
BEGIN:VEVENT
DTSTART;TZID=Europe/Bratislava:20251011T133000
DTEND;TZID=Europe/Bratislava:20251011T173000
DTSTAMP:20260424T151220
CREATED:20250907T074636Z
LAST-MODIFIED:20250907T074852Z
UID:18993-1760189400-1760203800@www.uszz.sk
SUMMARY:Folklórne dielne pre deti vo Veľkej Británii
DESCRIPTION:Prihlásenie: vcielkamima@gmail.com \nWhatsap: 07752295692
URL:https://www.uszz.sk/event/folklorne-dielne-pre-deti-vo-velkej-britanii/
LOCATION:Včielka Mima cic\, Trinity Church\, 15 Nether Street\, Londýn\, United Kingdom
ATTACH;FMTTYPE=image/jpeg:https://www.uszz.sk/wp-content/uploads/2025/09/541794361_24371649039170429_7998661928341459608_n.jpg
END:VEVENT
BEGIN:VEVENT
DTSTART;TZID=Europe/Bratislava:20251011T170000
DTEND;TZID=Europe/Bratislava:20251011T233000
DTSTAMP:20260424T151220
CREATED:20251010T113110Z
LAST-MODIFIED:20251010T113110Z
UID:19483-1760202000-1760225400@www.uszz.sk
SUMMARY:Galaprogram pri príležitosti 100. výročia narodenia Štefana Lamiho
DESCRIPTION:
URL:https://www.uszz.sk/event/galaprogram-pri-prilezitosti-100-vyrocia-narodenia-stefana-lamiho/
LOCATION:Pišpek\, Hungary
ATTACH;FMTTYPE=image/jpeg:https://www.uszz.sk/wp-content/uploads/2025/10/557808072_1220442673460561_6869535927390714316_n.jpg
END:VEVENT
END:VCALENDAR