BEGIN:VCALENDAR
VERSION:2.0
PRODID:-//USZZ - ECPv6.7.0//NONSGML v1.0//EN
CALSCALE:GREGORIAN
METHOD:PUBLISH
X-WR-CALNAME:USZZ
X-ORIGINAL-URL:https://www.uszz.sk
X-WR-CALDESC:Udalosti pre USZZ
REFRESH-INTERVAL;VALUE=DURATION:PT1H
X-Robots-Tag:noindex
X-PUBLISHED-TTL:PT1H
BEGIN:VTIMEZONE
TZID:Europe/Bratislava
BEGIN:DAYLIGHT
TZOFFSETFROM:+0100
TZOFFSETTO:+0200
TZNAME:CEST
DTSTART:20250330T010000
END:DAYLIGHT
BEGIN:STANDARD
TZOFFSETFROM:+0200
TZOFFSETTO:+0100
TZNAME:CET
DTSTART:20251026T010000
END:STANDARD
END:VTIMEZONE
BEGIN:VEVENT
DTSTART;VALUE=DATE:20251013
DTEND;VALUE=DATE:20251018
DTSTAMP:20260424T151129
CREATED:20250912T082834Z
LAST-MODIFIED:20251014T081949Z
UID:19152-1760313600-1760745599@www.uszz.sk
SUMMARY:Festival českej a slovenskej tvorby pre deti a mládež v Prahe
DESCRIPTION:Festival českej a slovenskej tvorby pre deti a mládež v Prahe 13. – 17. 10. 2025 \nZáštitu nad festivalom prevzali prezident SR Petr Pavel a veľvyslanec SR v ČR Martin Muránsky. \nFestival predstaví divadelnú\, knižnú a výtvarnú tvorbu pre deti zo Slovenska a Českej republiky. Dramaturgická koncepcia 11. ročníka vychádza z histórie spoločného štátu a života v dvoch samostatných republikách\, ale aj z absurdnosti vojnových konfliktov a boja proti rasovému násiliu. Poukáže na nutnosť uchovania prírodných zdrojov i silu priateľstva.   Festival organizuje BONA FIDE z.s.  a bude prebiehať v Divadle Kolowrat\, v Divadle v Řeznickej\, v detskom oddelení Ústrednej mestskej knižnici v Prahe\, v Dome národnostných menšín\, v Slovenskom inštitúte v Prahe\, v kostole sv. Michala v Jirchářích\, v Kine Atlas a v ZŠ aj MŠ v Prahe.  Festival finančne podporili:    Magistrát hl. m. Prahy\,  Ministerstvo kultúry ČR  za českú stranu a Úrad pre Slovákov žijúcich v zahraničí a Fond na podporu umenia  za Slovensko. \n  \n\n 10. 2025 9:00 h. MŠ Veverka\, Seifertova 14\, Praha 3 \n\nŠKRIATOK V PYŽAMKU A INÉ ROZPRÁVKY \nŠKŘÍTEK V PYŽÁMKU A JINÉ POHÁDKY \nRozprávanie o detských trampotách pomocou veselých príbehov.  Prezentácia knihy je spojená s workshopom a rozprávkou.  Účinkujú: Zuzana Kubašáková a Renáta Kubišová \nVstup volný \n  \n\n 10. 2025 09:00 h. Dům národnostních menšin\, Vocelova 3\, Praha 2\n\nZ ROZPRÁVKY DO POHÁDKY \nDvojjazyčné česko – slovenské bábkové predstavenie pre najmenšie deti. Herci zavedú deti do rozprávkovej – pohádkovej krajiny\, kde sa stretnú s princeznou\, kráľom\, zvieratkami i lúpežníkmi a pritom spoznajú\, že čeština a slovenčina sú si veľmi blízke jazyky. \nÚčinkujú: Viera Kučerová a Martin Matejka                                                                                                               \nVstup voľný \n  \n\n 10. 2025 10:00 h. Dům národnostních menšin\, Vocelova 3\, Praha 2 \n\nČARO ILUSTRÁCÍÍ –  ČARO ILUSTRACÍ   \n\nŠvolíková\, A. Režná\, S. Kovářová – vernisáž výstavy ilustrácií\n\nVstup voľný. \n  \n\n 10. 2025 10:30 h. Dům národnostních menšin\, Vocelova 3\, Praha 2 \n\nSLOVENSKÉ A ČESKÉ SYMBOLY \nVýtvarný workshop a interaktívna tvorivá dielňa ilustrátorky S. Kovářovej. \nVstup voľný \n  \n\n 10. 2025 10:00 h. Divadlo Kolovrat \, Ovocný trh 579/6\, Praha 1\n\nČIPKOVANÝ TATO  – KRAJKOVANÝ TAŤKA  \nInteraktívna rozprávka s pesničkami na motívy knihy Igora Adamca: Čipkovaný tato. Deti ešte nespia a čakajú na rozprávku.  Otecko im začne rozprávať čo zažil v práci. Lenže oteckovia majú všelijakú prácu a tak vzniknú rozprávky lekárske\, úradnícke\, vodičské a dokonca aj školské. To všetko uvidíte v našom predstavení. \nKostýmy: Júlia Haruštiaková \nScéna\, bábky: Katarína a Richard Mažáry \nHudba René Krupanský \nÚčinkuje: Ján Haruštiak\, Divadlo pod balkónom \nVstup voľný  \n  \n  13. 10. 2025  19:00 h.   Kostel sv. Michala v Jirchářích\, V Jirchářích 152/14\, Praha 1   ZLATÝ KOLOVRAT \nČeská premiéra a slávnostné zahájenie festivalu. \nVýpravné česko – slovenské predstavenie sa zaoberá témou spravodlivosti\, obete a zázraku. Príbeh ponúka hlboké morálne posolstvo\, ktoré je nadčasové a univerzálne. Pôvodný text K. J. Erbena je v predstavení kombinovaný s brilantným prekladom Ľubomíra Feldeka.  Účinkujú: Patrícia Pivolusková a Juraj Benčík  Réžia: Martin Vanek Hudba: M. Korduliak  Benefičné predstavenie s poďakovaním českej bábkoherečke Pavle Říhovej.                                                          \nVstupné dobrovoľné \n 14. 10. 2025  10:00 h. Slovenský inštitút Praha\, Hybernská 1\, Praha 1    \nČÍTANIE JE ČTENÍ \nLiterárny program o knihách\, čitateľstve a česko-slovenskom prepojení\, v ktorom osobnosti českej a slovenskej kultúry čítajú deťom zo svojich obľúbených kníh. \nÚčinkujú: Zuzana Kubašáková\, Petra Nagyová Džerengová\, Ivana Chýlková\, Martin Vaněk\, Richard Trsťan\, Ján Haruštiak. Moderuje: Viera Kučerová \nVstup voľný \n  \n\n 10. 2025 10:00 h. Městská knihovna\, Mariánské nám. 1\, Praha 1\n\nHAVO SLAVO – PEJSEK SLÁVEK \nInteraktívny príbeh s pesničkami o malom psíkovi Slavkovi\, ktorý sa rozhodne vydať do sveta a dokázať všetkým\, že je už veľký. Na svojej ceste zažije „veľké“ dobrodružstvo\, aby nakoniec pochopil\, že aj malí dokážu urobiť veľké veci a že doma je mu najlepšie. \nÚčinkuje: Patrícia Pivolusková \nRéžia: Ján Haruštiak\, Divadlo pod balkónom \nVstup voľný \n  \n\n 10. 2025 09 :00 h. VOŠH\, Hadovitá 1023/7\, 141 00 Praha 4\n\nUMENIE BUDÚCNOSTI –  WORKSHOP     \nPohľad do sveta nového cirkusu\, ktorý odvážnych naučí niečo z cirkusového umenia. \nInteraktívny workshop a prednáška Juraja Benčíka\, klauna Cirque du Soleil. \nÚčinkuje: Juraj Benčík \nVstup voľný \n  \n\n 10. 2025 10:00 h. Slovenský inštitút Praha\, Hybernská 1\, Praha 1 \n\nPSÍČEK A MAČIČKA – PEJSEK A KOČIČKA \nBábkové interaktívne predstavenie s pesničkami\, v ktorom deti pomáhajú psíčkovi a mačičke ako pomôcť slabšiemu\, ako sa správne zachovať a čo treba urobiť\, keď nájdeme opustené zvieratko. \nDivadlo Harry Teater \nVstup voľný \n  \n\n 10. 2025 10:00 h. Městská knihovna\, Mariánské nám. 1\, Praha 1\n\nORIGINÁL A PREKLAD – ORIGINÁL A PŘEKLAD \nPrezentácia kníh Zuzany Csontosovej a Petry Nagyovej Džerengovej v origináli a v českom preklade\, spojená s besedou a autorským čítaním. \nÚčinkujú: Petra Nagyová Džerengová\, Zuzana Csontosová \nVstup voľný \n  \n\n 10. 2025 10:00 h. Kino ATLAS \, Ke Štvanici 371\,  Praha 8\n\nTICHÁ POŠTA \nČesko – slovensko-srbský dobrodružný rodinný film natočený podľa novely Jiřího Stránského\, inšpirovaný skutočnými udalosťami z konca II. svetovej vojny. Skupinka detí zachraňuje zostreleného francúzskeho pilota\, ktorého našla v lese. Ich akcia pripomína princíp známej hry na tichú poštu – zraneného pilota si deti medzi sebou odovzdávajú z jednej horskej dediny do druhej\, podobne ako utajenú správu v škole. Hrajú ale riskantnú hru\, pretože proti nim stoja smrteľne nebezpeční vojaci okupačnej armády\, musia prekabátiť zradcov a udavačov a v neposlednom rade prežiť v krutých podmienkach zimy na horách. \nPo projekcii filmu nasleduje beseda s režisérom J. Sebechlebským a scenáristkou K. Formanovou. \nVstup voľný                                                                  \n  \n  \n\n 10. 2025 – 14:00 h Slovenský inštitút Praha\, Hybernská 1\, Praha 1 \n\nDUCH\, KTORÝ NEMOHOL SPAŤ – DUCH\, KTERÝ NEMOHL USNOUT \nKniha o priateľstve dievčatka s osamelým Duchom v dvojjazyčnej slovensko – ukrajinskej a česko – ukrajinskej podobe. Natalka Maletyč: Pryvyd\, aký nie mih zasnuty.                                                                                            Prezentácia knihy pre deti v rámci projektu Tales of Ukraine.                                                                                                 Úvodné slovo: PhDr. Juraj Lajda                                                                                                                                           Účinkujú: Oksana Wildová\, Richard Trsťan a Viera Kučerová                                                                                                    Vstup  voľný \n\n 10. 2025 09:00 h. ZŠ V Zahrádkách 1966\, Praha 3\n\nSOĽ NAD ZLATO \nDramatizácia klasickej rozprávky s bábkami a pesničkami.  Predstavenie nadväzuje na staré komediantske postupy\, kde uvidíte žonglovanie\, chodenie po lane aj bábkové divadlo. Ako to už býva\,  aj tu všetko skončí šťastne\, tak ako v každej správnej rozprávke. \,\,A preto počujte\, počujte a počúvajte príbeh o tom\, ako zvíťazila soľ nad zlatom!“ \nÚčinkujú: Ján Haruštiak a Patricia Pivolusková\, Divadlo pod balkónom. \nVstup voľný \n  \n16.10.2025  10:00 h. Městská knihovna\, Mariánské nám. 1\, Praha 1\nTIK – TOK – TAK \nSlovenský spisovateľ Daniel Hevier vo svojom programe odhaľuje tajomstvo slov\, prezrádza\, prečo by sme boli bez čítania odsúdení na neúspech. Program sprevádza výstava z jeho tvorby\, vizuálne prezentácie i rapovanie.  Účinkuje: Daniel Hevier \nVstup voľný \n  \n\n 10. 2025 18:00 h. Slovenský inštitút Praha\, Hybernská 1\, Praha 1 \n\nDANIEL HEVIER TOUR 70 \nS blížiacimi sa sedemdesiatinami\, v multižánrovom programe\, slovenský spisovateľ svojim fanúšikom v Prahe odhalí tajomstvo slov\, zaspieva\, zarepuje\, odpovie na otázky a podpíše svoje nové aj staré knihy. \nVstup voľný  \n  \n\n 10. 2025 11:00 h. Divadlo v Řeznické\, Řeznická 662\, Nové Město\n\nMAMA MILOVALA GABČÍKA  \nBeseda so spisovateľkou Veronikou Homolovou Tóthovou o jej knihe „Mama milovala Gabčíka“. Román hovorí o vzťahu Jozefa Gabčíka a Anny Malinovej a vzdáva hold všetkým\, ktorí boli zapojení do atentátu na ríšskeho kancelára. \nÚčinkuje: Veronika Homolová Tóthová \nVstup voľný  \n  \n  \n\n 10. 2025 10:00 h. Slovenský institut Praha\, Hybernská 1\, Praha 1 \nKREATIVITA\n\nDaniel Hevier je obľúbený slovenský autor pre mladých ľudí\, je známy ako textár Paľa Haberu a skupiny TEAM\, ale aj ako sledovaný tik toker na všetkých sociálnych sieťach. Vo svojom programe nielen rozpráva o dôležitosti kreativity\, sile slov\, ale dokonca aj rapuje. \nVstup voľný \n  \n\n 10. 2024 10:00 h. Městská knihovna\, Mariánské nám. 1\, Praha 1\n\nZLATO Z METRA   \nKniha Evy Papouškovej „Zlato z metra“ rozpráva príbeh detí ukrytých v metre bombardovaného Londýna\, ktorý sa zázračne prepája s podzemím súčasného Charkova – mesta dnes poznačeného ruskou agresiou. Tento príbeh ukazuje\, aké nespravodlivé je\, že deti\, nevinné duše\, často musia čeliť hrôzam\, ktoré by nemali nikdy zažiť. \nPrezentácia spojená s besedou a dramatizovaným čítaním. \nÚčinkujú: Eva Papoušková\, Richard Trsťan a Viera Kučerová \nVstup voľný \n  \n\n 10. 2024 15:00 h. Klub Svišťov\, Gánek – klubovna na vršku\, Praha\, Praha\n\nÚTEK – ÚTĚK \nDivadelné čítanie z knihy Marka Vadasa odkrýva tému straty domova a utečencov. Je správou o fantastickej ceste malého chlapca a jeho psa Alana naprieč mestami\, krajinami a kontinentmi. \nScénické stvárnenie knihy je spojené s diskusiou po predstavení. \nRežia\, úprava\, scéna\, bábky : Lukáš Tandara\, Divadlo Trieska \nVstup voľný  \n  \n          \n 
URL:https://www.uszz.sk/event/festival-ceskej-a-slovenskej-tvorby-pre-deti-a-mladez-v-prahe/
LOCATION:Praha\, Czech Republic
ATTACH;FMTTYPE=image/jpeg:https://www.uszz.sk/wp-content/uploads/2025/09/Plagat_FESTIVAL-web.jpg
END:VEVENT
END:VCALENDAR