BEGIN:VCALENDAR
VERSION:2.0
PRODID:-//USZZ - ECPv6.7.0//NONSGML v1.0//EN
CALSCALE:GREGORIAN
METHOD:PUBLISH
X-ORIGINAL-URL:https://www.uszz.sk
X-WR-CALDESC:Udalosti pre USZZ
REFRESH-INTERVAL;VALUE=DURATION:PT1H
X-Robots-Tag:noindex
X-PUBLISHED-TTL:PT1H
BEGIN:VTIMEZONE
TZID:Europe/Bratislava
BEGIN:DAYLIGHT
TZOFFSETFROM:+0100
TZOFFSETTO:+0200
TZNAME:CEST
DTSTART:20250330T010000
END:DAYLIGHT
BEGIN:STANDARD
TZOFFSETFROM:+0200
TZOFFSETTO:+0100
TZNAME:CET
DTSTART:20251026T010000
END:STANDARD
END:VTIMEZONE
BEGIN:VEVENT
DTSTART;VALUE=DATE:20251021
DTEND;VALUE=DATE:20251022
DTSTAMP:20260424T163237
CREATED:20251017T071345Z
LAST-MODIFIED:20251111T074220Z
UID:19561-1761004800-1761091199@www.uszz.sk
SUMMARY:TAJOMSTVO ZOBORSKÉHO KLÁŠTORA PRÍBEH SVÄTÉHO GORAZDA V ILUSTRÁCIÁCH MARTINA OSCITÉHO
DESCRIPTION:Univerzitná knižnica KU v Ružomberku\, CYRILOMETODIADA\, o. z.\, Nadácia PRO PATRIA a autor Martin Oscitý vás v rámci Jubilejného roka 2025 pozývajú na slávnostnú vernisáž výstavy TAJOMSTVO ZOBORSKÉHO KLÁŠTORA – Príbeh svätého Gorazda v ilustráciách\, ktorá sa uskutoční dňa 21. októbra 2025 o 14.00 hod. na červenom podlaží Univerzitnej knižnice Katolíckej univerzity na Hrabovskej ceste 1 A v Ružomberku. \nMartin Oscitý vytvoril ilustrácie do knihy Tajomstvo Zoborského kláštora\, ktorej autorom je otec biskup František Rábek. Vo svojom diele čitateľom predstavuje historické osobnosti našich slovenských dejín – vladárov Svätopluka\, Rastislava a Koceľa\, ako i našich svätcov Cyrila\, Metoda a Gorazda. Vďaka ilustráciám môže človek oveľa intenzívnejšie vnímať hlbokú duchovnú postať nášho národa a čerpať z nej. \nMartin Juraj Oscitý\, narodený v roku 1952 v Bratislave\, dnes žije v Mníchove. Od útleho veku sa venuje kresbe a maľbe\, v čom ho podporovali nielen rodičia\, ale od 9. roku jeho života aj odborníci ako Jurík\, Polakovič a Goga. Neskôr študoval na umeleckej priemyslovke v Brne a po odchode do exilu v roku 1968 do Švajčiarska aj tam pokračoval na umeleckej priemyslovke v hlavnom meste Berne a špecializoval sa na užitú grafiku a ilustrácie. Jeho hlavnými učiteľmi boli Flückiger\, Auchli a Andermatt. V roku 1976 odchádza do Nemecka na Akadémiu výtvarných umení v Mníchove. Volí si maľbu u profesora Jürgena Reipku. Po ukončení štúdia sa zaoberá v rovnakej miere grafikou vo viacerých firmách\, ako je Product Creation\, agentúra Kreis\, a popri tom sa neustále venuje voľnej tvorbe. Získava viacero cien\, a preto od roku 1998 tvorí hlavne ako slobodný umelec. V roku 2000 zakladá VISIONART\, čo dnes sleduje veľa umelcov po celom svete. Martin Oscitý zdôrazňuje\, že základom tejto myšlienky je láska k duchovným hodnotám a spiritualite\, k estetike krásy a ku kvantovej kozmológii\, ktorou je všetko medzi sebou prepojené. Podobné snahy má aj francúzska skupina Libellule\, ktorej členom sa stáva od roku 2006. Je aj členom nemeckých umelcov BBK\, skupiny Crossart\, MKG – Münchner Künstlergenossenschaft\, KSP alebo DUK na Slovensku. Zúčastnil sa na viac ako 250 výstavách po celom svete. V roku 2020 získal cenu Fra Angelica za celoživotné dielo a angažovanie sa za kresťanské hodnoty v umení a v roku 2023 medailu a diplom nadácie PRO PATRIA za reprezentáciu a šírenie dobrého mena Slovenska doma i v zahraničí. \nDaniela Suchá
URL:https://www.uszz.sk/event/tajomstvo-zoborskeho-klastora-pribeh-svateho-gorazda-v-ilustraciach-martina-osciteho/
LOCATION:Ružomberok\, Slovakia (Slovak Republic)
ATTACH;FMTTYPE=image/jpeg:https://www.uszz.sk/wp-content/uploads/2025/10/Ruzomberok-21_10_25.jpg
END:VEVENT
END:VCALENDAR