BEGIN:VCALENDAR
VERSION:2.0
PRODID:-//USZZ - ECPv6.7.0//NONSGML v1.0//EN
CALSCALE:GREGORIAN
METHOD:PUBLISH
X-ORIGINAL-URL:https://www.uszz.sk
X-WR-CALDESC:Udalosti pre USZZ
REFRESH-INTERVAL;VALUE=DURATION:PT1H
X-Robots-Tag:noindex
X-PUBLISHED-TTL:PT1H
BEGIN:VTIMEZONE
TZID:Europe/Bratislava
BEGIN:DAYLIGHT
TZOFFSETFROM:+0100
TZOFFSETTO:+0200
TZNAME:CEST
DTSTART:20250330T010000
END:DAYLIGHT
BEGIN:STANDARD
TZOFFSETFROM:+0200
TZOFFSETTO:+0100
TZNAME:CET
DTSTART:20251026T010000
END:STANDARD
END:VTIMEZONE
BEGIN:VEVENT
DTSTART;VALUE=DATE:20251023
DTEND;VALUE=DATE:20251024
DTSTAMP:20260424T151221
CREATED:20251003T072630Z
LAST-MODIFIED:20251003T072630Z
UID:19408-1761177600-1761263999@www.uszz.sk
SUMMARY:Slovak Global Network Summit 2025 – Vízia Slovenska 20XX
DESCRIPTION:Už 23. októbra 2025 sa v Jurkovičovej teplárni v Bratislave uskutoční štvrtý ročník Slovak Global Network Summit. Pod titulom Vízia Slovenska 20XX sa stretnú lídri z oblasti politiky\, biznisu\, vedy\, kultúry i športu\, aby spoločne diskutovali o tom\, ako má vyzerať budúcnosť našej krajiny. \nSummit každoročne prináša priestor na výmenu skúseností a prepájanie osobností doma aj v zahraničí. Kľúčovými témami sú talent a identita – ako vyhľadávať\, rozvíjať a udržať talenty na Slovensku a ako posilňovať sebavedomie a hrdosť národa. Diskusie sa dotknú aj budúcnosti hospodárstva\, vzdelávania\, zdravotníctva\, regiónov\, médií či úlohy slovenskej diaspóry. \nÚrad pre Slovákov žijúcich v zahraničí bude na podujatí zastupovať jeho predsedníčka Dagmar Repčeková\, ktorá vystúpi v diskusii o význame a prínose našich krajanov pre Slovensko. \nSummit ponúkne množstvo inšpiratívnych príbehov Slovákov pôsobiacich vo svete a diskusie s odborníkmi o tom\, ako môže Slovensko prejsť z „montovne na mozgovňu“. Súčasťou programu budú aj témy tradičnej kultúry\, športu a médií ako dôležitých pilierov identity úspešného národa. \nRegistrácia je stále otvorená: https://slovakglobal.sk/summit-2025/#registracia-oktober \nKedy: 23. október 2025\nKde: Jurkovičova tepláreň\, Bratislava \n  \n 
URL:https://www.uszz.sk/event/slovak-global-network-summit-2025-vizia-slovenska-20xx/
LOCATION:Jurkovičova tepláreň\, Bratislava\, Slovakia (Slovak Republic)
ATTACH;FMTTYPE=image/png:https://www.uszz.sk/wp-content/uploads/2025/10/Untitled-design-29.png
END:VEVENT
END:VCALENDAR