BEGIN:VCALENDAR
VERSION:2.0
PRODID:-//USZZ - ECPv6.7.0//NONSGML v1.0//EN
CALSCALE:GREGORIAN
METHOD:PUBLISH
X-ORIGINAL-URL:https://www.uszz.sk
X-WR-CALDESC:Udalosti pre USZZ
REFRESH-INTERVAL;VALUE=DURATION:PT1H
X-Robots-Tag:noindex
X-PUBLISHED-TTL:PT1H
BEGIN:VTIMEZONE
TZID:Europe/Bratislava
BEGIN:DAYLIGHT
TZOFFSETFROM:+0100
TZOFFSETTO:+0200
TZNAME:CEST
DTSTART:20250330T010000
END:DAYLIGHT
BEGIN:STANDARD
TZOFFSETFROM:+0200
TZOFFSETTO:+0100
TZNAME:CET
DTSTART:20251026T010000
END:STANDARD
END:VTIMEZONE
BEGIN:VEVENT
DTSTART;VALUE=DATE:20251024
DTEND;VALUE=DATE:20251027
DTSTAMP:20260424T151221
CREATED:20250618T080951Z
LAST-MODIFIED:20250618T080951Z
UID:18169-1761264000-1761523199@www.uszz.sk
SUMMARY:Po slovensky ľahko a hravo II.
DESCRIPTION:Pozývame vás na metodické školenie „Po slovensky ľahko a hravo II.“\, ktoré sa uskutoční 24. – 26. októbra 2025 na Cypre. Podujatie organizuje Pedagogická fakulta UMB v Banskej Bystrici v spolupráci s MŠVVaM SR a organizáciou ISEIA. Čaká vás inšpiratívny program\, zaujímavé aktivity a príležitosť stretnúť kolegov zo Slovenska i zo zahraničia.\n\n\n\nRegistrácia je povinná cez stránku MŠVVaM SR: slovak.minedu.sk\n\nDopravu si hradí každý účastník individuálne\nUbytovanie a stravovanie budú čiastočne hradené\n\n\n\nHostiteľom podujatia je online slovenská škola FLAMINGOS.\n\nV prípade otázok kontaktujte:\nMgr. Zuzana Kováčová Švecová\, PhD.\nzuzana.kovacova@umb.sk
URL:https://www.uszz.sk/event/po-slovensky-lahko-a-hravo-ii/
LOCATION:Cyprus
ATTACH;FMTTYPE=image/jpeg:https://www.uszz.sk/wp-content/uploads/2025/06/506837065_1256801583119388_5713597648306496311_n.jpg
END:VEVENT
END:VCALENDAR