BEGIN:VCALENDAR
VERSION:2.0
PRODID:-//USZZ - ECPv6.7.0//NONSGML v1.0//EN
CALSCALE:GREGORIAN
METHOD:PUBLISH
X-WR-CALNAME:USZZ
X-ORIGINAL-URL:https://www.uszz.sk
X-WR-CALDESC:Udalosti pre USZZ
REFRESH-INTERVAL;VALUE=DURATION:PT1H
X-Robots-Tag:noindex
X-PUBLISHED-TTL:PT1H
BEGIN:VTIMEZONE
TZID:Europe/Bratislava
BEGIN:DAYLIGHT
TZOFFSETFROM:+0100
TZOFFSETTO:+0200
TZNAME:CEST
DTSTART:20250330T010000
END:DAYLIGHT
BEGIN:STANDARD
TZOFFSETFROM:+0200
TZOFFSETTO:+0100
TZNAME:CET
DTSTART:20251026T010000
END:STANDARD
END:VTIMEZONE
BEGIN:VEVENT
DTSTART;VALUE=DATE:20251031
DTEND;VALUE=DATE:20251103
DTSTAMP:20260424T133638
CREATED:20250919T120340Z
LAST-MODIFIED:20250919T120340Z
UID:19214-1761868800-1762127999@www.uszz.sk
SUMMARY:II. prezenčné školenie a konferencia slovenských komunitných víkendových škôl a vzdelávacích centier v USA
DESCRIPTION:II. prezenčné školenie a konferencia slovenských komunitných víkendových škôl a vzdelávacích centier v USA \nCathedral of Learning\, 4200 Fifth Ave\, Pittsburgh\, PA 15260 \n31. 10. – 2. 11. 2025\n31. 10. 2025 (piatok)\npopoludnie – príchod a ubytovanie \n1.-11. 2025 (sobota)\n08:30 – 09:00 – registrácia\n09:00 – 12:00 – oficiálne otvorenie metodického školenia\, privítanie účastníkov\, krátke\npredstavenie vzdelávacích centier (30 minút)\, prvý blok školenia (2\,5 h)\n12:00 – 13:00 – obed v priestoroch univerzity\n13:00 – 15:30 – metodické školenie\, druhý blok (2\,5 h)\n15:30 – 16:00 – kávová prestávka\n16:00 – 17:00 – metodické školenie\, tretí blok – diskusia (1 h)\, odchod autobusom na večeru v hoteli\n19:00 – prehliadka centra mesta \n02. 11. 2025 (nedeľa)\n09:00 – 10:00 – prezentácia jednotlivých centier a škôl\, ukončenie školenia za prítomnosti\nzástupcov Veľvyslanectva Slovenskej republiky vo Washingtone\, Slovenského generálneho\nkonzulátu v New Yorku\, Úradu pre Slovákov žijúcich v zahraničí a Studia Academica Slovaca –\ncentra pre slovenčinu ako cudzí jazyk\n10:00 – 12:00 – slávnostná recepcia pri príležitosti 35. výročia slovakistických štúdií na Pittsburskej\nuniverzite\n12:00 – 16:00 – Slovak Heritage Festival\, obed (individuálne počas festivalu)\, odchod účastníkov
URL:https://www.uszz.sk/event/ii-prezencne-skolenie-a-konferencia-slovenskych-komunitnych-vikendovych-skol-a-vzdelavacich-centier-v-usa/
LOCATION:Pittsburgh\, United States
ATTACH;FMTTYPE=image/png:https://www.uszz.sk/wp-content/uploads/2025/09/Snimka-obrazovky-2025-09-19-140100.png
END:VEVENT
END:VCALENDAR