BEGIN:VCALENDAR
VERSION:2.0
PRODID:-//USZZ - ECPv6.7.0//NONSGML v1.0//EN
CALSCALE:GREGORIAN
METHOD:PUBLISH
X-ORIGINAL-URL:https://www.uszz.sk
X-WR-CALDESC:Udalosti pre USZZ
REFRESH-INTERVAL;VALUE=DURATION:PT1H
X-Robots-Tag:noindex
X-PUBLISHED-TTL:PT1H
BEGIN:VTIMEZONE
TZID:Europe/Bratislava
BEGIN:DAYLIGHT
TZOFFSETFROM:+0100
TZOFFSETTO:+0200
TZNAME:CEST
DTSTART:20250330T010000
END:DAYLIGHT
BEGIN:STANDARD
TZOFFSETFROM:+0200
TZOFFSETTO:+0100
TZNAME:CET
DTSTART:20251026T010000
END:STANDARD
TZID:UTC
BEGIN:STANDARD
TZOFFSETFROM:+0000
TZOFFSETTO:+0000
TZNAME:UTC
DTSTART:20250101T000000
END:STANDARD
TZID:America/Los_Angeles
BEGIN:DAYLIGHT
TZOFFSETFROM:-0800
TZOFFSETTO:-0700
TZNAME:PDT
DTSTART:20250309T100000
END:DAYLIGHT
BEGIN:STANDARD
TZOFFSETFROM:-0700
TZOFFSETTO:-0800
TZNAME:PST
DTSTART:20251102T090000
END:STANDARD
END:VTIMEZONE
BEGIN:VEVENT
DTSTART;VALUE=DATE:20251115
DTEND;VALUE=DATE:20251116
DTSTAMP:20260424T133735
CREATED:20251113T140954Z
LAST-MODIFIED:20251113T141004Z
UID:19961-1763164800-1763251199@www.uszz.sk
SUMMARY:51. rozhlasová súťaž mladých recitátorov
DESCRIPTION:
URL:https://www.uszz.sk/event/51-rozhlasova-sutaz-mladych-recitatorov/
LOCATION:Nový Sad\, Serbia
ATTACH;FMTTYPE=image/jpeg:https://www.uszz.sk/wp-content/uploads/2025/11/buYWTEhnnU7gYXtal0KkHSHSfdUEMHOgREhv7g8l-scaled.jpg
END:VEVENT
BEGIN:VEVENT
DTSTART;TZID=UTC:20251115T110000
DTEND;TZID=UTC:20251115T170000
DTSTAMP:20260424T133735
CREATED:20251105T134518Z
LAST-MODIFIED:20251105T134536Z
UID:19851-1763204400-1763226000@www.uszz.sk
SUMMARY:Svätomartinské slávnosti
DESCRIPTION:Šumava Peksa Park\, 46 Locks Way\, Melbourne\, VIC\, Austrália\, Victoria \n \n 
URL:https://www.uszz.sk/event/svatomartinske-slavnosti/
LOCATION:Melbourne\, Australia
ATTACH;FMTTYPE=image/jpeg:https://www.uszz.sk/wp-content/uploads/2025/11/571199487_10163878030862847_4844935767552735546_n.jpg
END:VEVENT
BEGIN:VEVENT
DTSTART;TZID=Europe/Bratislava:20251115T150000
DTEND;TZID=Europe/Bratislava:20251115T170000
DTSTAMP:20260424T133735
CREATED:20251003T084035Z
LAST-MODIFIED:20251003T084035Z
UID:19412-1763218800-1763226000@www.uszz.sk
SUMMARY:5. výročie súboru FS Ostroha
DESCRIPTION:Pozývame na galaprogram KDE BOLO\, TAM BOLO. Účinkujú FS Ostroha a ZUŠ Snina.
URL:https://www.uszz.sk/event/5-vyrocie-suboru-fs-ostroha/
LOCATION:Ratoath\, Ireland
ATTACH;FMTTYPE=image/jpeg:https://www.uszz.sk/wp-content/uploads/2025/10/556087131_10224994859379034_5956699615610395751_n.jpg
END:VEVENT
BEGIN:VEVENT
DTSTART;TZID=America/Los_Angeles:20251115T160000
DTEND;TZID=America/Los_Angeles:20251115T160000
DTSTAMP:20260424T133735
CREATED:20251104T142636Z
LAST-MODIFIED:20251104T142636Z
UID:19819-1763222400-1763222400@www.uszz.sk
SUMMARY:Film Život v Karpatoch\, epizóda Zima
DESCRIPTION:Epizóda Zima zo štvordielnej série Život v Karpatoch/ into the Carpathian Wild bude uvedená  15.11. od 16\,00 h.v   Camino Real Cinemas Goleta\, California v rámci  filmového festivalu Wild & Free\, Goleta\, California \,USA.  Home | Wild and Free FilmHome | Wild and Free Film. Goleta je cca 15 min. severne od Santa Barbara a cca 90 min od Los Angeles. \nFilm Život v Karpatoch\, epizóda Zima získal v 9/25 hlavnú cenu Grand Prix Międzynarodowy Festiwal Filmów Przyrodniczych im. W. Puchalskiego\, Lodz\, Poľsko.
URL:https://www.uszz.sk/event/film-zivot-v-karpatoch-epizoda-zima/
LOCATION:Goleta\, United States
ATTACH;FMTTYPE=image/webp:https://www.uszz.sk/wp-content/uploads/2025/11/zivot-v-karpatoch-cast-zima-hory-vysoke-tatry-stvr.webp
END:VEVENT
BEGIN:VEVENT
DTSTART;TZID=Europe/Bratislava:20251115T160000
DTEND;TZID=Europe/Bratislava:20251115T160000
DTSTAMP:20260424T133735
CREATED:20251107T110324Z
LAST-MODIFIED:20251107T110324Z
UID:19877-1763222400-1763222400@www.uszz.sk
SUMMARY:Slovenské hody vo Francúzsku
DESCRIPTION:
URL:https://www.uszz.sk/event/slovenske-hody-vo-francuzsku/
LOCATION:Rueil-Malmaison\, France
ATTACH;FMTTYPE=image/jpeg:https://www.uszz.sk/wp-content/uploads/2025/11/Affiche-Hody-2025.jpg
END:VEVENT
BEGIN:VEVENT
DTSTART;TZID=Europe/Bratislava:20251115T170000
DTEND;TZID=Europe/Bratislava:20251115T170000
DTSTAMP:20260424T133735
CREATED:20251010T171802Z
LAST-MODIFIED:20251010T171826Z
UID:19520-1763226000-1763226000@www.uszz.sk
SUMMARY:15 rokov FK Fogáš
DESCRIPTION:V roku 2010 vznikol v Ostrave z iniciatívy folklórnych nadšencov Folklórny klub Fogáš s cieľom prezentovať tradičnú slovenskú ľudovú kultúru v Českej republike. Po pätnástich rokoch aktívnej činnosti si toto obľúbené krajanské zoskupenie pripomína svoje jubileum. \nPri príležitosti 15. výročia pripravuje klub výročný koncert s názvom „Pätnásť rôčkov máme“\, ktorý sa uskutoční 15. novembra 2025 o 17.00 h v Dome kultúry Poklad v Ostrave-Porube. Podujatie prinesie pestrý program\, v ktorom sa členovia klubu podelia o radosť z folklóru a predstavia výsledky svojej dlhoročnej tvorivej práce. \nVstupenky je možné rezervovať priamo v DK Poklad. \nPodujatie sa koná s podporou Úradu pre Slovákov žijúcich v zahraničí.
URL:https://www.uszz.sk/event/15-rokov-fk-fogas/
LOCATION:Ostrava\, Czech Republic
ATTACH;FMTTYPE=image/jpeg:https://www.uszz.sk/wp-content/uploads/2025/10/final-plakat-15-2_page-0001.jpg
END:VEVENT
BEGIN:VEVENT
DTSTART;TZID=Europe/Bratislava:20251115T170000
DTEND;TZID=Europe/Bratislava:20251115T190000
DTSTAMP:20260424T133735
CREATED:20251114T181356Z
LAST-MODIFIED:20251114T181356Z
UID:20011-1763226000-1763233200@www.uszz.sk
SUMMARY:Koncert k 100. narodeninám prof. Mikuláša Jelínka
DESCRIPTION:
URL:https://www.uszz.sk/event/koncert-k-100-narodeninam-prof-mikulasa-jelinka/
LOCATION:Mníchov
ATTACH;FMTTYPE=image/jpeg:https://www.uszz.sk/wp-content/uploads/2025/11/IMG_4386.jpeg
END:VEVENT
END:VCALENDAR