BEGIN:VCALENDAR
VERSION:2.0
PRODID:-//USZZ - ECPv6.7.0//NONSGML v1.0//EN
CALSCALE:GREGORIAN
METHOD:PUBLISH
X-ORIGINAL-URL:https://www.uszz.sk
X-WR-CALDESC:Udalosti pre USZZ
REFRESH-INTERVAL;VALUE=DURATION:PT1H
X-Robots-Tag:noindex
X-PUBLISHED-TTL:PT1H
BEGIN:VTIMEZONE
TZID:Europe/Bratislava
BEGIN:DAYLIGHT
TZOFFSETFROM:+0100
TZOFFSETTO:+0200
TZNAME:CEST
DTSTART:20250330T010000
END:DAYLIGHT
BEGIN:STANDARD
TZOFFSETFROM:+0200
TZOFFSETTO:+0100
TZNAME:CET
DTSTART:20251026T010000
END:STANDARD
END:VTIMEZONE
BEGIN:VEVENT
DTSTART;VALUE=DATE:20251119
DTEND;VALUE=DATE:20251120
DTSTAMP:20260424T133736
CREATED:20251118T154745Z
LAST-MODIFIED:20251118T154745Z
UID:20053-1763510400-1763596799@www.uszz.sk
SUMMARY:Výstava odboru Dizajn a tvarovanie dreva Školy umeleckého priemyslu Josefa Vydru
DESCRIPTION:Dizajn štúdio ÚĽUV pravidelne ponúka priestor na prezentáciu stredným školám z rôznych odvetví dizajnu\, ktoré vychádzajú z výskumu remeselnej tradície i klasických technológií\, využívajú prírodné suroviny a tradičné materiály alebo inovatívne postupy. Aktuálna výstava prezentuje výber žiackych prác bratislavskej Školy umeleckého priemyslu Josefa Vydru za ostatných 25 rokov\, odkedy nesie názov Dizajn a tvarovanie dreva. Výber z tohto obdobia zastupuje široké spektrum tém a prístupov: prepájanie techník tradičného remesla a dizajnu\, realizácie drobných úžitkových predmetov a šperkov\, nábytku\, svietidiel a hračiek\, pričom poukazuje na kreativitu a remeselné zručnosti študentov. To všetko zhmotnené v materiáli\, ktorý odkazuje na prírodné bohatstvo Slovenska – jeho materiálnu kultúru\, tradíciu a nadčasovosť\, ale aj potenciál využitia v súčasnom dizajne. \nNázov výstavy: DREVO / TVAR / DIZAJN – výstava odboru Dizajn a tvarovanie dreva Školy umeleckého priemyslu Josefa Vydru\nMiesto: Dizajn štúdio ÚĽUV\, Dobrovičova 13\, Bratislava\nOtvorené: pondelok\, štvrtok\, piatok | 14.00 – 18.00 h\nTrvanie: 19. 11. 2025 – 27. 2. 2026\nKurátori: Mária Hriešik Nepšinská\, Andrej Vágner \nDizajn a tvarovanie dreva na Škole umeleckého priemyslu Josefa Vydru v Bratislave je najdlhšie kontinuálne fungujúci študijný odbor na území Slovenska. Jeho história sa spája s rezbárskou školou\, ktorá od roku 1884 existovala v Banskej Štiavnici. Až neskôr v roku 1951 bolo rezbárske oddelenie pod vedením Antona Drexlera presunuté na Štátnu umeleckopriemyselnú školu v Bratislave. V súčasnosti je zámerom popri rozvíjaní talentov naučiť žiakov komplexne riešiť úlohy z oblasti dizajnu a tvarovania dreva\, dizajnu nábytku\, hračiek\, prípadne sa uplatniť ako samostatne tvoriaci výtvarníci či remeselníci. Najlepší môžu pokračovať v štúdiu na vysokých školách s výtvarným zameraním\, so zameraním na dejiny umenia\, architektúru či pedagogiku. \nDôležitým aspektom fungovania odboru je skladba pedagogického zboru – približne v rovnakom počte vyučujú dizajnéri i sochári. Voľnejšie tematické celky sa striedajú s pragmaticky dizajnérskymi zadaniami. Súčasnú podobu vyučovacieho procesu výraznejšie formovali Ján Šicko\, Marián Mudroch\, Marián Huba\, Martin Hartiník\, Dušan Rychtárik\, Lucia Šúpolová\, Lenka Kováčová-Šeniglová\, Andrej Vágner a Pavol Dubina. \nVýučba sa v prvých dvoch rokoch štúdia sústreďuje na základy výtvarného jazyka. Cieľom je naučiť sa pracovať so základnými vyjadrovacími prostriedkami. V treťom a štvrtom ročníku funkciu profilového predmetu preberá navrhovanie\, kde žiaci získavajú náležité vedomosti a zručnosti v oblasti špeciálnych metód práce dizajnéra. V rámci neho sa oboznámia so všetkými potrebnými pracovnými postupmi\, s druhmi používaného materiálu i so spôsobmi použitia nástrojov\, strojov a pomôcok a tiež sú vedení k samostatným tvorivým aktivitám a originálnym riešeniam zadaných úloh. Najvydarenejšie výtvarné produkty určené pre remeselnú a priemyselnú výrobu sú napokon realizované na umeleckej praxi. Spoločným menovateľom konečných produktov sa stáva organické prepojenie estetiky s funkčným využitím prirodzených vlastností a možností materiálov\, pričom ťažiskovým materiálom je DREVO. \nSúčasťou výučby je takisto spolupráca s firmami\, dôležitá najmä pri výrobe prototypov. Úspechom zas bohatá účasť na súťažiach a výstavách\, napr. Etudy z dreva (Drevárske a lesnícke múzeum vo Zvolene)\, Kruhy na vode (ÚĽUV)\, Junior dizajn fest (ŠUP J. Vydru\, Bratislava)\, Národná cena za študentský dizajn v Českej republike. \nNávštevníci Dizajn štúdia ÚĽUV môžu okrem objektov s úžitkovou funkciou\, interiérových doplnkov\, nábytku\, objektov či šperkov\, obdivovať i voľnú tvorbu inšpirovanú remeslom. \nTešíme sa na vás! \n 
URL:https://www.uszz.sk/event/vystava-odboru-dizajn-a-tvarovanie-dreva-skoly-umeleckeho-priemyslu-josefa-vydru/
ATTACH;FMTTYPE=image/jpeg:https://www.uszz.sk/wp-content/uploads/2025/11/Vystava_DREVO_TVAR_DIZAJN_Dizajn-studio-ULUV_page-0001.jpg
END:VEVENT
END:VCALENDAR