BEGIN:VCALENDAR
VERSION:2.0
PRODID:-//USZZ - ECPv6.7.0//NONSGML v1.0//EN
CALSCALE:GREGORIAN
METHOD:PUBLISH
X-WR-CALNAME:USZZ
X-ORIGINAL-URL:https://www.uszz.sk
X-WR-CALDESC:Udalosti pre USZZ
REFRESH-INTERVAL;VALUE=DURATION:PT1H
X-Robots-Tag:noindex
X-PUBLISHED-TTL:PT1H
BEGIN:VTIMEZONE
TZID:Europe/Bratislava
BEGIN:DAYLIGHT
TZOFFSETFROM:+0100
TZOFFSETTO:+0200
TZNAME:CEST
DTSTART:20250330T010000
END:DAYLIGHT
BEGIN:STANDARD
TZOFFSETFROM:+0200
TZOFFSETTO:+0100
TZNAME:CET
DTSTART:20251026T010000
END:STANDARD
END:VTIMEZONE
BEGIN:VEVENT
DTSTART;TZID=Europe/Bratislava:20251127T180000
DTEND;TZID=Europe/Bratislava:20251127T180000
DTSTAMP:20260424T133635
CREATED:20251126T131647Z
LAST-MODIFIED:20251126T132121Z
UID:20125-1764266400-1764266400@www.uszz.sk
SUMMARY:Online hodinka
DESCRIPTION:Blíži sa nám koniec roka a my tu pre Vás máme opäť sériu online stretnutí s nami a s pozvanými odborníkmi a odborníčkami na témy\, ktoré sa vám pri vyučovaní slovenčiny môžu zísť. Srdečne vás pozývame na prvé zo stretnutí\, ktoré sa uskutoční už tento štvrtok o 18\,00 SEČ cez platformu zoom. Pripojiť sa môžete tu: Zuzana Kováčová Švecová is inviting you to a scheduled Zoom meeting.Topic: HODINKA ONLINETime: Nov 27\, 2025 18:00 Prague BratislavaJoin instructions Zoom pripojenie
URL:https://www.uszz.sk/event/online-hodinka/
ATTACH;FMTTYPE=image/jpeg:https://www.uszz.sk/wp-content/uploads/2025/11/590271253_860764396421926_4741327144804166033_n.jpg
END:VEVENT
END:VCALENDAR