BEGIN:VCALENDAR
VERSION:2.0
PRODID:-//USZZ - ECPv6.7.0//NONSGML v1.0//EN
CALSCALE:GREGORIAN
METHOD:PUBLISH
X-WR-CALNAME:USZZ
X-ORIGINAL-URL:https://www.uszz.sk
X-WR-CALDESC:Udalosti pre USZZ
REFRESH-INTERVAL;VALUE=DURATION:PT1H
X-Robots-Tag:noindex
X-PUBLISHED-TTL:PT1H
BEGIN:VTIMEZONE
TZID:Europe/Bratislava
BEGIN:DAYLIGHT
TZOFFSETFROM:+0100
TZOFFSETTO:+0200
TZNAME:CEST
DTSTART:20250330T010000
END:DAYLIGHT
BEGIN:STANDARD
TZOFFSETFROM:+0200
TZOFFSETTO:+0100
TZNAME:CET
DTSTART:20251026T010000
END:STANDARD
TZID:America/Chicago
BEGIN:DAYLIGHT
TZOFFSETFROM:-0600
TZOFFSETTO:-0500
TZNAME:CDT
DTSTART:20250309T080000
END:DAYLIGHT
BEGIN:STANDARD
TZOFFSETFROM:-0500
TZOFFSETTO:-0600
TZNAME:CST
DTSTART:20251102T070000
END:STANDARD
TZID:Europe/London
BEGIN:DAYLIGHT
TZOFFSETFROM:+0000
TZOFFSETTO:+0100
TZNAME:BST
DTSTART:20250330T010000
END:DAYLIGHT
BEGIN:STANDARD
TZOFFSETFROM:+0100
TZOFFSETTO:+0000
TZNAME:GMT
DTSTART:20251026T010000
END:STANDARD
END:VTIMEZONE
BEGIN:VEVENT
DTSTART;VALUE=DATE:20251220
DTEND;VALUE=DATE:20251221
DTSTAMP:20260424T120720
CREATED:20251211T205103Z
LAST-MODIFIED:20251211T205103Z
UID:20293-1766188800-1766275199@www.uszz.sk
SUMMARY:Vianočné trhy v Selenči
DESCRIPTION:
URL:https://www.uszz.sk/event/vianocne-trhy-v-selenci/
LOCATION:Selenča\, Serbia
ATTACH;FMTTYPE=image/jpeg:https://www.uszz.sk/wp-content/uploads/2025/12/IMG_4853.jpeg
END:VEVENT
BEGIN:VEVENT
DTSTART;TZID=America/Chicago:20251220T100000
DTEND;TZID=America/Chicago:20251220T130000
DTSTAMP:20260424T120720
CREATED:20251219T160030Z
LAST-MODIFIED:20251219T160030Z
UID:20382-1766224800-1766235600@www.uszz.sk
SUMMARY:Sokol Chicago: Cookie Walk
DESCRIPTION:
URL:https://www.uszz.sk/event/sokol-chicago-cookie-walk/
LOCATION:Chicago\, United States
ATTACH;FMTTYPE=image/jpeg:https://www.uszz.sk/wp-content/uploads/2025/12/Cookie-walk.jpg
END:VEVENT
BEGIN:VEVENT
DTSTART;TZID=Europe/London:20251220T110000
DTEND;TZID=Europe/London:20251220T140000
DTSTAMP:20260424T120720
CREATED:20251111T080239Z
LAST-MODIFIED:20251111T080239Z
UID:19935-1766228400-1766239200@www.uszz.sk
SUMMARY:Vianočný workshop v Manchestri
DESCRIPTION:
URL:https://www.uszz.sk/event/vianocny-workshop-v-manchestri/
LOCATION:Manchester\, United Kingdom
ATTACH;FMTTYPE=image/jpeg:https://www.uszz.sk/wp-content/uploads/2025/11/571116080_122218235162248952_6646079990147322352_n.jpg
END:VEVENT
END:VCALENDAR