BEGIN:VCALENDAR
VERSION:2.0
PRODID:-//USZZ - ECPv6.7.0//NONSGML v1.0//EN
CALSCALE:GREGORIAN
METHOD:PUBLISH
X-ORIGINAL-URL:https://www.uszz.sk
X-WR-CALDESC:Udalosti pre USZZ
REFRESH-INTERVAL;VALUE=DURATION:PT1H
X-Robots-Tag:noindex
X-PUBLISHED-TTL:PT1H
BEGIN:VTIMEZONE
TZID:Europe/Bratislava
BEGIN:DAYLIGHT
TZOFFSETFROM:+0100
TZOFFSETTO:+0200
TZNAME:CEST
DTSTART:20260329T010000
END:DAYLIGHT
BEGIN:STANDARD
TZOFFSETFROM:+0200
TZOFFSETTO:+0100
TZNAME:CET
DTSTART:20261025T010000
END:STANDARD
END:VTIMEZONE
BEGIN:VEVENT
DTSTART;VALUE=DATE:20260115
DTEND;VALUE=DATE:20260117
DTSTAMP:20260424T103812
CREATED:20260108T091943Z
LAST-MODIFIED:20260108T093945Z
UID:20431-1768435200-1768607999@www.uszz.sk
SUMMARY:Dolnozemská knižná žatva
DESCRIPTION:Dávame do pozornosti\, že v dňoch 15. – 16. januára 2026 sa uskutoční podujatie DOLNOZEMSKÁ KNIŽNÁ ŽATVA\, na ktorom budeme prezentovať knižné novinky dolnozemských Slovákov. Budú zastúpení Slováci z Maďarska\, Rumunska a Srbska. \nKde?   NÁRODNÉ OSVETOVÉ CENTRUM\, Bratislava Nám. SNP 12\, 1. posch. \nČas: \n11\,00 – 16\,00 – výstava knižných vydaní Slovákov z Maďarska\, Rumunska a Srbska. \n16\,00 – 18\,00 – prezentácie knižných noviniek: \nštvrtok\, 15.01.  – prezentujú Slováci z Maďarska a Srbska \npiatok\, 16.01. – prezentujú Slováci z Rumunska a Srbska \nPrezentácie moderuje: Mária Katarína Hrkľová \nVstup voľný.
URL:https://www.uszz.sk/event/dolnozemska-knizna-zatva/
ATTACH;FMTTYPE=image/jpeg:https://www.uszz.sk/wp-content/uploads/2026/01/plagat-dolnoz-knizna-zatva.jpeg
END:VEVENT
END:VCALENDAR