BEGIN:VCALENDAR
VERSION:2.0
PRODID:-//USZZ - ECPv6.7.0//NONSGML v1.0//EN
CALSCALE:GREGORIAN
METHOD:PUBLISH
X-ORIGINAL-URL:https://www.uszz.sk
X-WR-CALDESC:Udalosti pre USZZ
REFRESH-INTERVAL;VALUE=DURATION:PT1H
X-Robots-Tag:noindex
X-PUBLISHED-TTL:PT1H
BEGIN:VTIMEZONE
TZID:Europe/Bratislava
BEGIN:DAYLIGHT
TZOFFSETFROM:+0100
TZOFFSETTO:+0200
TZNAME:CEST
DTSTART:20260329T010000
END:DAYLIGHT
BEGIN:STANDARD
TZOFFSETFROM:+0200
TZOFFSETTO:+0100
TZNAME:CET
DTSTART:20261025T010000
END:STANDARD
END:VTIMEZONE
BEGIN:VEVENT
DTSTART;VALUE=DATE:20260207
DTEND;VALUE=DATE:20260208
DTSTAMP:20260422T192018
CREATED:20251205T140252Z
LAST-MODIFIED:20251205T140252Z
UID:20211-1770422400-1770508799@www.uszz.sk
SUMMARY:Česko-slovenský ples
DESCRIPTION:
URL:https://www.uszz.sk/event/cesko-slovensky-ples/
LOCATION:Praha\, Czech Republic
ATTACH;FMTTYPE=image/jpeg:https://www.uszz.sk/wp-content/uploads/2025/12/34720.jpg
END:VEVENT
BEGIN:VEVENT
DTSTART;TZID=Europe/Bratislava:20260207T100000
DTEND;TZID=Europe/Bratislava:20260207T100000
DTSTAMP:20260422T192018
CREATED:20260119T103212Z
LAST-MODIFIED:20260119T103212Z
UID:20520-1770458400-1770458400@www.uszz.sk
SUMMARY:30 rokov Domu slovenskej kultúry
DESCRIPTION:
URL:https://www.uszz.sk/event/30-rokov-domu-slovenskej-kultury/
LOCATION:Dom slovenskej kultúry v Békešskej Čabe\, Námestie Kossuta 10\, Békešská Čaba\, Maďarsko
ATTACH;FMTTYPE=image/jpeg:https://www.uszz.sk/wp-content/uploads/2026/01/plakat_30_eves_szlovakhaz-1.jpg
END:VEVENT
BEGIN:VEVENT
DTSTART;TZID=Europe/Bratislava:20260207T140000
DTEND;TZID=Europe/Bratislava:20260207T173000
DTSTAMP:20260422T192018
CREATED:20260121T123237Z
LAST-MODIFIED:20260121T123237Z
UID:20568-1770472800-1770485400@www.uszz.sk
SUMMARY:Divadlo a karneval pre deti
DESCRIPTION:
URL:https://www.uszz.sk/event/divadlo-a-karneval-pre-deti/
LOCATION:Mníchov
ATTACH;FMTTYPE=image/jpeg:https://www.uszz.sk/wp-content/uploads/2026/01/619408715_1317426300188782_8343339069858702219_n.jpg
END:VEVENT
BEGIN:VEVENT
DTSTART;TZID=Europe/Bratislava:20260207T180000
DTEND;TZID=Europe/Bratislava:20260207T180000
DTSTAMP:20260422T192018
CREATED:20260119T090409Z
LAST-MODIFIED:20260119T090409Z
UID:20512-1770487200-1770487200@www.uszz.sk
SUMMARY:Reprezentačný ples Slovákov z Rumunska
DESCRIPTION:
URL:https://www.uszz.sk/event/reprezentacny-ples-slovakov-z-rumunska/
LOCATION:Bratislava\, Slovakia (Slovak Republic)
ATTACH;FMTTYPE=image/jpeg:https://www.uszz.sk/wp-content/uploads/2026/01/Ples_Spolok-Slovakov-z-Rumunska.jpg
END:VEVENT
BEGIN:VEVENT
DTSTART;TZID=Europe/Bratislava:20260207T180000
DTEND;TZID=Europe/Bratislava:20260207T180000
DTSTAMP:20260422T192018
CREATED:20260119T103655Z
LAST-MODIFIED:20260119T103655Z
UID:20524-1770487200-1770487200@www.uszz.sk
SUMMARY:Čabianska slovenská veselica
DESCRIPTION:
URL:https://www.uszz.sk/event/cabianska-slovenska-veselica/
LOCATION:Dom slovenskej kultúry v Békešskej Čabe\, Námestie Kossuta 10\, Békešská Čaba\, Maďarsko
ATTACH;FMTTYPE=image/jpeg:https://www.uszz.sk/wp-content/uploads/2026/01/Szlovak_bal_A4_2026.jpg
END:VEVENT
BEGIN:VEVENT
DTSTART;TZID=Europe/Bratislava:20260207T190000
DTEND;TZID=Europe/Bratislava:20260207T190000
DTSTAMP:20260422T192018
CREATED:20251211T201746Z
LAST-MODIFIED:20251211T201746Z
UID:20289-1770490800-1770490800@www.uszz.sk
SUMMARY:30. Slovenský bál
DESCRIPTION:
URL:https://www.uszz.sk/event/30-slovensky-bal/
LOCATION:Vratimov\, Czech Republic
ATTACH;FMTTYPE=image/jpeg:https://www.uszz.sk/wp-content/uploads/2025/12/IMG_4852.jpeg
END:VEVENT
END:VCALENDAR