BEGIN:VCALENDAR
VERSION:2.0
PRODID:-//USZZ - ECPv6.7.0//NONSGML v1.0//EN
CALSCALE:GREGORIAN
METHOD:PUBLISH
X-ORIGINAL-URL:https://www.uszz.sk
X-WR-CALDESC:Udalosti pre USZZ
REFRESH-INTERVAL;VALUE=DURATION:PT1H
X-Robots-Tag:noindex
X-PUBLISHED-TTL:PT1H
BEGIN:VTIMEZONE
TZID:Europe/Bratislava
BEGIN:DAYLIGHT
TZOFFSETFROM:+0100
TZOFFSETTO:+0200
TZNAME:CEST
DTSTART:20260329T010000
END:DAYLIGHT
BEGIN:STANDARD
TZOFFSETFROM:+0200
TZOFFSETTO:+0100
TZNAME:CET
DTSTART:20261025T010000
END:STANDARD
END:VTIMEZONE
BEGIN:VEVENT
DTSTART;VALUE=DATE:20260327
DTEND;VALUE=DATE:20260406
DTSTAMP:20260422T160924
CREATED:20260312T132401Z
LAST-MODIFIED:20260312T132401Z
UID:20852-1774569600-1775433599@www.uszz.sk
SUMMARY:31. ročník festivalu DIDA
DESCRIPTION:Program na facebookovej stránke Divadlo Janka Čemana: https://www.facebook.com/photo/?fbid=1487472270050458&set=a.197177599079938
URL:https://www.uszz.sk/event/31-rocnik-festivalu-dida/
LOCATION:Pivnica\, Srbsko
ATTACH;FMTTYPE=image/jpeg:https://www.uszz.sk/wp-content/uploads/2026/03/648296517_1485266156937736_1992313381109843855_n.jpg
END:VEVENT
END:VCALENDAR