BEGIN:VCALENDAR
VERSION:2.0
PRODID:-//USZZ - ECPv6.7.0//NONSGML v1.0//EN
CALSCALE:GREGORIAN
METHOD:PUBLISH
X-ORIGINAL-URL:https://www.uszz.sk
X-WR-CALDESC:Udalosti pre USZZ
REFRESH-INTERVAL;VALUE=DURATION:PT1H
X-Robots-Tag:noindex
X-PUBLISHED-TTL:PT1H
BEGIN:VTIMEZONE
TZID:Europe/Bratislava
BEGIN:DAYLIGHT
TZOFFSETFROM:+0100
TZOFFSETTO:+0200
TZNAME:CEST
DTSTART:20250330T010000
END:DAYLIGHT
BEGIN:STANDARD
TZOFFSETFROM:+0200
TZOFFSETTO:+0100
TZNAME:CET
DTSTART:20251026T010000
END:STANDARD
TZID:Europe/London
BEGIN:DAYLIGHT
TZOFFSETFROM:+0000
TZOFFSETTO:+0100
TZNAME:BST
DTSTART:20250330T010000
END:DAYLIGHT
BEGIN:STANDARD
TZOFFSETFROM:+0100
TZOFFSETTO:+0000
TZNAME:GMT
DTSTART:20251026T010000
END:STANDARD
END:VTIMEZONE
BEGIN:VEVENT
DTSTART;TZID=Europe/Bratislava:20250320T170000
DTEND;TZID=Europe/Bratislava:20250531T000000
DTSTAMP:20260425T021700
CREATED:20250318T130450Z
LAST-MODIFIED:20250318T130450Z
UID:17191-1742490000-1748649600@www.uszz.sk
SUMMARY:Výstava Pavla Surového
DESCRIPTION:Dávame do pozornosti výstavu Trón Pavla Surového\, ktorá sa koná v Slovenskom národnom múzeu v Martine v dňoch 20.3. – 31.5. 2025 \nVýstava otvárala prestížnu titulu „Európske mesto kultúry – Nový Sad 2022“ a zároveň bola nainštalovaná v istom čase až v 7 Kultúrnych staniciach v Novom Sade. Je to zároveň aj najoceňovanejší fotografický projekt slovenského umelca žijúceho v Srbsku\, ktorý získal na 3 kontinentoch viac ako 100 medailou. \nVýstava svetovo uznávaného grafického dizajnéra a módneho fotografa Pavla Surového\, Slováka zo Srbska\, zobrazuje bohatstvo rozličností ľudového odevu na Balkáne. Jeho práca je špecifická reinterpretácia ľudových krojov\, ako nehmotného kultúrneho dedičstva\, ktorá komponuje tradičné prvky a zobrazuje ich z originálnej perspektívy\, ktorá špecifickým spôsobom mení estetické a tradičné modely. Vo fókuse je spoj tradície a duchovna\, výstava Trón predstavuje originálny a autentický balkánsky ľudový odev. \nÚspešná výstava „Trón“ mala svetovú premiéru v Paríži\, ďalej bola nainštalovaná v Slovinsku\, Maďarsku\, Českej republike\, Srbskej republike a niekoľkokrát v hlavnom meste Srbska v Belehrade. \n 
URL:https://www.uszz.sk/event/vystava-pavla-suroveho/
LOCATION:Slovenské národné múzeum v Martine\, Slovakia (Slovak Republic)
ATTACH;FMTTYPE=image/jpeg:https://www.uszz.sk/wp-content/uploads/2025/03/pozvanka-tron-pavla-suroveho-snm-martin_50.jpg
END:VEVENT
BEGIN:VEVENT
DTSTART;TZID=Europe/Bratislava:20250405T130000
DTEND;TZID=Europe/Bratislava:20250405T210000
DTSTAMP:20260425T021700
CREATED:20250401T114824Z
LAST-MODIFIED:20250401T115540Z
UID:17386-1743858000-1743886800@www.uszz.sk
SUMMARY:75. výročie slovenskej školy v Budapešti
DESCRIPTION:Dávame do pozornosti slávnosť pri príležitosti 75. výročia založenia Materskej školy\, všeobecnej školy\, gymnázia a kolégia s vyučovacím jazykom slovenským v Budapešti\, ktorá sa uskutoční 5. apríla 2025 (v sobotu). \nProgram:13:00 Stretávky tried v budove školy \n13:00  75 ročná škola v obrazoch: otvorenie výstavy fotografií v aule školy \n13:30 Pamätnica k 75. výročiu školy \n15:00  Galaprogram Naša škola a my \n18:30 Zatancuj si so mnou: stretnutie absolventov v telocvični školy \nPodujatie je otvorené pre verejnosť\, ale vyžaduje registráciu. Prihlásiť sa môžete kliknutím na nasledujúci odkaz: \nhttps://forms.office.com/e/LCPiCDGBTT?origin=lprLink
URL:https://www.uszz.sk/event/75-vyrocie-slovenskej-skoly-v-budapesti/
LOCATION:Budapešť\, Andrássy ut\, Maďarsko
ATTACH;FMTTYPE=image/jpeg:https://www.uszz.sk/wp-content/uploads/2025/04/75.-evfordulo_meghivo_vegleges-2048x1481-1.jpg
END:VEVENT
BEGIN:VEVENT
DTSTART;TZID=Europe/Bratislava:20250405T143000
DTEND;TZID=Europe/Bratislava:20250405T170000
DTSTAMP:20260425T021700
CREATED:20250312T140859Z
LAST-MODIFIED:20250312T141053Z
UID:17168-1743863400-1743872400@www.uszz.sk
SUMMARY:Slovenský veľkonočný workshop
DESCRIPTION:Slovenské vzdelávacie centrum South Manchester organizuje Slovenský veľkonočný workshop\, ktorý sa uskutoční v sobotu 5. apríla 2024 v The Firs Primary School\, Sale (M33 5EL). Účastníci si vyskúšajú tvorbu tradičných slovenských veľkonočných dekorácií\, zapoja sa do piatich kreatívnych staníc a ochutnajú pôstne slovenské pochúťky.
URL:https://www.uszz.sk/event/slovensky-velkonocny-workshop/
LOCATION:Manchester\, United Kingdom
ATTACH;FMTTYPE=image/png:https://www.uszz.sk/wp-content/uploads/2025/03/Yellow-and-Green-Illustrative-Easter-Crafting-Workshop-Poster_20250309_173510_0000.png
END:VEVENT
BEGIN:VEVENT
DTSTART;TZID=Europe/London:20250406T133000
DTEND;TZID=Europe/London:20250406T153000
DTSTAMP:20260425T021700
CREATED:20250329T170811Z
LAST-MODIFIED:20250329T170822Z
UID:17309-1743946200-1743953400@www.uszz.sk
SUMMARY:Veľká noc vo Warvicku
DESCRIPTION:Slovenská víkendová škola vo Warvicku spolu s Českou víkendovou školou pozývajú na tradičné veľkonočné aktivity.
URL:https://www.uszz.sk/event/velka-noc-vo-warvicku/
LOCATION:Warvick\, Warvick\, United Kingdom
ATTACH;FMTTYPE=image/png:https://www.uszz.sk/wp-content/uploads/2025/03/Velka-noc-czskclub.png
END:VEVENT
BEGIN:VEVENT
DTSTART;TZID=Europe/Bratislava:20250410T110000
DTEND;TZID=Europe/Bratislava:20250410T170000
DTSTAMP:20260425T021700
CREATED:20250402T104948Z
LAST-MODIFIED:20250402T104948Z
UID:17416-1744282800-1744304400@www.uszz.sk
SUMMARY:Online vzdelávanie Hláskovo
DESCRIPTION:Pedagogická fakulta UMB v spolupráci s Ministerstvom školstva\, výskumu\, vývoja a mládeže SR organizuje online vzdelávanie pre učiteľov\, ktoré je zamerané na prácu s inovatívnym vzdelávacím systémom Krajina Hláskovo. Tento kurz ponúka tematicky orientované vzdelávanie o učení pomocou materiálu Hláskovo\, ktorý je určený na efektívnu výučbu slovenského jazyka. \nOnline stretnutia sa uskutočnia v týchto termínoch:10. apríla 2025 o 11:00 SEČ15. mája 2025 o 11:00 SEČ29. mája 2025 o 11:00 SEČ \nKurz povedú skúsené odborníčky v oblasti vzdelávania Mgr. Zuzana Kováčová Švecová\, PhD.\, prof. PaedDr. Alena Doušková\, PhD.\, a Mgr. Ružena Čiliaková\, PhD. Účastníci získajú praktické ukážky práce s materiálom Hláskovo\, možnosť diskusie s odborníkmi z Pedagogickej fakulty UMB\, ako aj certifikát o absolvovaní vzdelávania. Súčasťou programu budú aj dištančné úlohy\, ktoré podporia aktívne zapojenie sa do procesu učenia. \nPrihlásiť sa môžete e-mailom na adresu zuzana.kovacova@umb.sk alebo nájdete viac informácií na stránke www.krajinahlaskovo.sk. Nezmeškajte príležitosť obohatiť svoju výučbu slovenského jazyka o nové inovatívne prístupy!
URL:https://www.uszz.sk/event/online-vzdelavanie-hlaskovo/
LOCATION:online
ATTACH;FMTTYPE=image/png:https://www.uszz.sk/wp-content/uploads/2025/04/Snimka-obrazovky-2025-04-02-124256.png
END:VEVENT
BEGIN:VEVENT
DTSTART;TZID=Europe/Bratislava:20250411T150000
DTEND;TZID=Europe/Bratislava:20250413T000000
DTSTAMP:20260425T021700
CREATED:20250411T102651Z
LAST-MODIFIED:20250411T102713Z
UID:17517-1744383600-1744502400@www.uszz.sk
SUMMARY:Dielne prípravy a zdobenia medovníkov v Jurjevci Punitovskom
DESCRIPTION:Slovenské kultúrne centrum Našice v spolupráci s MS v Jurjevci Punitovskom organizuje dielne prípravy a zdobenia medovníkov\, ktoré sa začínajú 11. apríla 2025 o 15:00 v priestoroch kultúrneho domu v Jurjevci Punitovskom (Chorvátsko). \nPod vedením Aleny Tabačkovej zo Šoporne (Slovensko) sa účastníci naučia celý proces od prípravy cesta\, pečenia 3D medovníkov\, miešania a aplikovania polevy až po zdobenie a maľovanie tradičnými technikami. \nDielne sú určené všetkým milovníkom ľudovej tvorby a tradičných slovenských remesiel. Počet miest je obmedzený\, preto odporúčame prihlásiť sa vopred.
URL:https://www.uszz.sk/event/dielne-pripravy-a-zdobenia-medovnikov-v-jurjevci-punitovskom/
ATTACH;FMTTYPE=image/jpeg:https://www.uszz.sk/wp-content/uploads/2025/04/Dielna-medovnikov.jpg
END:VEVENT
END:VCALENDAR