BEGIN:VCALENDAR
VERSION:2.0
PRODID:-//USZZ - ECPv6.7.0//NONSGML v1.0//EN
CALSCALE:GREGORIAN
METHOD:PUBLISH
X-ORIGINAL-URL:https://www.uszz.sk
X-WR-CALDESC:Udalosti pre USZZ
REFRESH-INTERVAL;VALUE=DURATION:PT1H
X-Robots-Tag:noindex
X-PUBLISHED-TTL:PT1H
BEGIN:VTIMEZONE
TZID:Europe/Bratislava
BEGIN:DAYLIGHT
TZOFFSETFROM:+0100
TZOFFSETTO:+0200
TZNAME:CEST
DTSTART:20250330T010000
END:DAYLIGHT
BEGIN:STANDARD
TZOFFSETFROM:+0200
TZOFFSETTO:+0100
TZNAME:CET
DTSTART:20251026T010000
END:STANDARD
END:VTIMEZONE
BEGIN:VEVENT
DTSTART;VALUE=DATE:20250703
DTEND;VALUE=DATE:20250902
DTSTAMP:20260424T164750
CREATED:20250703T152457Z
LAST-MODIFIED:20250703T152457Z
UID:18328-1751500800-1756771199@www.uszz.sk
SUMMARY:Výstava Trón Pavla Surového
DESCRIPTION:Najoceňovanejší fotografický projekt slovenského umelca žijúceho v Srbsku\, Trón Pavla Surového\, ktorý zároveň otváral aj prestižnu titulu Európske mesto kultúry – Nový Sad 2022\, prichádza na Slovensko do Bratislavy.
URL:https://www.uszz.sk/event/vystava-tron-pavla-suroveho/
LOCATION:Bratislavský hrad\, Bratislava\, Slovakia (Slovak Republic)
ATTACH;FMTTYPE=image/png:https://www.uszz.sk/wp-content/uploads/2025/07/IMG_1867.png
END:VEVENT
BEGIN:VEVENT
DTSTART;VALUE=DATE:20250720
DTEND;VALUE=DATE:20250831
DTSTAMP:20260424T164751
CREATED:20250708T134228Z
LAST-MODIFIED:20250708T134343Z
UID:18536-1752969600-1756598399@www.uszz.sk
SUMMARY:XXXII. Dni slovenskej kultúry v Malopoľsku
DESCRIPTION:20. 7. 2025 – XXXII. Dni slovenskej kultúry na Spiši\, Nová Belá\nPROGRAM: \n\n\n11:00 – Svätá omša v slovenskom jazyku v kostole sv. Kataríny \n\n\n12:00 – Odhalenie pamätnej tabule rodákovi z Novej Belej\, biskupovi Mons. Dominikovi Kalatovi SJ pri príležitosti 100. výročia narodenia \n\n\n12:30 – Otvorenie výstavy a prezentácia publikácie Michala Váľka Dominik Kalata – biskup\, ktorý staval mosty \n\n\n14:00 – Kultúrny program pri Centre slovenskej kultúry– slávnostné otvorenie Dní slovenskej kultúry na Spiši– vystúpenia krajanských umeleckých zoskupení a hostí zo Slovenska \n\n\n30. 8. 2025 – XXXII. Dni slovenskej kultúry na Orave\, Veľká Lipnica Prívarovka\nPROGRAM: \n\n\n7:30 – VI. Národný výstup na Babiu horu venovaný slovenskému kazateľovi a učencovi Štefanovi Serafinovi Bosákovi z Podvlku– pri príležitosti 240. výročia úmrtia– raňajky pod Babou horou spojené s prezentáciou publikácie o. Tomáša Lesňáka Otec Štefan Serafin Bosák – ľudový misionár z Podvlku– individuálny výstup na Babiu horu \n\n\n14:00 – Stretnutie pod Babou horou– slávnostné otvorenie Dní slovenskej kultúry na Orave– prezentácia neveselých spomienok na veselé roky Mila Urbana Kade-tade po Halinde– vystúpenia slovenských umelcov \n\n\nSprievodné výstavy:\n\n\nDominik Kalata – biskup\, ktorý staval mosty (Centrum slovenskej kultúry v Novej Belej) \n\n\nMôj obľúbený slovenský príbeh (Klubovňa Spolku Slovákov v Jablonke\, Slovenský dom v Podvlku\, Slovenský dom v Kacvíne\, Centrum slovenskej kultúry v Novej Belej\, Slovenský dom vo Vyšných Lapšoch\, Slovenský inštitút vo Varšave) \n\n\nNajkrajšie turistické železničné trasy v Poľsku a na Slovensku (Galéria slovenského umenia v Krakove) \n\n\n 
URL:https://www.uszz.sk/event/xxxii-dni-slovenskej-kultury-v-polsku/
ATTACH;FMTTYPE=image/png:https://www.uszz.sk/wp-content/uploads/2025/07/Dni-slovenskej-kultury.png
END:VEVENT
BEGIN:VEVENT
DTSTART;VALUE=DATE:20250802
DTEND;VALUE=DATE:20250810
DTSTAMP:20260424T164751
CREATED:20250716T120853Z
LAST-MODIFIED:20250716T120853Z
UID:18582-1754092800-1754783999@www.uszz.sk
SUMMARY:Slovenské národné slávnosti v Báčskom Petrovci
DESCRIPTION:
URL:https://www.uszz.sk/event/slovenske-narodne-slavnosti-v-bacskom-petrovci/
LOCATION:Báčsky Petrovec\, Serbia
ATTACH;FMTTYPE=image/jpeg:https://www.uszz.sk/wp-content/uploads/2025/07/05321f5eaeec93f1aeab1c834df7b75c.jpg
END:VEVENT
BEGIN:VEVENT
DTSTART;VALUE=DATE:20250808
DTEND;VALUE=DATE:20250811
DTSTAMP:20260424T164751
CREATED:20250624T070718Z
LAST-MODIFIED:20250624T070718Z
UID:18238-1754611200-1754870399@www.uszz.sk
SUMMARY:MSFS Jánošíkov dukát
DESCRIPTION:
URL:https://www.uszz.sk/event/msfs-janosikov-dukat/
LOCATION:Rožnov pod Radhoštem\, Česká republika
ATTACH;FMTTYPE=image/jpeg:https://www.uszz.sk/wp-content/uploads/2025/06/503645740_1247988347114410_3009279195344027028_n.jpg
END:VEVENT
BEGIN:VEVENT
DTSTART;TZID=Europe/Bratislava:20250816T150000
DTEND;TZID=Europe/Bratislava:20250816T233000
DTSTAMP:20260424T164751
CREATED:20250813T130727Z
LAST-MODIFIED:20250813T130956Z
UID:18822-1755356400-1755387000@www.uszz.sk
SUMMARY:V lipovom chládku a medovom sládku
DESCRIPTION:
URL:https://www.uszz.sk/event/v-lipovom-chladku-a-medovom-sladku/
LOCATION:Lug\, Serbia
ATTACH;FMTTYPE=image/jpeg:https://www.uszz.sk/wp-content/uploads/2025/08/524648963_2518215198546747_7668806485357603295_n-768x1086-1.jpg
END:VEVENT
BEGIN:VEVENT
DTSTART;VALUE=DATE:20250817
DTEND;VALUE=DATE:20250825
DTSTAMP:20260424T164751
CREATED:20250618T080330Z
LAST-MODIFIED:20250618T080330Z
UID:18166-1755388800-1756079999@www.uszz.sk
SUMMARY:14. ročník semináru Píšem? Píšeš!
DESCRIPTION:Predstavujeme Vám dielne na tohtoročnom 14. ročníku semináru Píšeš? Píšem! v Kovačici.\n\n\n\nZOZNAM DIELNÍ:\n\n\n1. dielňa DETSKÉHO DIVADLA Peter Hudák\n\n\n2. DIELŇA ROZHLASOVÉHO HERECTVA s Renata Jurčová a Svetlana Gaško\n\n\n3. DIVADLO MLADÝCH nad 15 rokov s Andrej Bilik\n\n\n4. HUDOBNÁ dielňa s Tomas Pohorelec Vierka Semaňáková a Vladimir Gabriel Lovas\n\n\n5. FOTOGRAFICKÁ DIELŇA s Peter Brenkus Photography\n\n\n6. FILMOVÁ DIELŇA s Stanislav Králik a @attila csontos\, Andrea Miháľová a Lenka Stanková\n\n\n7. TANEČNÁ DIELŇA s Miroslav Kožik\n\n\n8. VÝTVARNÁ DIELŇA s @Monika Račková\n\n\n\nPRIHLÁŠKU nájdete tu:\nhttps://forms.gle/FiKLAHa3HXxoRAtTA\n\n\n\nUZÁVIERKA VYPĹŇANIA PRIHLÁŠOK: 10. 8. 2025\n\n\n\nPoplatok – na seminár Píšeš? Píšem! 2025 v Kovačici\, v ktorom je zahrnutý poplatok za stravu\, ubytovanie a workshop je 70 € /8 000 dinárov. Účastnícky poplatok sa platí osobne v prvý deň semináru (respektíve podľa príchodu účastníka) Účastníci\, ktorí pochádzajú z Kovačice majú účasť na seminári BEZPLATNÚ (s tým\, že stravovanie a ubytovanie si zabezpečia sami).\n\n\nKeď dostaneme od Vás prihlášku pošleme na email info pre účastníka\, kde sa dozviete\, kde skloníte hlavu\, či bude na obed veľký alebo malý rezeň\, aké iné sprievodné akcie sa počas semináru chystajú a iné tajomné informácie.\n\n\nV dielňach budeme realizovať víťazné texty z tohtoročnej súťaže „Poď sa vypísať!“.\n\n\nAk sa vyskytnú nejaké otázky\, kontaktujte nás prostredníctvom správy tu na FB alebo emailom: seminar.pises.pisem@gmail.com\n\n\nS podporou Úradu pre Slovákov žijúcich v zahraničí.
URL:https://www.uszz.sk/event/14-rocnik-seminaru-pisem-pises/
ATTACH;FMTTYPE=image/jpeg:https://www.uszz.sk/wp-content/uploads/2025/06/506032007_690012020308515_512335511835467331_n.jpg
END:VEVENT
BEGIN:VEVENT
DTSTART;VALUE=DATE:20250827
DTEND;VALUE=DATE:20250927
DTSTAMP:20260424T164751
CREATED:20250911T054015Z
LAST-MODIFIED:20250911T054101Z
UID:19075-1756252800-1758931199@www.uszz.sk
SUMMARY:Ahoj festival
DESCRIPTION:S veľkou radosťou Vás pozývame na ďalší ročník kultúrneho festivalu Českého klubu Zürich. Na organizácii sa opäť podieľa aj slovenský kultúrny spolok Slowakischer Kulturverein. Vďaka tomu sa môžete tešiť na umelcov z Česka a Slovenska\, ktorí sa odprezentujú v dňoch  27.8. – 26.9. 2025 na rôznych miestach v kantóne Zürich. \nOrganizujú : Český Klub Zürich a Slovenský kultúrny spolok za podpory mesta Zürich\, velvyslanectva ČR v Berne\, Veľvyslanectvo Slovenska v Berne\, Ministerstva zahraničných vecí ČR\, Úradu pre Slovákov žijúcich v zahraničí\, Českého literárního centra a Moravskej zemskej knižnice. V spolupráci s divadlom Keller 62\, PBZ Bibliothek Schütze\, sphères\, Galériou Go Green Art\, Galériou Krause a GZ Riesbach. \nInformácie o programe na stránke Slovenského kultúrneho spolku: Ahoj Festival 2025 | Slovenska kultúra
URL:https://www.uszz.sk/event/ahoj-festival/
LOCATION:Zürich\, Švajčiarsko
ATTACH;FMTTYPE=image/jpeg:https://www.uszz.sk/wp-content/uploads/2025/09/3rba8kXFBklF9QhSQzvKdInahR4MdY8Swco4cStc_page-0001-scaled.jpg
END:VEVENT
BEGIN:VEVENT
DTSTART;VALUE=DATE:20250829
DTEND;VALUE=DATE:20250830
DTSTAMP:20260424T164751
CREATED:20250829T162816Z
LAST-MODIFIED:20250829T162902Z
UID:18918-1756425600-1756511999@www.uszz.sk
SUMMARY:Ruka v ruke v súčasnosti medzi minulosťou a budúcnosťou
DESCRIPTION:Program:\n10:00: Kladenie pamätných kvetov pri pamätnom kameni v záhrade pri kostole\n11:00: Hory s kade sa pustil na Dolnú zem Ján Sekerka\nPrechádzka v horách v Hradište\nZasadnutie predstaviteľov Hradište – Čabasabady\n17: 00: Slávnostne otvorenie programu\nMiesto: Kultúrny dom\nOdovzdanie cena\n– Prezentácia publikácie „Spolupráca Hradište – Čabasabady“.\nVernisáž výstavy „30 ročná Spolupráca: Hradište – Čabasabady „.\nSpomienky: „Spolupráca Hradište – Čabasabady“ Prezentácia PPT.\n17.30: Slávnostný program Hradište\n18:00: Vatra\n21:00: Záver programu
URL:https://www.uszz.sk/event/ruka-v-ruke-v-sucasnosti-medzi-minulostou-a-buducnostou/
LOCATION:Hradište\, Slovakia (Slovak Republic)
ATTACH;FMTTYPE=image/png:https://www.uszz.sk/wp-content/uploads/2025/08/Hradiste.png
END:VEVENT
BEGIN:VEVENT
DTSTART;VALUE=DATE:20250830
DTEND;VALUE=DATE:20250831
DTSTAMP:20260424T164751
CREATED:20250819T123527Z
LAST-MODIFIED:20250819T123527Z
UID:18850-1756512000-1756598399@www.uszz.sk
SUMMARY:14. Festival zvykov a obyčají V aradáckom šírom poli
DESCRIPTION:Program\n\n\n15.00 – Príchod účastníkov festivalu(Základná škola Bratstvo\, Aradáč) \n\n\n16.00 – Priestorové skúšky na javisku(nádvorie Slovenského domu\, Kukučínova 16) \n\n\n18.00 – Sprievod účastníkov festivaluzo ZŠ Bratstvo Aradáč do Slovenského domu \n\n\n19.00 – Galakoncert V aradáckom šírom poli(nádvorie Slovenského domu) \n\n\nVšetky sprievodné akcie (oberanie hrozna\, výstavy\, prezentácie aradáčskych združení a gastronomické špeciality) sa uskutočnia v nádvorí Slovenského domu a Harmónie (Kukučínova 16).Začiatok o 11.00 hod.
URL:https://www.uszz.sk/event/14-festival-zvykov-a-obycaji-v-aradackom-sirom-poli/
LOCATION:Aradáč\, Serbia
ATTACH;FMTTYPE=image/png:https://www.uszz.sk/wp-content/uploads/2025/08/V-aradackom-poli.png
END:VEVENT
BEGIN:VEVENT
DTSTART;TZID=Europe/Bratislava:20250830T143000
DTEND;TZID=Europe/Bratislava:20250830T163000
DTSTAMP:20260424T164751
CREATED:20250829T164533Z
LAST-MODIFIED:20250829T164603Z
UID:18923-1756564200-1756571400@www.uszz.sk
SUMMARY:Rozprávky - Slovenský deň s najmenšími
DESCRIPTION:V rámci cyklu   Slovenský deň  s najmenšími  vás pozývame na bábkové predstavenie ROZPRÁVKY \n                                                  V rámci letných prázdnin \n30. 8. 2025 od  14:30 u rybníka Musílek\,  Suchomasty \nProjekt podporilo  MK ČR \,  Úrad pre Slovákov žijúcich v zahraničí a MHMP a CS BONAFIDE
URL:https://www.uszz.sk/event/rozpravky-slovensky-den-s-najmensimi/
LOCATION:Suchomasty\, Czech Republic
ATTACH;FMTTYPE=image/png:https://www.uszz.sk/wp-content/uploads/2025/08/Rozpravky.png
END:VEVENT
BEGIN:VEVENT
DTSTART;TZID=Europe/Bratislava:20250831T180000
DTEND;TZID=Europe/Bratislava:20250831T233000
DTSTAMP:20260424T164751
CREATED:20250819T122837Z
LAST-MODIFIED:20250819T122837Z
UID:18847-1756663200-1756683000@www.uszz.sk
SUMMARY:45. Ilocké leto
DESCRIPTION:Srdečne Vás pozývame na 45. ročník Ilockého leta\, ktoré tradične organizuje Matica slovenská Ilok a Slovenský kultúrno-osvetový spolok Ľudovíta Štúra v Iloku. Kultúrny program sa uskutoční v nedeľu 31. augusta 2025 v Slovenskom dome v Iloku. \n 
URL:https://www.uszz.sk/event/45-ilocke-leto/
LOCATION:Slovenský dom Ilok\, Ilok\, Chorvátsko (Miestny názov: Hrvatska)
ATTACH;FMTTYPE=image/jpeg:https://www.uszz.sk/wp-content/uploads/2025/08/Ilocke-leto-2025-mail-pozvanka-.jpg
END:VEVENT
END:VCALENDAR