BEGIN:VCALENDAR
VERSION:2.0
PRODID:-//USZZ - ECPv6.7.0//NONSGML v1.0//EN
CALSCALE:GREGORIAN
METHOD:PUBLISH
X-ORIGINAL-URL:https://www.uszz.sk
X-WR-CALDESC:Udalosti pre USZZ
REFRESH-INTERVAL;VALUE=DURATION:PT1H
X-Robots-Tag:noindex
X-PUBLISHED-TTL:PT1H
BEGIN:VTIMEZONE
TZID:Europe/Bratislava
BEGIN:DAYLIGHT
TZOFFSETFROM:+0100
TZOFFSETTO:+0200
TZNAME:CEST
DTSTART:20250330T010000
END:DAYLIGHT
BEGIN:STANDARD
TZOFFSETFROM:+0200
TZOFFSETTO:+0100
TZNAME:CET
DTSTART:20251026T010000
END:STANDARD
TZID:Europe/Belgrade
BEGIN:DAYLIGHT
TZOFFSETFROM:+0100
TZOFFSETTO:+0200
TZNAME:CEST
DTSTART:20250330T010000
END:DAYLIGHT
BEGIN:STANDARD
TZOFFSETFROM:+0200
TZOFFSETTO:+0100
TZNAME:CET
DTSTART:20251026T010000
END:STANDARD
TZID:America/New_York
BEGIN:DAYLIGHT
TZOFFSETFROM:-0500
TZOFFSETTO:-0400
TZNAME:EDT
DTSTART:20250309T070000
END:DAYLIGHT
BEGIN:STANDARD
TZOFFSETFROM:-0400
TZOFFSETTO:-0500
TZNAME:EST
DTSTART:20251102T060000
END:STANDARD
END:VTIMEZONE
BEGIN:VEVENT
DTSTART;VALUE=DATE:20250703
DTEND;VALUE=DATE:20250902
DTSTAMP:20260424T151255
CREATED:20250703T152457Z
LAST-MODIFIED:20250703T152457Z
UID:18328-1751500800-1756771199@www.uszz.sk
SUMMARY:Výstava Trón Pavla Surového
DESCRIPTION:Najoceňovanejší fotografický projekt slovenského umelca žijúceho v Srbsku\, Trón Pavla Surového\, ktorý zároveň otváral aj prestižnu titulu Európske mesto kultúry – Nový Sad 2022\, prichádza na Slovensko do Bratislavy.
URL:https://www.uszz.sk/event/vystava-tron-pavla-suroveho/
LOCATION:Bratislavský hrad\, Bratislava\, Slovakia (Slovak Republic)
ATTACH;FMTTYPE=image/png:https://www.uszz.sk/wp-content/uploads/2025/07/IMG_1867.png
END:VEVENT
BEGIN:VEVENT
DTSTART;VALUE=DATE:20250827
DTEND;VALUE=DATE:20250927
DTSTAMP:20260424T151255
CREATED:20250911T054015Z
LAST-MODIFIED:20250911T054101Z
UID:19075-1756252800-1758931199@www.uszz.sk
SUMMARY:Ahoj festival
DESCRIPTION:S veľkou radosťou Vás pozývame na ďalší ročník kultúrneho festivalu Českého klubu Zürich. Na organizácii sa opäť podieľa aj slovenský kultúrny spolok Slowakischer Kulturverein. Vďaka tomu sa môžete tešiť na umelcov z Česka a Slovenska\, ktorí sa odprezentujú v dňoch  27.8. – 26.9. 2025 na rôznych miestach v kantóne Zürich. \nOrganizujú : Český Klub Zürich a Slovenský kultúrny spolok za podpory mesta Zürich\, velvyslanectva ČR v Berne\, Veľvyslanectvo Slovenska v Berne\, Ministerstva zahraničných vecí ČR\, Úradu pre Slovákov žijúcich v zahraničí\, Českého literárního centra a Moravskej zemskej knižnice. V spolupráci s divadlom Keller 62\, PBZ Bibliothek Schütze\, sphères\, Galériou Go Green Art\, Galériou Krause a GZ Riesbach. \nInformácie o programe na stránke Slovenského kultúrneho spolku: Ahoj Festival 2025 | Slovenska kultúra
URL:https://www.uszz.sk/event/ahoj-festival/
LOCATION:Zürich\, Švajčiarsko
ATTACH;FMTTYPE=image/jpeg:https://www.uszz.sk/wp-content/uploads/2025/09/3rba8kXFBklF9QhSQzvKdInahR4MdY8Swco4cStc_page-0001-scaled.jpg
END:VEVENT
BEGIN:VEVENT
DTSTART;TZID=Europe/Bratislava:20250906T110000
DTEND;TZID=Europe/Bratislava:20250906T180000
DTSTAMP:20260424T151255
CREATED:20250822T094612Z
LAST-MODIFIED:20250822T094612Z
UID:18893-1757156400-1757181600@www.uszz.sk
SUMMARY:Nordstern Fest
DESCRIPTION:Vystúpenie súboru Kamzík a detského súboru Kamzíček zo Švajčiarska.
URL:https://www.uszz.sk/event/nordstern-fest/
LOCATION:Aarburg\, Switzerland
ATTACH;FMTTYPE=image/jpeg:https://www.uszz.sk/wp-content/uploads/2025/08/Kulturen.jpg
END:VEVENT
BEGIN:VEVENT
DTSTART;VALUE=DATE:20250909
DTEND;VALUE=DATE:20250910
DTSTAMP:20260424T151255
CREATED:20250907T080834Z
LAST-MODIFIED:20250907T080834Z
UID:19008-1757376000-1757462399@www.uszz.sk
SUMMARY:Krajanské fórum
DESCRIPTION:
URL:https://www.uszz.sk/event/krajanske-forum/
LOCATION:Hotel Nivy\, Bratislava\, Slovakia (Slovak Republic)
ATTACH;FMTTYPE=image/jpeg:https://www.uszz.sk/wp-content/uploads/2025/09/Untitled-design-75.jpg
END:VEVENT
BEGIN:VEVENT
DTSTART;VALUE=DATE:20250911
DTEND;VALUE=DATE:20250913
DTSTAMP:20260424T151255
CREATED:20250819T124009Z
LAST-MODIFIED:20250819T124139Z
UID:18854-1757548800-1757721599@www.uszz.sk
SUMMARY:LingvaFest
DESCRIPTION:
URL:https://www.uszz.sk/event/lingvafest/
LOCATION:Ekonomická univerzita v Bratislave\, Slovakia (Slovak Republic)
ATTACH;FMTTYPE=image/png:https://www.uszz.sk/wp-content/uploads/2025/08/LingvaFest.png
END:VEVENT
BEGIN:VEVENT
DTSTART;VALUE=DATE:20250911
DTEND;VALUE=DATE:20250913
DTSTAMP:20260424T151255
CREATED:20250911T165055Z
LAST-MODIFIED:20250911T165138Z
UID:19125-1757548800-1757721599@www.uszz.sk
SUMMARY:Medzinárodná vedecká konferencia – II. vlna národného obrodenia
DESCRIPTION:V dňoch 11. až 12. septembra 2025 sa pod spoločnou organizáciou Matice slovenskej a Ministerstva zahraničných vecí a európskych záležitostí Slovenskej republiky uskutoční v Martine Medzinárodná vedecká konferencia – II. vlna národného obrodenia. Podujatie sa uskutoční v kontexte 230. výročia narodenia etnografa\, historika\, básnika a zakladateľa vedeckej slavistiky Pavla Jozefa Šafárika. \nVo štvrtok konferencia privíta medzinárodných hostí z Česka\, Srbska\, Slovinska\, Bulharska\, Nemecka\, Maďarska a ďalších krajín. V piatok pokračuje slovenskou konferenčnou časťou\, ktorá priblíži osobnosti druhej vlny národného obrodenia – Pavla Jozefa Šafárika\, Jána Kollára\, Samuela Tomášika a ďalších dejateľov.
URL:https://www.uszz.sk/event/martine-medzinarodna-vedecka-konferencia-ii-vlna-narodneho-obrodenia/
LOCATION:Martin\, Slovakia (Slovak Republic)
ATTACH;FMTTYPE=image/jpeg:https://www.uszz.sk/wp-content/uploads/2025/09/544804805_1189697819851492_7454778200059520767_n.jpg
END:VEVENT
BEGIN:VEVENT
DTSTART;VALUE=DATE:20250912
DTEND;VALUE=DATE:20250915
DTSTAMP:20260424T151255
CREATED:20250829T162316Z
LAST-MODIFIED:20250829T162334Z
UID:18913-1757635200-1757894399@www.uszz.sk
SUMMARY:Ruka v ruke v súčasnosti medzi minulosťou a budúcnosťou
DESCRIPTION:Program: 12. september\n17:00: Príchod hostí z Hradište\n18: 00: Rokovanie o ďalšej spolupráce \nProgram: 13. september\n9:30: Kladenie pamätných kvetov\npri pamätnom kameni v Pamätnom parku\n10: 00: Slávnostne otvorenie programu na námestí Beliczeyho\n– Prezentácia publikácie „Spolupráca Hradište – Čabasabady“.\nVernisáž výstavy „30 ročná Spolupráca: Hradište – Čabasabady “\nSpomienky: „Spolupráca Hradište – Čabasabady“ Prezentácia PPT.\nSúťaž varenie\n12:00: obed\n13:00: Športový zápas medzi Čabasabady a Hradište\n15:00: Vyhlásenie výsledkov Súťaže varenie\n17:00: Spomienky: „Spolupráca Hradište – Čabasabady“\n20:00: Záver programu \nProgram: 14. september\n9:30: Bohoslužba v slovenčine\nMiesto: Békešská Čaba\, Evanjelický Veľký kostol\n11.00: Ukončenie programu\nMiesto: Dom slovenskej kultúry v Békešskej Čabe\nSlovenská samospráva Čabasabady
URL:https://www.uszz.sk/event/18913/
LOCATION:Čabasady\, Hungary
ATTACH;FMTTYPE=image/png:https://www.uszz.sk/wp-content/uploads/2025/08/Cabasady.png
END:VEVENT
BEGIN:VEVENT
DTSTART;TZID=Europe/Bratislava:20250912T143000
DTEND;TZID=Europe/Bratislava:20250912T170000
DTSTAMP:20260424T151255
CREATED:20250911T165619Z
LAST-MODIFIED:20250911T165619Z
UID:19134-1757687400-1757696400@www.uszz.sk
SUMMARY:Odhalenie busty Janka Bulíka
DESCRIPTION:Odhalenie busty Janka Bulíka – významného národovca\, zakladateľa Matice slovenskej v Juhoslávii a bojovníka proti fašizmu. Tento akt je súčasťou Roku zahraničných Slovákov a pripomína odvahu a obetu tých\, ktorí stáli pri zachovaní našej identity v zahraničí.
URL:https://www.uszz.sk/event/odhalenie-busty-janka-bulika/
LOCATION:Martin\, Slovakia (Slovak Republic)
ATTACH;FMTTYPE=image/jpeg:https://www.uszz.sk/wp-content/uploads/2025/09/542754071_1187199900101284_4932740910691051288_n.jpg
END:VEVENT
BEGIN:VEVENT
DTSTART;TZID=Europe/Belgrade:20250914T150000
DTEND;TZID=Europe/Belgrade:20250914T233000
DTSTAMP:20260424T151255
CREATED:20250908T050509Z
LAST-MODIFIED:20250908T050509Z
UID:19021-1757862000-1757892600@www.uszz.sk
SUMMARY:Stretnutie s maliarmi a umelcami na Masarikovom dvore
DESCRIPTION:Program\n\nSlávnostné ďakovanie maliarom – ocenenie padinských umelcov zapísaných do UNESCO a padinských vystavujúcich autorov\nVýstava obrazov našich maliarov\nBryndzové halušky – tradičná pochúťka pripravená na mieste\nTočené pivo\nPredajný jarmok s ručnými výrobkami miestnych tvorcov\nHudobná skupina – živá hudba a dobrá nálada\nJazda na zapriahnutých koňoch – nezabudnuteľný zážitok pre malých a veľkých
URL:https://www.uszz.sk/event/stretnutie-s-maliarmi-a-umelcami-na-masarikovom-dvore/
LOCATION:Masarikov dvor Padina\, Serbia
ATTACH;FMTTYPE=image/jpeg:https://www.uszz.sk/wp-content/uploads/2025/09/Plagat.jpg
END:VEVENT
BEGIN:VEVENT
DTSTART;TZID=Europe/Bratislava:20250917T180000
DTEND;TZID=Europe/Bratislava:20250922T190000
DTSTAMP:20260424T151255
CREATED:20250813T125544Z
LAST-MODIFIED:20250813T125544Z
UID:18818-1758132000-1758567600@www.uszz.sk
SUMMARY:Výstava Portréty slovenskej a českej Británie 
DESCRIPTION:Portréty slovenskej a českej Británie je nový multidisciplinárny projekt Slovak Theatre London\, vytvorený v spolupráci s filmovým a portrétnym fotografom Robertom Viglaskym (Peaky Blinders\, Rivals). Inšpiráciou bola kniha Ulice Londýna sú dláždené zlatom od Zuzany Slobodovej. Projekt oslavuje odvahu\, kultúru a tvorivosť Slovákov a Čechov žijúcich vo Veľkej Británii. \nPrvým výstupom projektu je výstava veľkoformátových portrétov jednotlivcov\, rodín a komunitných organizácií naprieč generáciami a profesiami. Portréty vznikli pred ručne maľovaným plátnom od Hapaca Studio a sprevádzajú ich autentické výpovede samotných účastníkov. Výstava skúma témy identity\, komunity a spolupatričnosti. \nPortréty sú rozdelené do troch kapitol: \n\nPionieri – utečenci a emigranti z obdobia vojny a komunizmu\,\nVizionári – profesionáli a lídri\, ktorí formovali Britániu po roku 1989\,\nPotomkovia – mladá generácia hľadajúca rovnováhu medzi pluralitnými identitami.\n\nZaznievajú aj hlasy rómskej\, židovskej a zmiešanej komunity\, ktoré sú často vynechávané z verejného diskurzu. \nSúčasťou výstavy je krátky dokumentárny film o vzniku projektu a interaktívny priestor\, kde návštevníci môžu zanechať svoj vlastný príbeh. Počas trvania výstavy sa uskutočnia aj bezplatné workshopy s účastníkmi projektu. \nProjekt prináša Slovak Theatre London\, nezisková organizácia\, ktorá spája divadlo s komunitným rozprávaním príbehov. Medzi jej predchádzajúce inscenácie patria Migrants’ Rhapsody\, Mum\, What Did You Want? a Extreme: The New Norm\, s ktorými sa predstavila aj na prestížnom festivale Edinburgh Fringe. \nRobert Viglasky je medzinárodne uznávaný slovenský fotograf žijúci v Spojenom kráľovstve\, známy svojím filmovým vizuálnym štýlom a prácou pre BBC\, Netflix či Warner Bros. Pôsobí ako hlavný fotograf seriálu Peaky Blinders a je členom prestížnej spoločnosti Society of Motion Picture Still Photographers (SMPSP). \nRok 2025 symbolicky pripomína 80. výročie Slovenského národného povstania a konca druhej svetovej vojny – kľúčové míľniky v histórii migrácie Slovákov a Čechov do Británie. Dnes tu žije viac ako 200 000 krajanov\, no ich príbehy sú v umeleckom priestore stále nedostatočne zastúpené. Tento projekt ich zachytáva a otvára priestor na medzigeneračný dialóg. \nVernisáž výstavy sa uskutoční v stredu 17. septembra 2025 o 18:00 v Nunnery Gallery\, 181 Bow Road\, Londýn E3 2SJ. Výstava potrvá do 22. septembra a bude otvorená denne od 10:00 do 16:00. Vstup je voľný\, odporúča sa však rezervácia bezplatnej vstupenky:\nhttp://bit.ly/44JP6G5 \nMáte otázky\, záujem o spoluprácu alebo chcete pomôcť ako dobrovoľník? Napíšte nám na: slovaktheatreinlondon@gmail.com
URL:https://www.uszz.sk/event/vystava-portrety-slovenskej-a-ceskej-britanie/
LOCATION:Nunnery Gallery\, 181 Bow Road\, Londýn\, E3 2SJ\, United Kingdom
ATTACH;FMTTYPE=image/jpeg:https://www.uszz.sk/wp-content/uploads/2025/08/Invitation-Exhibition-Portraits-of-SC-Britain-by-STL-scaled.jpg
END:VEVENT
BEGIN:VEVENT
DTSTART;VALUE=DATE:20250919
DTEND;VALUE=DATE:20250920
DTSTAMP:20260424T151255
CREATED:20250911T115010Z
LAST-MODIFIED:20250911T115010Z
UID:19101-1758240000-1758326399@www.uszz.sk
SUMMARY:Fórum Spojení hranicami
DESCRIPTION:Vo Viedni žije dnes oficiálne uznaná historicky autochtónna slovenská národnostná skupina. Ale v súčasnosti sa aj v rakúskom pohraničí bežne na ulici ozýva slovenčina. Rozprávajme sa preto o tom\, kto sme\, ako žijeme\, čo nám chýba a čo naopak je naším prínosom pre rakúsku a slovenskú spoločnosť. Spojení hranicami nie je len výzva spoločného života s pôvodným obyvateľstvom – je to aj o nás – Slovákoch\, o našej identite. Nehľadajme\, čo nás rozdeľuje\, ale to\, čo nás spája. Našou víziou je\, aby sa Slovenky a Slováci žijúci v rakúskom pohraničí stali prirodzenou súčasťou miestneho života –  či už ako dobrí susedia\, aktívni občania alebo spoľahliví partneri v každodenných záležitostiach. A zároveň cítili\, že Slovensko na nich tiež nezabúda. \nTermín: v piatok 19.9.2025 o 9:00                   Miesto: Zámok Kittsee \nProgram \nÚvod – Moderuje: Elena Seeber\, Rádio Slovensko \n09.00 Otvorenie – starosta Kittsee Johannes Hornek (tbc)\, veľvyslanec SR v Rakúsku Jozef Polakovič \n09.15 Úvodné prezentácie \n\nKto sú Slovenky a Slováci v Rakúsku? – Rakúsko-slovenský kultúrny spolok (RSKS) v spolupráci s Rastislavom Pavlíkom (Hainburg INstitut)\nPrístup vlády SR ku podpore krajanov v AT vrátane novej diaspóry – Úrad pre Slovákov žijúcich v zahraničí predsedníčka ÚSŽZ Dagmar Repčeková\nDiaspóra a domáci talent – Dominika Vargová\, talentová expertka\, odbor talentových politík\, Výskumná a inovačná autorita (VAIA)\nDiskusia\n\n10.45 Blok 2: Moderovaná diskusia na tému regionálny rozvoj a príležitosti pre slovensko-rakúske vzťahy. \nModeruje: Andrea Kasanická-Kostolná\, regionálna koordinátorka mesta Viedeň pre program INTERREG AT-CZ a AT-HU\, bývalá spolupracovníčka Spoločného sekretariátu programu INTERREG SK-AT\, pobočka Viedeň \nÚčastníci: \n\nChristian Berger\, Regionálny manažment Dolného Rakúska NÖ.Regional\, iniciatíva baum_cityregion\nKatarína Schlosser\, zástupkyňa správcu Fondu malých projektov Regionálny manažment Dolného Rakúska NÖ.Regional\nAndrej Batyás\, vedúci Spoločného technického sekretariátu INTERREG AT-SK\n\nVýmena účastníkov diskusie \nTerajší a bývalí komunálni poslanci SK národnosti: Rastislav Pavlík (Hainburg a.d. Donau)\, Eva Dohálová (Hohenau a.d. March)\, Inna Mlada (Schwechat)\, Adriana Orsághová (Kittsee) \n12.15 Blok 3: Moderovaná diskusia: Dvojjazyčnosť – podmienka udržateľného prístupu na prospech Slovenska aj Rakúska \nModeruje: Andrea Kasanická-Kostolná \nÚčastníci: \n\nKatarína Baranyaiová\, vedúca oddelenia koordinácie štátnej politiky a externej komunikácie\, ÚSŽZ (úloha úradu v podpore vzdelávania slovenských detí v zahraničí)\nVlado Mlynár\, predseda Školský spolok SOVA a zástupca starostu Školského spolku Komenský (vzdelávanie v slovenčine – príklad víkendovej školy a bilingválneho vzdelávania od materskej školy po maturitu)\nKarel Hanzl\, starosta Školského spolku Komenský (Komenského škola – skúsenosti a odporúčania pre bilingválnu školu)\nMartina Emrich\, Školská správa (Bildungsdirektion) Dolné Rakúsko (podpora slovenčiny v materských školách a v povinnom školstve – Projekt eTom (Education for Tomorrow SK-AT)\n\n13.45 Get-together – networkingová časť \n14.30 Poďakovanie a stručná prezentácia záverov fóra \n(Link) elektronické prihlásenie na fórum \n\n\nOrganizátori: Rakúsko-slovenský kultúrny spolok\, Veľvyslanectvo SR v Rakúsku\, Úrad pre Slovákov žijúcich v zahraničí s ďalšími partnermi
URL:https://www.uszz.sk/event/forum-spojeni-hranicami/
LOCATION:Kittsee\, Austria
ATTACH;FMTTYPE=image/png:https://www.uszz.sk/wp-content/uploads/2025/09/SpojeniHranicami.png
END:VEVENT
BEGIN:VEVENT
DTSTART;TZID=Europe/Bratislava:20250920T143000
DTEND;TZID=Europe/Bratislava:20250920T220000
DTSTAMP:20260424T151255
CREATED:20250911T052958Z
LAST-MODIFIED:20250911T052958Z
UID:19071-1758378600-1758405600@www.uszz.sk
SUMMARY:Galaprogram FS Kolečko a FS Ostroha
DESCRIPTION:FS Kolečko zo Švajčiarska a FS Ostroha z Írska sa spoločne predstavia v Galaprograme.
URL:https://www.uszz.sk/event/galaprogram-fs-kolecko-a-fs-ostroha/
LOCATION:Wetzikon\, Aula der Kantonschule Wetzikon
ATTACH;FMTTYPE=image/png:https://www.uszz.sk/wp-content/uploads/2025/09/BYSyQrtLhFO8niSGmCz5aSrRe10Tz751yesZ5grt.png
END:VEVENT
BEGIN:VEVENT
DTSTART;VALUE=DATE:20250921
DTEND;VALUE=DATE:20250922
DTSTAMP:20260424T151255
CREATED:20250914T190240Z
LAST-MODIFIED:20250914T190719Z
UID:19157-1758412800-1758499199@www.uszz.sk
SUMMARY:47. Festival slovenského kultúrneho dedičstva v New Jersey
DESCRIPTION:Srdečne vás pozývame na 47. Festival slovenského kultúrneho dedičstva\, ktorý sa uskutoční 21. septembra 2025. Festival bude plný kultúry\, hudby a tradícií. Príďte spolu s nami osláviť slovenskú kultúru\, čaká nás deň plný hudby\, spevu\, krojov\, výborného jedla a nezabudnuteľnej atmosféry. \nProgram: \n\n\n10:30 AM – Rímskokatolícka svätá omša \n\n\n1:30 PM – Slávnostné zahájenie festivalu \n\n\n2:00 PM – Česko-slovenská škola Comenius Philadelphia (Philadelphia\, PA) \n\n\n2:30 PM – Vlado & Niki Štefánikovci feat. Nina Džadik (Poconoco\, PA) \n\n\n2:45 PM – Limboráčik – detský folklórny súbor (New York\, NY) \n\n\n3:30 PM – Noga Band (Slovensko) \n\n\n4:30 PM – MC Erik feat. Ivana (Slovensko) \n\n\n5:30 PM – Denwer (Česká republika) \n\n\nTešíme sa na vás v nedeľu 21. septembra na našom tradičnom mieste v Middlesex County Fairgrounds!
URL:https://www.uszz.sk/event/slovak-heritage-festival/
LOCATION:New Jersey\, United States
ATTACH;FMTTYPE=image/jpeg:https://www.uszz.sk/wp-content/uploads/2025/09/SHF_47_SLIDER-1140x525-program.jpg
END:VEVENT
BEGIN:VEVENT
DTSTART;VALUE=DATE:20250926
DTEND;VALUE=DATE:20250929
DTSTAMP:20260424T151255
CREATED:20250908T045813Z
LAST-MODIFIED:20250908T045813Z
UID:19013-1758844800-1759103999@www.uszz.sk
SUMMARY:Cez Nadlak je...
DESCRIPTION:V Nadlaku v Rumunsku sa v dňoch 26. až 28. septembra 2025 uskutoční už 25. ročník prehliadky sólistov slovenskej ľudovej piesne pod názvom „Cez Nadlak je…“. Podujatie pozostáva z dvoch súťažných koncertov a záverečného galaprogramu.
URL:https://www.uszz.sk/event/cez-nadlak-je/
LOCATION:Nadlak\, Rumunsko
ATTACH;FMTTYPE=image/jpeg:https://www.uszz.sk/wp-content/uploads/2022/09/Cez-Nadlak-je.jpg
END:VEVENT
BEGIN:VEVENT
DTSTART;TZID=America/New_York:20250928T110000
DTEND;TZID=America/New_York:20250928T170000
DTSTAMP:20260424T151255
CREATED:20250618T082215Z
LAST-MODIFIED:20250618T082215Z
UID:18173-1759057200-1759078800@www.uszz.sk
SUMMARY:36. ročník českého a slovenského festivalu v Minnesote
DESCRIPTION:
URL:https://www.uszz.sk/event/36-rocnik-ceskeho-a-slovenskeho-festivalu-v-minnesote/
LOCATION:C.S.P.S. Hall\, 383 Michigan Street\, Saint Paul\, United States
ATTACH;FMTTYPE=image/png:https://www.uszz.sk/wp-content/uploads/2025/06/Sokol-Minnesota.png
END:VEVENT
END:VCALENDAR