BEGIN:VCALENDAR
VERSION:2.0
PRODID:-//USZZ - ECPv6.7.0//NONSGML v1.0//EN
CALSCALE:GREGORIAN
METHOD:PUBLISH
X-WR-CALNAME:USZZ
X-ORIGINAL-URL:https://www.uszz.sk
X-WR-CALDESC:Udalosti pre USZZ
REFRESH-INTERVAL;VALUE=DURATION:PT1H
X-Robots-Tag:noindex
X-PUBLISHED-TTL:PT1H
BEGIN:VTIMEZONE
TZID:Europe/Bratislava
BEGIN:DAYLIGHT
TZOFFSETFROM:+0100
TZOFFSETTO:+0200
TZNAME:CEST
DTSTART:20260329T010000
END:DAYLIGHT
BEGIN:STANDARD
TZOFFSETFROM:+0200
TZOFFSETTO:+0100
TZNAME:CET
DTSTART:20261025T010000
END:STANDARD
END:VTIMEZONE
BEGIN:VEVENT
DTSTART;TZID=Europe/Bratislava:20260228T180000
DTEND;TZID=Europe/Bratislava:20260301T010000
DTSTAMP:20260422T155109
CREATED:20260129T084418Z
LAST-MODIFIED:20260129T084418Z
UID:20611-1772301600-1772326800@www.uszz.sk
SUMMARY:1. Česko - slovenský ples
DESCRIPTION:
URL:https://www.uszz.sk/event/1-cesko-slovensky-ples/
LOCATION:Kenilworth\, United Kingdom
ATTACH;FMTTYPE=image/jpeg:https://www.uszz.sk/wp-content/uploads/2026/01/Ples_Czech-and-Slovak-Community-UK-C.I.C.jpg
END:VEVENT
BEGIN:VEVENT
DTSTART;TZID=Europe/Bratislava:20260310T180000
DTEND;TZID=Europe/Bratislava:20260310T180000
DTSTAMP:20260422T155109
CREATED:20260210T072100Z
LAST-MODIFIED:20260210T072100Z
UID:20685-1773165600-1773165600@www.uszz.sk
SUMMARY:Výstava ALBÍN BRUNOVSKÝ: Súborné dielo
DESCRIPTION:Pozývame vás na otvorenie výstavy ALBÍN BRUNOVSKÝ: Súborné dielo – jedinečnú príležitosť spoznať vizionársky svet jedného z najvýznamnejších slovenských umelcov. \nDátum: 10. marca 2026Čas: 18:00Miesto: Slovenský inštitút / Veľvyslanectvo Slovenskej republiky v Londýne25 Kensington Palace Gardens\, London \nHudobný program: Karol CsinoOsobitný hosť: Julia RadoszPoézia: Erik Ondrejíčka\, prednes Eva StaroňováKurátorská diskusia s Martinom VančomObčerstvenie
URL:https://www.uszz.sk/event/vystava-albin-brunovsky-suborne-dielo/
LOCATION:Londýn\, United Kingdom
ATTACH;FMTTYPE=image/jpeg:https://www.uszz.sk/wp-content/uploads/2026/02/626291451_18327011314220888_927878324711066219_n.jpg
END:VEVENT
BEGIN:VEVENT
DTSTART;TZID=Europe/Bratislava:20260325T200000
DTEND;TZID=Europe/Bratislava:20260325T220000
DTSTAMP:20260422T155109
CREATED:20260312T090602Z
LAST-MODIFIED:20260312T090602Z
UID:20837-1774468800-1774476000@www.uszz.sk
SUMMARY:Webinár Návrat domov na Slovensko – realita\, príležitosti a odvážne rozhodnutia
DESCRIPTION:Dávame do pozornosti podujatie Slovak Global Network: \nNávrat domov na Slovensko – realita\, príležitosti a odvážne rozhodnutiaMá návrat zmysel? A musí byť jedinou cestou?Pozývame vás na prvý z piatich webinárov\, ktorý otvorí tému návratu\, spolupráce a možností\, ako zostať prepojení so Slovenskom – nech žijete a pôsobíte kdekoľvek na svete.Pre koho je webinár určený? Pre tých\, ktorí zvažujú návrat. Pre tých\, ktorí chcú spolupracovať na diaľku. Pre tých\, ktorí chcú Slovensko posúvať zvonku. Pre každého\, kto cíti\, že vzťah k domovu sa dá budovať rôznymi spôsobmi.O čom budeme diskutovať? Reálne možnosti a podpora – VAIA\, Úrad pre Slovákov žijúcich v zahraničí\, LEAF Hlas komunity – Slovak PRO Skúsenosti z prvej ruky – osobné príbehy\, výzvy a praktické odporúčania od tých\, ktorí sa už vrátili Kedy: streda 25. marca 2026 | 20:00 – 22:00 CET Kde: ONLINE Registrácia: https://luma.com/m90xzebp___________________Webinár realizujeme s finančnou podporou Plánu obnovy a odolnosti SR v rámci výzvy na posilnenie vzťahov so slovenskou diaspórou (kód 10I02-03-V01).
URL:https://www.uszz.sk/event/webinar-navrat-domov-na-slovensko-realita-prilezitosti-a-odvazne-rozhodnutia/
LOCATION:online
ATTACH;FMTTYPE=image/jpeg:https://www.uszz.sk/wp-content/uploads/2026/03/646030059_1368741668614572_2329701473495951535_n.jpg
END:VEVENT
BEGIN:VEVENT
DTSTART;VALUE=DATE:20260327
DTEND;VALUE=DATE:20260406
DTSTAMP:20260422T155109
CREATED:20260312T132401Z
LAST-MODIFIED:20260312T132401Z
UID:20852-1774569600-1775433599@www.uszz.sk
SUMMARY:31. ročník festivalu DIDA
DESCRIPTION:Program na facebookovej stránke Divadlo Janka Čemana: https://www.facebook.com/photo/?fbid=1487472270050458&set=a.197177599079938
URL:https://www.uszz.sk/event/31-rocnik-festivalu-dida/
LOCATION:Pivnica\, Srbsko
ATTACH;FMTTYPE=image/jpeg:https://www.uszz.sk/wp-content/uploads/2026/03/648296517_1485266156937736_1992313381109843855_n.jpg
END:VEVENT
END:VCALENDAR