BEGIN:VCALENDAR
VERSION:2.0
PRODID:-//USZZ - ECPv6.7.0//NONSGML v1.0//EN
CALSCALE:GREGORIAN
METHOD:PUBLISH
X-WR-CALNAME:USZZ
X-ORIGINAL-URL:https://www.uszz.sk
X-WR-CALDESC:Udalosti pre USZZ
REFRESH-INTERVAL;VALUE=DURATION:PT1H
X-Robots-Tag:noindex
X-PUBLISHED-TTL:PT1H
BEGIN:VTIMEZONE
TZID:Europe/Bratislava
BEGIN:DAYLIGHT
TZOFFSETFROM:+0100
TZOFFSETTO:+0200
TZNAME:CEST
DTSTART:20250330T010000
END:DAYLIGHT
BEGIN:STANDARD
TZOFFSETFROM:+0200
TZOFFSETTO:+0100
TZNAME:CET
DTSTART:20251026T010000
END:STANDARD
BEGIN:DAYLIGHT
TZOFFSETFROM:+0100
TZOFFSETTO:+0200
TZNAME:CEST
DTSTART:20260329T010000
END:DAYLIGHT
BEGIN:STANDARD
TZOFFSETFROM:+0200
TZOFFSETTO:+0100
TZNAME:CET
DTSTART:20261025T010000
END:STANDARD
TZID:Europe/London
BEGIN:DAYLIGHT
TZOFFSETFROM:+0000
TZOFFSETTO:+0100
TZNAME:BST
DTSTART:20250330T010000
END:DAYLIGHT
BEGIN:STANDARD
TZOFFSETFROM:+0100
TZOFFSETTO:+0000
TZNAME:GMT
DTSTART:20251026T010000
END:STANDARD
BEGIN:DAYLIGHT
TZOFFSETFROM:+0000
TZOFFSETTO:+0100
TZNAME:BST
DTSTART:20260329T010000
END:DAYLIGHT
BEGIN:STANDARD
TZOFFSETFROM:+0100
TZOFFSETTO:+0000
TZNAME:GMT
DTSTART:20261025T010000
END:STANDARD
TZID:America/Chicago
BEGIN:DAYLIGHT
TZOFFSETFROM:-0600
TZOFFSETTO:-0500
TZNAME:CDT
DTSTART:20250309T080000
END:DAYLIGHT
BEGIN:STANDARD
TZOFFSETFROM:-0500
TZOFFSETTO:-0600
TZNAME:CST
DTSTART:20251102T070000
END:STANDARD
TZID:Europe/Brussels
BEGIN:DAYLIGHT
TZOFFSETFROM:+0100
TZOFFSETTO:+0200
TZNAME:CEST
DTSTART:20250330T010000
END:DAYLIGHT
BEGIN:STANDARD
TZOFFSETFROM:+0200
TZOFFSETTO:+0100
TZNAME:CET
DTSTART:20251026T010000
END:STANDARD
TZID:UTC
BEGIN:STANDARD
TZOFFSETFROM:+0000
TZOFFSETTO:+0000
TZNAME:UTC
DTSTART:20250101T000000
END:STANDARD
END:VTIMEZONE
BEGIN:VEVENT
DTSTART;TZID=Europe/Bratislava:20260228T150000
DTEND;TZID=Europe/Bratislava:20260228T150000
DTSTAMP:20260422T193244
CREATED:20251211T161722Z
LAST-MODIFIED:20251211T161722Z
UID:20279-1772290800-1772290800@www.uszz.sk
SUMMARY:5. ročník recitačnej súťaže Hviezdoslavova mašľa
DESCRIPTION:
URL:https://www.uszz.sk/event/5-rocnik-recitacnej-sutaze-hviezdoslavova-masla/
LOCATION:Mníchov
ATTACH;FMTTYPE=image/jpeg:https://www.uszz.sk/wp-content/uploads/2025/12/597569353_1167366312276174_244902599958132684_n.jpg
END:VEVENT
BEGIN:VEVENT
DTSTART;TZID=Europe/Bratislava:20260207T190000
DTEND;TZID=Europe/Bratislava:20260207T190000
DTSTAMP:20260422T193244
CREATED:20251211T201746Z
LAST-MODIFIED:20251211T201746Z
UID:20289-1770490800-1770490800@www.uszz.sk
SUMMARY:30. Slovenský bál
DESCRIPTION:
URL:https://www.uszz.sk/event/30-slovensky-bal/
LOCATION:Vratimov\, Czech Republic
ATTACH;FMTTYPE=image/jpeg:https://www.uszz.sk/wp-content/uploads/2025/12/IMG_4852.jpeg
END:VEVENT
BEGIN:VEVENT
DTSTART;TZID=Europe/Bratislava:20260207T180000
DTEND;TZID=Europe/Bratislava:20260207T180000
DTSTAMP:20260422T193244
CREATED:20260119T103655Z
LAST-MODIFIED:20260119T103655Z
UID:20524-1770487200-1770487200@www.uszz.sk
SUMMARY:Čabianska slovenská veselica
DESCRIPTION:
URL:https://www.uszz.sk/event/cabianska-slovenska-veselica/
LOCATION:Dom slovenskej kultúry v Békešskej Čabe\, Námestie Kossuta 10\, Békešská Čaba\, Maďarsko
ATTACH;FMTTYPE=image/jpeg:https://www.uszz.sk/wp-content/uploads/2026/01/Szlovak_bal_A4_2026.jpg
END:VEVENT
BEGIN:VEVENT
DTSTART;TZID=Europe/Bratislava:20260207T180000
DTEND;TZID=Europe/Bratislava:20260207T180000
DTSTAMP:20260422T193244
CREATED:20260119T090409Z
LAST-MODIFIED:20260119T090409Z
UID:20512-1770487200-1770487200@www.uszz.sk
SUMMARY:Reprezentačný ples Slovákov z Rumunska
DESCRIPTION:
URL:https://www.uszz.sk/event/reprezentacny-ples-slovakov-z-rumunska/
LOCATION:Bratislava\, Slovakia (Slovak Republic)
ATTACH;FMTTYPE=image/jpeg:https://www.uszz.sk/wp-content/uploads/2026/01/Ples_Spolok-Slovakov-z-Rumunska.jpg
END:VEVENT
BEGIN:VEVENT
DTSTART;TZID=Europe/Bratislava:20260207T140000
DTEND;TZID=Europe/Bratislava:20260207T173000
DTSTAMP:20260422T193244
CREATED:20260121T123237Z
LAST-MODIFIED:20260121T123237Z
UID:20568-1770472800-1770485400@www.uszz.sk
SUMMARY:Divadlo a karneval pre deti
DESCRIPTION:
URL:https://www.uszz.sk/event/divadlo-a-karneval-pre-deti/
LOCATION:Mníchov
ATTACH;FMTTYPE=image/jpeg:https://www.uszz.sk/wp-content/uploads/2026/01/619408715_1317426300188782_8343339069858702219_n.jpg
END:VEVENT
BEGIN:VEVENT
DTSTART;TZID=Europe/Bratislava:20260207T100000
DTEND;TZID=Europe/Bratislava:20260207T100000
DTSTAMP:20260422T193244
CREATED:20260119T103212Z
LAST-MODIFIED:20260119T103212Z
UID:20520-1770458400-1770458400@www.uszz.sk
SUMMARY:30 rokov Domu slovenskej kultúry
DESCRIPTION:
URL:https://www.uszz.sk/event/30-rokov-domu-slovenskej-kultury/
LOCATION:Dom slovenskej kultúry v Békešskej Čabe\, Námestie Kossuta 10\, Békešská Čaba\, Maďarsko
ATTACH;FMTTYPE=image/jpeg:https://www.uszz.sk/wp-content/uploads/2026/01/plakat_30_eves_szlovakhaz-1.jpg
END:VEVENT
BEGIN:VEVENT
DTSTART;VALUE=DATE:20260207
DTEND;VALUE=DATE:20260208
DTSTAMP:20260422T193244
CREATED:20251205T140252Z
LAST-MODIFIED:20251205T140252Z
UID:20211-1770422400-1770508799@www.uszz.sk
SUMMARY:Česko-slovenský ples
DESCRIPTION:
URL:https://www.uszz.sk/event/cesko-slovensky-ples/
LOCATION:Praha\, Czech Republic
ATTACH;FMTTYPE=image/jpeg:https://www.uszz.sk/wp-content/uploads/2025/12/34720.jpg
END:VEVENT
BEGIN:VEVENT
DTSTART;TZID=Europe/Bratislava:20260131T170000
DTEND;TZID=Europe/Bratislava:20260131T170000
DTSTAMP:20260422T193244
CREATED:20260129T133012Z
LAST-MODIFIED:20260129T133012Z
UID:20620-1769878800-1769878800@www.uszz.sk
SUMMARY:Zima s knihou 2026
DESCRIPTION:
URL:https://www.uszz.sk/event/zima-s-knihou-2026/
LOCATION:Stará Pazova\, Serbia
ATTACH;FMTTYPE=image/jpeg:https://www.uszz.sk/wp-content/uploads/2026/01/Zima-2026-SPazova.jpg
END:VEVENT
BEGIN:VEVENT
DTSTART;TZID=Europe/Bratislava:20260131T140000
DTEND;TZID=Europe/Bratislava:20260131T173000
DTSTAMP:20260422T193244
CREATED:20260121T122945Z
LAST-MODIFIED:20260121T122945Z
UID:20566-1769868000-1769880600@www.uszz.sk
SUMMARY:Fašiangy Zvonček: O 12 mesiačikoch
DESCRIPTION:
URL:https://www.uszz.sk/event/fasiangy-zvoncek-o-12-mesiacikoch/
LOCATION:Mníchov
ATTACH;FMTTYPE=image/jpeg:https://www.uszz.sk/wp-content/uploads/2026/01/618752202_1317426303522115_4791935079128631426_n.jpg
END:VEVENT
BEGIN:VEVENT
DTSTART;VALUE=DATE:20260131
DTEND;VALUE=DATE:20260202
DTSTAMP:20260422T193244
CREATED:20260120T065504Z
LAST-MODIFIED:20260120T065623Z
UID:20539-1769817600-1769990399@www.uszz.sk
SUMMARY:Ostatki - fašiangy v Krempachoch
DESCRIPTION:Dávame do pozornosti podujatie Fašiangy – ostatki 2026\, ktoré je súťažnou folklórnou prehliadkou jednotlivcov\, kolektívov a folklórnych súborov zo Spiša a Oravy.
URL:https://www.uszz.sk/event/ostatki-fasiangy-v-krempachoch/
LOCATION:Krempachy\, Poland
ATTACH;FMTTYPE=image/jpeg:https://www.uszz.sk/wp-content/uploads/2026/01/Zaproszenie-Fasiangy-2026.jpg
END:VEVENT
BEGIN:VEVENT
DTSTART;TZID=Europe/Bratislava:20260129T170000
DTEND;TZID=Europe/Bratislava:20260129T170000
DTSTAMP:20260422T193244
CREATED:20260129T133150Z
LAST-MODIFIED:20260129T133329Z
UID:20623-1769706000-1769706000@www.uszz.sk
SUMMARY:Zima s knihou
DESCRIPTION:
URL:https://www.uszz.sk/event/zima-s-knihou/
LOCATION:Báčsky Petrovec\, Serbia
ATTACH;FMTTYPE=image/jpeg:https://www.uszz.sk/wp-content/uploads/2026/01/Zima-2026-BPetrovec.jpg
END:VEVENT
BEGIN:VEVENT
DTSTART;TZID=Europe/Bratislava:20260128T193000
DTEND;TZID=Europe/Bratislava:20260128T193000
DTSTAMP:20260422T193244
CREATED:20260119T093803Z
LAST-MODIFIED:20260119T093803Z
UID:20515-1769628600-1769628600@www.uszz.sk
SUMMARY:Mysteria Buffa
DESCRIPTION:
URL:https://www.uszz.sk/event/mysteria-buffa/
LOCATION:Praha\, Czech Republic
ATTACH;FMTTYPE=image/jpeg:https://www.uszz.sk/wp-content/uploads/2026/01/MB_pozvanka_leden_3.jpg
END:VEVENT
BEGIN:VEVENT
DTSTART;TZID=Europe/Bratislava:20260126T180000
DTEND;TZID=Europe/Bratislava:20260126T180000
DTSTAMP:20260422T193244
CREATED:20260109T133346Z
LAST-MODIFIED:20260109T133346Z
UID:20451-1769450400-1769450400@www.uszz.sk
SUMMARY:Výstava obrazov Jána Mráza
DESCRIPTION:Výstava obrazov Jána Mráza sa koná v priestoroch radnice v Gräfelfingu v dňoch 26. 1. 2026 – 10. 2. 2026.
URL:https://www.uszz.sk/event/vystava-obrazov-jana-mraza/
LOCATION:Gräfelfing\, Germany
ATTACH;FMTTYPE=image/jpeg:https://www.uszz.sk/wp-content/uploads/2026/01/IMG-20260102-WA0003-002.jpg
END:VEVENT
BEGIN:VEVENT
DTSTART;TZID=Europe/London:20260124T190000
DTEND;TZID=Europe/London:20260124T190000
DTSTAMP:20260422T193244
CREATED:20251117T130645Z
LAST-MODIFIED:20251117T130645Z
UID:20040-1769281200-1769281200@www.uszz.sk
SUMMARY:11. Medzinárodný ples v Birminghame
DESCRIPTION:🎉 𝐂𝐳𝐞𝐜𝐡 & 𝐒𝐥𝐨𝐯𝐚𝐤 𝐂𝐥𝐮𝐛 𝐔𝐊 𝐕𝐚́𝐬 𝐬𝐫𝐝𝐞𝐜̌𝐧𝐞 𝐩𝐨𝐳𝐲́𝐯𝐚 𝐧𝐚 𝟏𝟏. 𝐌𝐞𝐝𝐳𝐢𝐧𝐚́𝐫𝐨𝐝𝐧𝐲́ 𝐩𝐥𝐞𝐬 𝐯 𝐁𝐢𝐫𝐦𝐢𝐧𝐠𝐡𝐚𝐦𝐞! 💖 \nV cene vstupenky je zahrnuté:\n✨ Welcome drink (Buck’s Fizz alebo pohárik destilátu)\n✨ Slávnostná 3-chodová večera:\n🥣 Krémová zeleninová polievka\n🦆 Kačka s knedlíkom a kapustou na anglický štýl 𝐚𝐥𝐞𝐛𝐨\n🥔 Vegetariánske jedlo (Sweet potato chick pea\, pumpkin seed falafel\, s drvenými zemiakmi\, sezónnou zeleninou a paradajkovou omáčkou)\n🍰 Zákusok & ☕ Káva\n✨ Polnočné občerstvenie (studený bufet)\n✨ Čarovné vystúpenie @𝐋𝐞𝐞 𝐉𝐨𝐬𝐞𝐩𝐡 𝐌𝐲𝐬𝐭𝐞𝐫𝐲\n✨ Profesionálne fotografie od 𝐒𝐰𝐞𝐞𝐝𝐨𝐯𝐜𝐢 𝐏𝐡𝐨𝐭𝐨𝐠𝐫𝐚𝐩𝐡𝐲\n✨ Živá hudba 𝐃𝐔𝐎 𝐁𝐀𝐍𝐃\n✨ DJ 𝐙𝐄𝐑𝐎 𝐋𝐄𝐎 \n💃🕺 Čaká Vás večer plný tanca\, hudby a zábavy – nezabudnite si obliecť niečo elegantné (black tie preferred). \n‼️ Prosíme\, neprinášajte si vlastný alkohol ‼️ \n𝐏𝐫𝐨𝐠𝐫𝐚𝐦 𝐯𝐞𝐜̌𝐞𝐫𝐚:\n18:30 Welcome drink & Reception\n19:45 Slávnostné otvorenie\n20:00 Servírovanie večere\n21:30 Živá hudba & DJ ZeroLeo\n23:00 Tombola & Polnočné občerstvenie\n00:00 Živá hudba & DJ ZeroLeo\n02:00 Last orders\n02:30 Bar closed\n03:00 Carriages\n(zmena programu vyhradená) \n🎟 𝐂𝐞𝐧𝐚 𝐥𝐢́𝐬𝐭𝐤𝐚: £65/osoba 🔥 – 𝑁𝐸𝑉𝑅𝐴𝑇𝑁𝐴́\n🎟 𝐎𝐝 𝟐𝟏:𝟑𝟎 (𝐛𝐞𝐳 𝐯𝐞𝐜̌𝐞𝐫𝐞 𝐚 𝐩𝐫𝐢́𝐩𝐢𝐭𝐤𝐮): £30/osoba 🔥 – 𝑁𝐸𝑉𝑅𝐴𝑇𝑁𝐴́ \n👉 Predaj lístkov do 𝟏𝟎.𝟎𝟏.𝟐𝟎𝟐𝟔 alebo do vypredania kapacity! \n💳 Platba na účet:\nCzech & Slovak Club UK CIC\nSort code: 20 07 82\nAcc. No: 33887480 \nPo zaplatení nám\, prosím\, pošlite e-mail na czech.slovak.uk@gmail.com\ns menami hostí a prípadnými požiadavkami na stravu. \nĎakujeme a tešíme sa na Vás! 🥳 \n 
URL:https://www.uszz.sk/event/11-medzinarodny-ples-v-birminghame/
LOCATION:Birmingham\, Birmingham\, Anglicko\, Spojené kráľovstvo
ATTACH;FMTTYPE=image/jpeg:https://www.uszz.sk/wp-content/uploads/2025/11/IMG_4471.jpeg
END:VEVENT
BEGIN:VEVENT
DTSTART;TZID=Europe/Bratislava:20260117T190000
DTEND;TZID=Europe/Bratislava:20260117T190000
DTSTAMP:20260422T193244
CREATED:20251205T135219Z
LAST-MODIFIED:20251205T135219Z
UID:20208-1768676400-1768676400@www.uszz.sk
SUMMARY:Rusínsky Juliánsky ples
DESCRIPTION:Vážení priatelia\, priaznivci Rusínov a milovníci zábavy\, dovoľte\, aby sme Vás pozvali na náš tradičný Juliánsky ples\, ktorý sa uskutoční 17. januára 2026. Využite tento jesenný čas na zakúpenie vstupeniek a darujte ich ako vianočný darček\, alebo pri inej príležitosti. \nTešíme sa na spoločné stretnutie s Vami.
URL:https://www.uszz.sk/event/rusinsky-juliansky-ples/
LOCATION:Praha\, Czech Republic
ATTACH;FMTTYPE=image/jpeg:https://www.uszz.sk/wp-content/uploads/2025/12/34719.jpg
END:VEVENT
BEGIN:VEVENT
DTSTART;VALUE=DATE:20260115
DTEND;VALUE=DATE:20260117
DTSTAMP:20260422T193244
CREATED:20260108T091943Z
LAST-MODIFIED:20260108T093945Z
UID:20431-1768435200-1768607999@www.uszz.sk
SUMMARY:Dolnozemská knižná žatva
DESCRIPTION:Dávame do pozornosti\, že v dňoch 15. – 16. januára 2026 sa uskutoční podujatie DOLNOZEMSKÁ KNIŽNÁ ŽATVA\, na ktorom budeme prezentovať knižné novinky dolnozemských Slovákov. Budú zastúpení Slováci z Maďarska\, Rumunska a Srbska. \nKde?   NÁRODNÉ OSVETOVÉ CENTRUM\, Bratislava Nám. SNP 12\, 1. posch. \nČas: \n11\,00 – 16\,00 – výstava knižných vydaní Slovákov z Maďarska\, Rumunska a Srbska. \n16\,00 – 18\,00 – prezentácie knižných noviniek: \nštvrtok\, 15.01.  – prezentujú Slováci z Maďarska a Srbska \npiatok\, 16.01. – prezentujú Slováci z Rumunska a Srbska \nPrezentácie moderuje: Mária Katarína Hrkľová \nVstup voľný.
URL:https://www.uszz.sk/event/dolnozemska-knizna-zatva/
ATTACH;FMTTYPE=image/jpeg:https://www.uszz.sk/wp-content/uploads/2026/01/plagat-dolnoz-knizna-zatva.jpeg
END:VEVENT
BEGIN:VEVENT
DTSTART;TZID=Europe/London:20251220T110000
DTEND;TZID=Europe/London:20251220T140000
DTSTAMP:20260422T193244
CREATED:20251111T080239Z
LAST-MODIFIED:20251111T080239Z
UID:19935-1766228400-1766239200@www.uszz.sk
SUMMARY:Vianočný workshop v Manchestri
DESCRIPTION:
URL:https://www.uszz.sk/event/vianocny-workshop-v-manchestri/
LOCATION:Manchester\, United Kingdom
ATTACH;FMTTYPE=image/jpeg:https://www.uszz.sk/wp-content/uploads/2025/11/571116080_122218235162248952_6646079990147322352_n.jpg
END:VEVENT
BEGIN:VEVENT
DTSTART;TZID=America/Chicago:20251220T100000
DTEND;TZID=America/Chicago:20251220T130000
DTSTAMP:20260422T193244
CREATED:20251219T160030Z
LAST-MODIFIED:20251219T160030Z
UID:20382-1766224800-1766235600@www.uszz.sk
SUMMARY:Sokol Chicago: Cookie Walk
DESCRIPTION:
URL:https://www.uszz.sk/event/sokol-chicago-cookie-walk/
LOCATION:Chicago\, United States
ATTACH;FMTTYPE=image/jpeg:https://www.uszz.sk/wp-content/uploads/2025/12/Cookie-walk.jpg
END:VEVENT
BEGIN:VEVENT
DTSTART;VALUE=DATE:20251220
DTEND;VALUE=DATE:20251221
DTSTAMP:20260422T193244
CREATED:20251211T205103Z
LAST-MODIFIED:20251211T205103Z
UID:20293-1766188800-1766275199@www.uszz.sk
SUMMARY:Vianočné trhy v Selenči
DESCRIPTION:
URL:https://www.uszz.sk/event/vianocne-trhy-v-selenci/
LOCATION:Selenča\, Serbia
ATTACH;FMTTYPE=image/jpeg:https://www.uszz.sk/wp-content/uploads/2025/12/IMG_4853.jpeg
END:VEVENT
BEGIN:VEVENT
DTSTART;TZID=Europe/Bratislava:20251214T170000
DTEND;TZID=Europe/Bratislava:20251214T170000
DTSTAMP:20260422T193244
CREATED:20251205T133844Z
LAST-MODIFIED:20251205T133844Z
UID:20202-1765731600-1765731600@www.uszz.sk
SUMMARY:Vianoce s Limborou
DESCRIPTION:Milí priatelia\, srdečne pozývame na 36. ročník nášho najstaršieho programu\, ktorý je venovaný krásnym zvykom a obyčajom predvianočného času z rôznych regiónov Slovenska a je spojený s ochutnávkou typických vianočných dobrôt (kapustnica\, oblátky… ) \n📍Divadlo U Hasičů\, 📅 sobota 14. 12. 2025\, ⏰ 17: 00 \nV programe okrem FS Limbora\, Limborka a Malá Limborka vystúpia aj ďalší hostia\, ktorých Vám postupne prezradíme. \nPredaj lískov: online divadlo a pokladňa divadla \nRezervácia s platbou je možná do 10.12. na: limbora@gmail.com (predmet Lístky Vianoce s Limborou) \nTešíme sa Vás 😊
URL:https://www.uszz.sk/event/vianoce-s-limborou-3/
LOCATION:Praha\, Czech Republic
ATTACH;FMTTYPE=image/png:https://www.uszz.sk/wp-content/uploads/2025/12/Snimka-obrazovky-2025-12-05-143109.png
END:VEVENT
BEGIN:VEVENT
DTSTART;TZID=Europe/Brussels:20251214T110000
DTEND;TZID=Europe/Brussels:20251214T150000
DTSTAMP:20260422T193244
CREATED:20251205T123944Z
LAST-MODIFIED:20251205T123944Z
UID:20198-1765710000-1765724400@www.uszz.sk
SUMMARY:Vianoce predo dvermi
DESCRIPTION:Všetkých Vás srdečne pozývame na naše tradičné podujatie Vianoce predo dvermi\, ktoré sa uskutoční v nedeľu 14. decembra 2024 od 11.00 do 15.00 v priestoroch pod susedným kostolom (Rue le Corrège 17). \nPodujatie otvorí koledovanie detí nielen z SKM\, vystúpia súbory Rodinka a Ako doma a následne si budete môcť vychutnať tradičné vianočné pochúťky (kapustnica\, lokše\, koláče\, atď) a zakúpiť si vianočné výrobky (oblátky\, med) vo vianočnom bazáre. Výťažok z podujatia poputuje na projekt Dobrá novina. Viac o podporovaných projektoch v rámci Dobrej noviny môžete nájsť na webovej stránke dobranovina.sk. \nToto podujatie je organizované dobrovoľníkmi v rámci SKM\, radi Vás privítame medzi nami. Sála a kapustnica sa budú pripravovať deň vopred\, v sobotu 13. decembra\, príďte sa zapojiť a podporiť dobrú vec. Detaily Vám radi poskytnú členovia misijnej rady buď emailom alebo osobne po nedeľnej svätej omši. \nĎakujeme! \n 
URL:https://www.uszz.sk/event/vianoce-predo-dvermi/
LOCATION:Brusel\, Belgium
ATTACH;FMTTYPE=image/jpeg:https://www.uszz.sk/wp-content/uploads/2025/12/A4-VPD2025-1090x1536-1.jpeg
END:VEVENT
BEGIN:VEVENT
DTSTART;TZID=Europe/Bratislava:20251213T190000
DTEND;TZID=Europe/Bratislava:20251213T190000
DTSTAMP:20260422T193244
CREATED:20251205T140858Z
LAST-MODIFIED:20251205T141340Z
UID:20214-1765652400-1765652400@www.uszz.sk
SUMMARY:Slux vianočná párty
DESCRIPTION:Milí priatelia\, pozývame vás na našu vianočnú party v štýle 70. rokov\, ktorá sa uskutoční priamo v centre mesta v Bar Grand Place na Place Guillaume II (23 rue du Fossé) v sobotu 13. 12. od 19\,00. Máme tam rezervovanú zadnú miestnosť\, výška vstupného je dobrovoľná a platí sa na mieste. \nA pozor\, vystúpi aj kapela Hala Balla Band\, ktorú už poznáte z našej letnej party! \nTešíme sa na vaše 70s outfity! \nZáujemci zapíšte sa čím skôr do tejto tabuľky docs.google.com/spreadsheets/d/1W7VnLFu63_uHTvRT2TA3-RXFu3M-1ngtg_SYLctnvQA/edit?gid=696128516#gid=696128516 s označením\, či plánujete aj večerať (podnik potrebuje mať prehľad\, aby sa vedeli pripraviť). Menu je v prílohe. \nVáš Slux
URL:https://www.uszz.sk/event/slux-vianocna-party/
LOCATION:Place Guillaume\, Luxembourg
ATTACH;FMTTYPE=image/jpeg:https://www.uszz.sk/wp-content/uploads/2025/12/34723.jpg
END:VEVENT
BEGIN:VEVENT
DTSTART;TZID=Europe/Bratislava:20251213T150000
DTEND;TZID=Europe/Bratislava:20251213T150000
DTSTAMP:20260422T193244
CREATED:20251211T162238Z
LAST-MODIFIED:20251211T162238Z
UID:20282-1765638000-1765638000@www.uszz.sk
SUMMARY:18. bienále slovenských výtvarníkov v Srbsku
DESCRIPTION:
URL:https://www.uszz.sk/event/18-bienale-slovenskych-vytvarnikov-v-srbsku/
LOCATION:Báčsky Petrovec\, Serbia
ATTACH;FMTTYPE=image/jpeg:https://www.uszz.sk/wp-content/uploads/2025/12/pozvanka-finalno-scaled.jpg
END:VEVENT
BEGIN:VEVENT
DTSTART;TZID=UTC:20251207T150000
DTEND;TZID=UTC:20251207T180000
DTSTAMP:20260422T193244
CREATED:20251105T135215Z
LAST-MODIFIED:20251105T135252Z
UID:19856-1765119600-1765130400@www.uszz.sk
SUMMARY:Mikuláš v Oxforde
DESCRIPTION:Czech & Slovak Club UK Oxford v spolupráci s Úradom pre Slovákov žijúcich v zahraničí Vás srdečne pozýva na privítanie sv. Mikuláša.\nAko každý rok\, ani tento rok nebude chýbať varené vínko\, tvorivé dielničky pre deti a dobrá zábava v znení CZ/SK hitov.\nBalíčky\, kvôli alergiám\, prosíme rodičov pripraviť doma a priniesť so sebou.\nA ako sme to zvykli robiť aj minulé roky\, budeme sa tešiť na sladké a slané maškrty od každej rodiny\, aby sme si mali čo zahryznúť k varenému vínku.\nCena je £5 za osobu a v deň akcie £8 za osobu.(rátajú sa aj rodičia)\, deti do 1. roka zdarma.\nPočet miest je limitovaný.\n\nRegistrácia:https://forms.gle/Z5XfKYc8cDxyqfq17\nĎakujeme Vám za včasné prihlásenie sa – uľahčujete nám tak organizáciu.\n\nPlatby prosíme posielať na účet:Czech & Slovak Club UK CICaccount number: 50870617sort code: 20-07-82\n\nĎakujeme!
URL:https://www.uszz.sk/event/mikulas-v-oxforde/
LOCATION:Oxford\, United Kingdom
ATTACH;FMTTYPE=image/jpeg:https://www.uszz.sk/wp-content/uploads/2025/11/Mikulas-v-Oxforde.jpg
END:VEVENT
BEGIN:VEVENT
DTSTART;TZID=America/Chicago:20251207T150000
DTEND;TZID=America/Chicago:20251207T150000
DTSTAMP:20260422T193244
CREATED:20251204T221121Z
LAST-MODIFIED:20251204T221135Z
UID:20180-1765119600-1765119600@www.uszz.sk
SUMMARY:Vianočný koncert v  Chicagu
DESCRIPTION:
URL:https://www.uszz.sk/event/vianocny-koncert-v-chicagu/
LOCATION:Chicago\, United States
ATTACH;FMTTYPE=image/jpeg:https://www.uszz.sk/wp-content/uploads/2025/12/1000024221.jpg
END:VEVENT
BEGIN:VEVENT
DTSTART;TZID=Europe/London:20251207T150000
DTEND;TZID=Europe/London:20251207T150000
DTSTAMP:20260422T193244
CREATED:20251110T165325Z
LAST-MODIFIED:20251110T165325Z
UID:19919-1765119600-1765119600@www.uszz.sk
SUMMARY:Mikuláš v Brightone
DESCRIPTION:
URL:https://www.uszz.sk/event/mikulas-v-brightone/
LOCATION:Brighton\, United Kingdom
ATTACH;FMTTYPE=image/jpeg:https://www.uszz.sk/wp-content/uploads/2025/11/IMG_4367.jpeg
END:VEVENT
BEGIN:VEVENT
DTSTART;TZID=Europe/London:20251207T143000
DTEND;TZID=Europe/London:20251207T163000
DTSTAMP:20260422T193244
CREATED:20251114T120134Z
LAST-MODIFIED:20251204T221702Z
UID:20004-1765117800-1765125000@www.uszz.sk
SUMMARY:Mikuláš vo Warwicku
DESCRIPTION:
URL:https://www.uszz.sk/event/mikulas-vo-warwicku/
LOCATION:Warvick\, Warvick\, United Kingdom
ATTACH;FMTTYPE=image/jpeg:https://www.uszz.sk/wp-content/uploads/2025/11/IMG_4379.jpeg
END:VEVENT
BEGIN:VEVENT
DTSTART;TZID=Europe/Bratislava:20251206T180000
DTEND;TZID=Europe/Bratislava:20251206T180000
DTSTAMP:20260422T193244
CREATED:20251111T063753Z
LAST-MODIFIED:20251204T221359Z
UID:19924-1765044000-1765044000@www.uszz.sk
SUMMARY:Korene nás spájajú – dobročinný koncert pre Emku z Kysáča
DESCRIPTION:Korene nás spájajú – dobročinný koncert pre Emku z Kysáča Združenie spolkov dolnozemských Slovákov srdečne pozýva všetkých priateľov\, krajanov a dobrých ľudí na dobročinný koncert pre malú Emku z Kysáča\, ktorá statočne bojuje s ťažkou chorobou.Podujatie nesie symbolický názov „Korene nás spájajú“ – lebo veríme\, že práve spolupatričnosť\, empatia a láska dokážu priniesť svetlo aj tam\, kde je tma.Výťažok bude použitý na pomoc Emke.Kontaktná osoba: Katarína Koňariková  +421 907 772 130spolokssb@gmail.com
URL:https://www.uszz.sk/event/korene-nas-spajaju-dobrocinny-koncert-pre-emku-z-kysaca/
LOCATION:Bratislava\, Slovakia (Slovak Republic)
ATTACH;FMTTYPE=image/png:https://www.uszz.sk/wp-content/uploads/2025/11/Dobrocinny-koncert.png
END:VEVENT
BEGIN:VEVENT
DTSTART;TZID=UTC:20251206T163000
DTEND;TZID=UTC:20251206T190000
DTSTAMP:20260422T193244
CREATED:20251105T122123Z
LAST-MODIFIED:20251204T221846Z
UID:19839-1765038600-1765047600@www.uszz.sk
SUMMARY:St. Nicolas Day/ Mikuláš
DESCRIPTION:
URL:https://www.uszz.sk/event/st-nicolas-day-mikulas/
LOCATION:Manchester\, United Kingdom
ATTACH;FMTTYPE=image/jpeg:https://www.uszz.sk/wp-content/uploads/2025/11/577043020_1143699564517616_3499425702811291302_n.jpg
END:VEVENT
BEGIN:VEVENT
DTSTART;TZID=Europe/Bratislava:20251206T163000
DTEND;TZID=Europe/Bratislava:20251206T163000
DTSTAMP:20260422T193244
CREATED:20251204T220126Z
LAST-MODIFIED:20251204T220126Z
UID:20176-1765038600-1765038600@www.uszz.sk
SUMMARY:Mikuláš v Berne
DESCRIPTION:
URL:https://www.uszz.sk/event/mikulas-v-berne/
LOCATION:Bern\, Switzerland
ATTACH;FMTTYPE=image/png:https://www.uszz.sk/wp-content/uploads/2025/12/Snimka-obrazovky-2025-12-04-225725.png
END:VEVENT
END:VCALENDAR