BEGIN:VCALENDAR
VERSION:2.0
PRODID:-//USZZ - ECPv6.7.0//NONSGML v1.0//EN
CALSCALE:GREGORIAN
METHOD:PUBLISH
X-WR-CALNAME:USZZ
X-ORIGINAL-URL:https://www.uszz.sk
X-WR-CALDESC:Udalosti pre USZZ
REFRESH-INTERVAL;VALUE=DURATION:PT1H
X-Robots-Tag:noindex
X-PUBLISHED-TTL:PT1H
BEGIN:VTIMEZONE
TZID:Europe/London
BEGIN:DAYLIGHT
TZOFFSETFROM:+0000
TZOFFSETTO:+0100
TZNAME:BST
DTSTART:20260329T010000
END:DAYLIGHT
BEGIN:STANDARD
TZOFFSETFROM:+0100
TZOFFSETTO:+0000
TZNAME:GMT
DTSTART:20261025T010000
END:STANDARD
TZID:Europe/Bratislava
BEGIN:DAYLIGHT
TZOFFSETFROM:+0100
TZOFFSETTO:+0200
TZNAME:CEST
DTSTART:20260329T010000
END:DAYLIGHT
BEGIN:STANDARD
TZOFFSETFROM:+0200
TZOFFSETTO:+0100
TZNAME:CET
DTSTART:20261025T010000
END:STANDARD
END:VTIMEZONE
BEGIN:VEVENT
DTSTART;TZID=Europe/London:20260502T103000
DTEND;TZID=Europe/London:20260606T103000
DTSTAMP:20260422T192753
CREATED:20260422T065854Z
LAST-MODIFIED:20260422T071603Z
UID:21101-1777717800-1780741800@www.uszz.sk
SUMMARY:SVCSM piknik
DESCRIPTION:
URL:https://www.uszz.sk/event/svcsm-piknik/
LOCATION:Wellfield Junior School\, Dumber LN\, Sale M33 5QX\, United Kingdom
ATTACH;FMTTYPE=image/png:https://www.uszz.sk/wp-content/uploads/2026/04/piknik-2026.png
END:VEVENT
BEGIN:VEVENT
DTSTART;VALUE=DATE:20260516
DTEND;VALUE=DATE:20260517
DTSTAMP:20260422T192753
CREATED:20260204T053829Z
LAST-MODIFIED:20260204T053829Z
UID:20647-1778889600-1778975999@www.uszz.sk
SUMMARY:30. Detská prehliadka slovenského folklóru v Chorvátsku
DESCRIPTION:
URL:https://www.uszz.sk/event/30-detska-prehliadka-slovenskeho-folkloru-v-chorvatsku/
LOCATION:Međurić\, Croatia (Local Name: Hrvatska)
ATTACH;FMTTYPE=image/png:https://www.uszz.sk/wp-content/uploads/2026/02/Snimka-obrazovky-2026-02-04-063221.png
END:VEVENT
BEGIN:VEVENT
DTSTART;VALUE=DATE:20260605
DTEND;VALUE=DATE:20260608
DTSTAMP:20260422T192753
CREATED:20260312T134718Z
LAST-MODIFIED:20260312T134718Z
UID:20859-1780617600-1780876799@www.uszz.sk
SUMMARY:32. Prehliadka slovenskej detskej divadelnej tvorby 3 x Ď
DESCRIPTION:
URL:https://www.uszz.sk/event/32-prehliadka-slovenskej-detskej-divadelnej-tvorby-3-x-d/
LOCATION:Stará Pazova\, Serbia
ATTACH;FMTTYPE=image/png:https://www.uszz.sk/wp-content/uploads/2026/03/Titulna-fotka-44.png
END:VEVENT
BEGIN:VEVENT
DTSTART;VALUE=DATE:20260616
DTEND;VALUE=DATE:20260618
DTSTAMP:20260422T192753
CREATED:20260312T090934Z
LAST-MODIFIED:20260312T090934Z
UID:20840-1781568000-1781740799@www.uszz.sk
SUMMARY:Konferencia PRACOVNÁ MIGRÁCIA A JEJ KULTÚRNE SPOLOČENSKÉ KONTEXTY
DESCRIPTION:Ústav manažmentu kultúry a turizmu\, kulturológie a etnológie Filozofickej fakulty Univerzity Konštantína Filozofa v Nitre \nsi Vás dovoľuje pozvať na medzinárodnú vedeckú konferenciu pod názvom \nPRACOVNÁ MIGRÁCIA A JEJ KULTÚRNE SPOLOČENSKÉ KONTEXTY\n16. – 17. júna 2026 \n\n\n\n\n\nKonferencia sa uskutoční pod záštitou prof. PhDr. Martina Hetényiho\, PhD. – dekana Filozofickej fakulty Univerzity Konštantína Filozofa v Nitre. \nHlavný organizátor: Ústav manažmentu kultúry a turizmu\, kulturológie a etnológie\, Filozofická fakulta Univerzity Konštantína Filozofa v Nitre \nSpoluorganizátor: Ústav sociológie\, Fakulta sociálnych vied Sliezskej univerzity v Katoviciach (Poľsko) \nPracovná migrácia je dnes jedným z najvýznamnejších hybných mechanizmov globálnej ekonomiky\, sociálnej a spoločenskej transformácie. Predstavuje dynamický jav\, ktorý kladie nároky na legislatívu\, trh práce\, spoločenskú kohéziu aj individuálnu adaptáciu. Medzinárodná vedecká konferencia sa usiluje o hĺbkovú a multidisciplinárnu analýzu tohto fenoménu\, pričom osobitnú pozornosť venuje jeho kultúrnym a spoločenským dôsledkom. \nKonferenciu organizuje Ústav manažmentu kultúry a turizmu\, kulturológie a etnológie Filozofickej fakulty Univerzity Konštantína Filozofa v Nitre ako súčasť projektu APVV-23-0358 pod názvom „Pracovná migrácia z Rumunska\, Srbska a Ukrajiny na Slovensko a jej kultúrne a spoločenské dôsledky“. \nPozývame akademikov\, výskumníkov\, tvorcov politík\, zástupcov mimovládnych organizácií a lokálnej správy\, aby prispeli svojimi poznatkami a skúsenosťami\, ktoré pomôžu vyplniť prázdne miesto v oblasti poznania celospoločenských dôsledkov pracovnej migrácie. Pokúsime sa otvoriť priestor pre kritickú reflexiu\, porovnávanie lokálnych\, národných a medzinárodných skúseností a formulovanie prakticky aplikovateľných riešení pre efektívne riadenie a pochopenie migračných procesov. \n\n\n\n\n\n\nCiele konferencie: \n\nMapovať a analyzovať aktuálne legislatívne rámce a administratívne procesy ovplyvňujúce pracovnú migráciu a navrhnúť odporúčania pre ich zefektívnenie.\nSkúmať a hodnotiť dopady pracovnej migrácie na hostiteľské krajiny aj krajiny pôvodu z ekonomického\, sociálneho\, ale najmä kultúrneho a celospoločenského hľadiska.\nPodporiť kritickú reflexiu naratívov a diskurzov o pracovnej migrácii a jej vplyve na obyvateľstvo a spoločnosť.\nPredstaviť a analyzovať adaptačné\, akulturačné a integračné stratégie pracovných migrantov a ich rodín\, vrátane úlohy komunitného života\, kultúrnych aktivít\, majoritno-minoritných a transnacionálnych vzťahov.\nAnalyzovať špecifiká pracovnej migrácie v kontexte Slovenska\, so zameraním na cudzincov na slovenskom trhu práce\, fenomén zahraničných absolventov slovenských škôl a zahraničných Slovákov ako pracovných migrantov.\n\n\n\n\n\n\n\n\nForma a miesto konania konferencie: kombinovaná – prezenčná a online \nTermín konania konferencie: 16. – 17. júna 2026 \nMiesto konania: Univerzita Konštantína Filozofa v Nitre (presná adresa bude potvrdená v apríli 2026) \nOnline registrácia účastníkov: do 31. marca 2026 \nTermín potvrdenia akceptácie prihlášky: do 12. apríla 2026 \nTermín zaslania plnej verzie príspevku do zborníka: do 20. júna 2026 (na adresu: konfumktke@gmail.com) \nRokovací jazyk a jazyk príspevkov: slovenčina\, čeština\, poľština\, angličtina \nKonferenčný poplatok: bez poplatku (vydanie zborníka a občerstvenie je hradené z prostriedkov projektu APVV; ubytovanie\, stravu a cestovné náklady si hradia účastníci sami) \nVýstup z konferencie: Recenzovaný zborník príspevkov v printovej aj online forme (publikovaný v roku 2026) \nOnline prihláška \n\n\nVedecký výbor konferencie:\nDoc. Mgr. Silvia Letavajová\, PhD. – Ústav manažmentu kultúry a turizmu\, kulturológie a etnológie\, Filozofická fakulta Univerzity Konštantína Filozofa v Nitre\, Slovensko\nProf. PhDr. Boris Michalík\, PhD. – Ústav manažmentu kultúry a turizmu\, kulturológie a etnológie\, Filozofická fakulta Univerzity Konštantína Filozofa v Nitre\, Slovensko\nDoc. PhDr. Monika Štrbová\, PhD. – Ústav manažmentu kultúry a turizmu\, kulturológie a etnológie\, Filozofická fakulta Univerzity Konštantína Filozofa v Nitre\, Slovensko\nDr. Rafał Cekiera\, Prof. UŚ – Ústav sociológie\, Fakulta sociálnych vied Sliezskej univerzity v Katoviciach\, Poľsko\nProf. Dr. Daniela Marčoková – Oddelenie slovakistiky\, Filozofická fakulta Univerzity v Novom Sade\, Srbsko\nProf. PhDr. Alexandra Bitušíková\, CSc. – Katedra sociológie a sociálnej antropológie\, Filozofická fakulta Univerzity Mateja Bela v Banskej Bystrici\nDoc. PhDr. Radoslav Štefančík\, PhD. – Katedra interkultúrnej komunikácie\, Fakulta aplikovaných jazykov\, Ekonomická univerzita v Bratislave\, Slovensko\nRNDr. Boris Divinský – nezávislý expert\, Slovensko \nOrganizačný výbor konferencie:\nDoc. Mgr. Silvia Letavajová\, PhD.\nProf. Mgr. Miroslav Ballay\, PhD.\nDoc. PhDr. Monika Štrbová\, PhD.\nPhDr. Michal Kurpaš\, PhD.\nPhDr. Katarína Kompasová\, PhD.\nPhDr. Roman Zima\, PhD.\nPaedDr. Andrea Molnárová\, PhD.\nMgr. Jana Sollárová\nMgr. Ljudmyla Trubinova\nMgr. Adam Slovák \n  \n\n\n\n\n\n\n\nHlavné tematické okruhy: \nVedecký výbor konferencie uvíta príspevky\, ktoré nadväzujú na širšie teoretické rámce a konkrétne výskumné otázky v rámci nasledovných oblastí (ale nielen nich): \n\n\n\n\n\n\n\nI. Rámce a riadenie migrácie\n1. Legislatívne a administratívne kontexty pracovnej migrácie\nŠtúdium povoľovacích procesov\, udeľovania víz\, uznávania kvalifikácií a bariér\, ktorým čelia pracovní migranti a zamestnávatelia.\n2. Aktivity a angažovanosť lokálnych organizácií a inštitúcií a občianskej spoločnosti\nÚloha neziskových organizácií\, miestnych samospráv alebo cirkevných organizácií pri podpore integrácie a práv migrantov. Mapovanie nástrojov a aktivít lokálnych inštitúcií\, analýza dostupnosti ich aktivít a efektivity.\n3. Pracovní migranti očami zamestnávateľov\nSkúsenosti a postoje zamestnávateľov. Pohľad firiem na nábor\, udržanie a integráciu zahraničných pracovníkov; manažment diverzity a riešenie kultúrnych rozdielov na pracovisku.\n4. Cudzinci na slovenskom trhu práce\nŠpecifiká slovenského prostredia\, analýza sektorov s najvyššou mierou zamestnávania cudzincov\, regulácia.\n\nII. Spoločenská reakcia a naratívy\n\n5. Postoje majoritného obyvateľstva k pracovnej migrácii\nZistenie názorových orientácií bežného obyvateľstva\, mienkotvorných osobností a ďalších skupín obyvateľstva voči migrantom a pracovným migrantom\, vrátane miery sociálneho dištancu. Výskum percepcií\, strachu a dôvery; faktory ovplyvňujúce prijatie migrantov.\n6. Pracovná migrácia v politických naratívoch\nAnalýza diskurzu politických strán a lídrov vo vzťahu k migrácií a pracovnej migrácii; vplyv na volebné správanie a tvorbu politík. Vplyv politického diskurzu na postoje k migrantom\, najmä v kontexte rozdielneho vnímania občanov EÚ a tzv. tretích krajín.\n7. Mediálne prezentácie pracovnej migrácie\nFormovanie verejnej mienky o migrácii a pracovnej migrácii médiami; analýza stereotypov a etika spravodajstva. \nIII. Dopady\, integrácia a transnacionálny rozmer\n8. Ekonomické aspekty pracovnej migrácie\nPrínosy a náklady migrácie pre hostiteľské krajiny; daňové a sociálne systémy; dopady na mzdy a zamestnanosť domácich pracovníkov. \n\n\n9. Dopady pracovnej migrácie na krajinu pôvodu\nAnalýza remitencií\, ich vplyv na regionálny rozvoj a rodiny migrantov; prenos zručností a vedomostí (brain gain)\, vplyv na rodinné štruktúry a lokálny rozvoj. Analýza kultúrnych a spoločenských dopadov pracovnej migrácie na krajiny pôvodu migrantov\, osobitne na príklade slovenských krajanských komunít v zahraničí.\n10. Adaptačné\, akulturačné a integračné stratégie pracovných migrantov\nIndividuálne a kolektívne stratégie pre život v novej krajine\, napríklad v oblasti pracovného uplatnenia\, vzdelávania\, komunikácie alebo bývania.\n11. Rodina\, gender a identita pracovných migrantov\nRozhodovanie o migrácii v rodinnom kontexte\, kontexte rodu a identity\, rozdelenie rolí\, vytváranie nových identít v transnacionálnom priestore.\n12. Transnacionálne vzťahy vznikajúce na základe pracovnej migrácie\nVäzby s domovom; nadnárodné komunity a ich význam. Analýza sociálnych sietí\, ktoré migranti vytvárajú medzi krajinou pôvodu a hostiteľskou krajinou.\n13. Komunitný život pracovných migrantov\nVznik a funkcia etnických\, kultúrnych\, sociálnych a iných typov komunít\, ktoré vytvárajú pracovní migranti; ich sociálna podpora a vplyv na integráciu. Skúmanie modelov komunitného života migrantov.\n\nIV. Špecifické skupiny a teória\n14. Kultúrne\, umelecké a spoločenské aktivity pracovných migrantov\nÚloha kultúry a umenia v procese participácie na hostiteľskej kultúre a udržiavaní väzieb s krajinou pôvodu. Kultúra ako prostriedok sebavyjadrenia\, integrácie a dialógu.\n15. Utečenci – študenti – pracovní migranti (zmena statusu a pohyb medzi kategóriami)\nSkúmanie mobility v rámci migračných statusov a s tým súvisiacich výziev.\n16. Zahraniční Slováci ako pracovní migranti\nŠpecifická pozícia a skúsenosti zahraničných Slovákov\, ktorí migrujú za prácou.\n17. Zahraniční absolventi škôl a ich uplatnenie na trhu práce\nVýzvy a bariéry v uplatňovaní zahraničných absolventov škôl na trhu práce. Dopady vzdelávacej politiky na pracovnú migráciu.\n18. Migračné teórie\nKritické zhodnotenie a aplikácia existujúcich teórií na súčasné migračné javy. \n\n\n\n\n\n\n\nTešíme sa na stretnutie.  \nDokumenty na stiahnutie na webe katedry: Konferencia
URL:https://www.uszz.sk/event/konferencia-pracovna-migracia-a-jej-kulturne-spolocenske-kontexty/
LOCATION:Nitra\, Slovakia (Slovak Republic)
ATTACH;FMTTYPE=image/png:https://www.uszz.sk/wp-content/uploads/2026/02/Titulna-fotka-34.png
END:VEVENT
BEGIN:VEVENT
DTSTART;VALUE=DATE:20260620
DTEND;VALUE=DATE:20260622
DTSTAMP:20260422T192753
CREATED:20260205T085250Z
LAST-MODIFIED:20260205T085250Z
UID:20651-1781913600-1782086399@www.uszz.sk
SUMMARY:32. Detský folklórny festival Zlatá brána
DESCRIPTION:
URL:https://www.uszz.sk/event/32-detsky-folklorny-festival-zlata-brana/
LOCATION:Kysáč\, Serbia
ATTACH;FMTTYPE=image/jpeg:https://www.uszz.sk/wp-content/uploads/2026/02/zlata_brana_1-1.jpg
END:VEVENT
END:VCALENDAR