BEGIN:VCALENDAR
VERSION:2.0
PRODID:-//USZZ - ECPv6.7.0//NONSGML v1.0//EN
CALSCALE:GREGORIAN
METHOD:PUBLISH
X-WR-CALNAME:USZZ
X-ORIGINAL-URL:https://www.uszz.sk
X-WR-CALDESC:Udalosti pre USZZ
REFRESH-INTERVAL;VALUE=DURATION:PT1H
X-Robots-Tag:noindex
X-PUBLISHED-TTL:PT1H
BEGIN:VTIMEZONE
TZID:Europe/Bratislava
BEGIN:DAYLIGHT
TZOFFSETFROM:+0100
TZOFFSETTO:+0200
TZNAME:CEST
DTSTART:20240331T010000
END:DAYLIGHT
BEGIN:STANDARD
TZOFFSETFROM:+0200
TZOFFSETTO:+0100
TZNAME:CET
DTSTART:20241027T010000
END:STANDARD
BEGIN:DAYLIGHT
TZOFFSETFROM:+0100
TZOFFSETTO:+0200
TZNAME:CEST
DTSTART:20250330T010000
END:DAYLIGHT
BEGIN:STANDARD
TZOFFSETFROM:+0200
TZOFFSETTO:+0100
TZNAME:CET
DTSTART:20251026T010000
END:STANDARD
END:VTIMEZONE
BEGIN:VEVENT
DTSTART;VALUE=DATE:20250120
DTEND;VALUE=DATE:20250208
DTSTAMP:20260425T181046
CREATED:20250203T144528Z
LAST-MODIFIED:20250203T144545Z
UID:16977-1737331200-1738972799@www.uszz.sk
SUMMARY:Výstava Kovačica
DESCRIPTION:Výstava KOVAČICA predstaví jedinečné insitné umenie Slovákov z Vojvodiny\, ktoré bolo v decembri 2024 zapísané do zoznamu UNESCO. Diela zo súkromných zbierok zachytávajú život\, tradície a remeslá krajanov v Srbsku. Výstava bude v Galérii Starý Avion od 20. januára do 7. februára 2025. \n\nViac info na webe Galérie Starý Avion: Výstava Kovačica
URL:https://www.uszz.sk/event/16977/
LOCATION:Galéria Starý Avion\, Bratislava
ATTACH;FMTTYPE=image/png:https://www.uszz.sk/wp-content/uploads/2025/02/plagat-kovacica.png
END:VEVENT
BEGIN:VEVENT
DTSTART;TZID=Europe/Bratislava:20250118T160000
DTEND;TZID=Europe/Bratislava:20250118T183000
DTSTAMP:20260425T181046
CREATED:20250114T061423Z
LAST-MODIFIED:20250113T134938Z
UID:16830-1737216000-1737225000@www.uszz.sk
SUMMARY:Prezentácia CD Pitvarošské slovenské piesne
DESCRIPTION:Koncert zboru Ozvena\, podujatie prebehne v Kostole reformovanej cirkvi\, ktorý sa nachádza na Námestí Slobody 2 v Budapešti.
URL:https://www.uszz.sk/event/prezentacia-cd-pitvarosske-slovenske-piesne/
LOCATION:Budapešť\, Andrássy ut\, Maďarsko
ATTACH;FMTTYPE=image/jpeg:https://www.uszz.sk/wp-content/uploads/2025/01/470193355_923465913093275_2468266350083811696_n.jpg
END:VEVENT
BEGIN:VEVENT
DTSTART;TZID=Europe/Bratislava:20241221T150000
DTEND;TZID=Europe/Bratislava:20241221T233000
DTSTAMP:20260425T181046
CREATED:20241213T080123Z
LAST-MODIFIED:20241213T080123Z
UID:16586-1734793200-1734823800@www.uszz.sk
SUMMARY:Vianočné trhy prvýkrát v Selenči
DESCRIPTION:
URL:https://www.uszz.sk/event/vianocne-trhy-prvykrat-v-selenci/
ATTACH;FMTTYPE=image/jpeg:https://www.uszz.sk/wp-content/uploads/2024/12/Your-paragraph-text-Presentation-1.jpg
END:VEVENT
BEGIN:VEVENT
DTSTART;VALUE=DATE:20241214
DTEND;VALUE=DATE:20241215
DTSTAMP:20260425T181046
CREATED:20241210T094103Z
LAST-MODIFIED:20241210T095231Z
UID:16559-1734134400-1734220799@www.uszz.sk
SUMMARY:XXV. výtvarná kolónia Makovička
DESCRIPTION:Úrad pre Slovákov žijúcich v zahraničí dáva do pozornosti XXV. výtvarnú kolóniu Makovička\, ktorá sa bude konať v sobotu 14. decembra 2024 na Základnej škole Jána Čajaka v Báčskom Petrovci (Srbsko). Začiatok podujatia je naplánovaný na 8:00 hod. Pre lepšiu organizáciu podujatia potvrďte svoju účasť e-mailom na adresu milusha91@gmail.com najneskôr do štvrtka 12. decembra 2024.
URL:https://www.uszz.sk/event/xxv-vytvarna-kolonia-makovicka/
LOCATION:Báčsky Petrovec\, Serbia
ATTACH;FMTTYPE=image/jpeg:https://www.uszz.sk/wp-content/uploads/2024/12/Untitled-design-1-e1733823636407.jpg
END:VEVENT
BEGIN:VEVENT
DTSTART;VALUE=DATE:20241214
DTEND;VALUE=DATE:20241215
DTSTAMP:20260425T181046
CREATED:20241209T142134Z
LAST-MODIFIED:20241209T142134Z
UID:16554-1734134400-1734220799@www.uszz.sk
SUMMARY:Vianoce s Limborou
DESCRIPTION:Asociácia Limbora\, spolu s partnermi ETNICA\, Bona Fide Domus a Slovenským inštitútom Detvan DNM\, Vás srdečne pozýva na už 35. ročník tradičného programu „Vianoce s Limborou“\, ktorý sa uskutoční 14. decembra 2024 o 18:00 v Divadle „U Hasičů“ na adrese Rímská 45\, Praha 2. \nViac informácií a lístky na: limbora@gmail.com
URL:https://www.uszz.sk/event/vianoce-s-limborou-2/
ATTACH;FMTTYPE=image/jpeg:https://www.uszz.sk/wp-content/uploads/2024/12/468440248_1364309444875363_795095824946404623_n.jpg
END:VEVENT
BEGIN:VEVENT
DTSTART;VALUE=DATE:20241213
DTEND;VALUE=DATE:20250301
DTSTAMP:20260425T181046
CREATED:20241211T065417Z
LAST-MODIFIED:20241211T065417Z
UID:16566-1734048000-1740787199@www.uszz.sk
SUMMARY:8. Bienále slovenských výtvarníkov amatérov v Srbsku
DESCRIPTION:Múzeum vojvodinských Slovákov pozýva na 8. Bienále slovenských výtvarníkov amatérov v Srbsku. Výstava sa bude konať od 13. decembra 2024 do 28. februára 2025 v Galérii Zuzky Medveďovej v Báčskom Petrovci. Vernisáž sa uskutoční v piatok 13. decembra 2024 o 18.00 hod.
URL:https://www.uszz.sk/event/8-bienale-slovenskych-vytvarnikov-amaterov-v-srbsku/
LOCATION:Galéria Zuzky Medveďovej\, Báčsky Petrovec\, Srbsko
ATTACH;FMTTYPE=image/jpeg:https://www.uszz.sk/wp-content/uploads/2024/12/8-bienale-amaterov-2024-plagat-PRINT-1-e1733900016584.jpg
END:VEVENT
BEGIN:VEVENT
DTSTART;VALUE=DATE:20241207
DTEND;VALUE=DATE:20241208
DTSTAMP:20260425T181046
CREATED:20241204T084350Z
LAST-MODIFIED:20241204T084350Z
UID:16418-1733529600-1733615999@www.uszz.sk
SUMMARY:XX. ročník Muzikologickej konferencie
DESCRIPTION:Ústav pre kultúru vojvodinských Slovákov pozýva verejnosť na jubilejný XX. ročník Muzikologickej konferencie Slovenská hudba vo Vojvodine\, ktorá sa uskutoční v sobotu 7. decembra 2024 o 10:00 hod. v priestoroch ÚKVS na adrese Arsu Teodorovića 11\, Nový Sad.
URL:https://www.uszz.sk/event/xx-rocnik-muzikologickej-konferencie/
ATTACH;FMTTYPE=image/jpeg:https://www.uszz.sk/wp-content/uploads/2024/12/Pozvanka-MuzKon_24_slov-e1733301821305.jpg
END:VEVENT
BEGIN:VEVENT
DTSTART;VALUE=DATE:20241207
DTEND;VALUE=DATE:20241208
DTSTAMP:20260425T181046
CREATED:20241121T142431Z
LAST-MODIFIED:20241121T143334Z
UID:16278-1733529600-1733615999@www.uszz.sk
SUMMARY:Slovenský argentínsky klub Berisso – 68. výročie
DESCRIPTION:
URL:https://www.uszz.sk/event/slovensky-argentinsky-klub-berisso-68-vyrocie/
ATTACH;FMTTYPE=image/jpeg:https://www.uszz.sk/wp-content/uploads/2024/11/466251082_987909156710933_7710089688954126070_n.jpg
END:VEVENT
BEGIN:VEVENT
DTSTART;VALUE=DATE:20241207
DTEND;VALUE=DATE:20241208
DTSTAMP:20260425T181046
CREATED:20241121T142052Z
LAST-MODIFIED:20241121T143334Z
UID:16274-1733529600-1733615999@www.uszz.sk
SUMMARY:Tkanie\, snovanie\, navíjanie osnovy a výroba nitevníc pre krosná
DESCRIPTION:Matica slovenská – Slovenský kultúrno-osvetový spolok Ľudovíta Štúra v Iloku a Tradičná folklórna skupina MS Ilok vás srdečne pozývajú na tvorivú dielňu s názvom: „Tkanie\, snovanie\, navíjanie osnovy a výroba nitevníc pre krosná“\, ktorá sa uskutoční 7. decembra 2024 v Slovenskom dome v Iloku.
URL:https://www.uszz.sk/event/tkanie-snovanie-navijanie-osnovy-a-vyroba-nitevnic-pre-krosna/
ATTACH;FMTTYPE=image/jpeg:https://www.uszz.sk/wp-content/uploads/2024/11/3.jpg
END:VEVENT
BEGIN:VEVENT
DTSTART;TZID=Europe/Bratislava:20241206T110000
DTEND;TZID=Europe/Bratislava:20241207T180000
DTSTAMP:20260425T181046
CREATED:20241204T083529Z
LAST-MODIFIED:20241204T083529Z
UID:16410-1733482800-1733594400@www.uszz.sk
SUMMARY:Výstavu medovníkov a vianočných dekorácií v Nadlaku
DESCRIPTION:Demokratický zväz Slovákov a Čechov v Rumunsku v Nadlaku srdečne pozýva všetkých milovníkov tradičných vianočných dekorácií na Výstavu medovníkov a vianočných dekorácií\, ktorá sa uskutoční v dňoch 6. a 7. decembra 2024 v priestoroch sídla DZSČR.
URL:https://www.uszz.sk/event/vystavu-medovnikov-a-vianocnych-dekoracii-v-nadlaku/
LOCATION:Nadlak\, Rumunsko
ATTACH;FMTTYPE=image/jpeg:https://www.uszz.sk/wp-content/uploads/2024/12/468706295_3151662684973602_6331400885841975909_n-e1733301323340.jpg
END:VEVENT
BEGIN:VEVENT
DTSTART;VALUE=DATE:20241205
DTEND;VALUE=DATE:20241206
DTSTAMP:20260425T181046
CREATED:20241126T142601Z
LAST-MODIFIED:20241126T142601Z
UID:16305-1733356800-1733443199@www.uszz.sk
SUMMARY:Molovanie: Tradícia nástennej maľby v Chorvátsku
DESCRIPTION:Slovenské kultúrne centrum v Našiciach pripravilo  výstavu zameranú na molovanie – tradičnú techniku nástennej maľby používanú Slovákmi žijúcimi v Chorvátsku. Vernisáž sa uskutoční 5. decembra 2024 o 18:00 v priestoroch centra na adrese Braće Radića 68\, Našice.
URL:https://www.uszz.sk/event/molovanie-tradicia-nastennej-malby-v-chorvatsku/
ATTACH;FMTTYPE=image/png:https://www.uszz.sk/wp-content/uploads/2024/11/Snimka-obrazovky-2024-11-26-150945-1-e1732631057178.png
END:VEVENT
BEGIN:VEVENT
DTSTART;TZID=Europe/Bratislava:20241203T180000
DTEND;TZID=Europe/Bratislava:20241203T210000
DTSTAMP:20260425T181046
CREATED:20241202T114706Z
LAST-MODIFIED:20241202T114706Z
UID:16362-1733248800-1733259600@www.uszz.sk
SUMMARY:Krakov: výstava Vianočná pohľadnica
DESCRIPTION:Spolok Slovákov v Poľsku a Oravské kultúrne stredisko v Dolnom Kubíne vás srdečne pozývajú na vernisáž výstavy Vianočná pohľadnica. Táto medzinárodná súťaž výtvarnej tvorivosti detí a mládeže predstaví originálne diela\, ktoré zachytávajú čaro Vianoc očami mladých talentov. \nSúčasťou podujatia bude vystúpenie oravskej folklórnej skupiny\, ktorá prinesie tradičné pásmo betlehemskej obchôdzky a vinšov. \nKedy: 3. decembra 2024 o 18:00\nKde: Galéria slovenského umenia Spolku Slovákov v Poľsku\, ul. sv. Filipa 7\, Krakov
URL:https://www.uszz.sk/event/krakov-vystava-vianocna-pohladnica/
ATTACH;FMTTYPE=image/jpeg:https://www.uszz.sk/wp-content/uploads/2024/12/vystava.jpg
END:VEVENT
BEGIN:VEVENT
DTSTART;VALUE=DATE:20241203
DTEND;VALUE=DATE:20241204
DTSTAMP:20260425T181046
CREATED:20241121T141331Z
LAST-MODIFIED:20241121T143334Z
UID:16270-1733184000-1733270399@www.uszz.sk
SUMMARY:30. výročie Matice slovenskej v Rijeke
DESCRIPTION:Hosti 80b\, 51000 Rijeka\ntel/fax.  +385 51 502 293\ne-mail:  matica.slovacka@ri.htnet.hr\n            maticaslovacka.ri@gmail.com
URL:https://www.uszz.sk/event/30-vyrocie-matice-slovenskej-v-rijeke/
ATTACH;FMTTYPE=image/jpeg:https://www.uszz.sk/wp-content/uploads/2024/11/rijeka.jpg
END:VEVENT
BEGIN:VEVENT
DTSTART;TZID=Europe/Bratislava:20241130T183000
DTEND;TZID=Europe/Bratislava:20241130T233000
DTSTAMP:20260425T181046
CREATED:20241120T120521Z
LAST-MODIFIED:20241121T143334Z
UID:16247-1732991400-1733009400@www.uszz.sk
SUMMARY:Spievajže si spievaj
DESCRIPTION:Báčsky Petrovec\, v sieni Vojvodinského divadla
URL:https://www.uszz.sk/event/spievajze-si-spievaj/
LOCATION:Báčsky Petrovec\, Serbia
ATTACH;FMTTYPE=image/jpeg:https://www.uszz.sk/wp-content/uploads/2024/11/Plagat-Spievaj-2024-1.jpg
END:VEVENT
BEGIN:VEVENT
DTSTART;TZID=Europe/Bratislava:20241123T132500
DTEND;TZID=Europe/Bratislava:20241123T142500
DTSTAMP:20260425T181046
CREATED:20241120T114405Z
LAST-MODIFIED:20241121T143334Z
UID:16244-1732368300-1732371900@www.uszz.sk
SUMMARY:Krajanská nedeľa na STVR
DESCRIPTION:
URL:https://www.uszz.sk/event/krajanska-nedela-na-stvr/
ATTACH;FMTTYPE=image/jpeg:https://www.uszz.sk/wp-content/uploads/2024/11/466974780_122149034174321130_4402040449821424204_n.jpg
END:VEVENT
BEGIN:VEVENT
DTSTART;VALUE=DATE:20241122
DTEND;VALUE=DATE:20241123
DTSTAMP:20260425T181046
CREATED:20241120T113044Z
LAST-MODIFIED:20241121T143334Z
UID:16242-1732233600-1732319999@www.uszz.sk
SUMMARY:Medzinárodná konferencia slovenských a českých stredoškolákov 2024
DESCRIPTION:Medzinárodná konferencia slovenských a českých stredoškolákov s názvom Premeny tradícií národnostných menšín v ČR a SR
URL:https://www.uszz.sk/event/medzinarodna-konferencia-slovenskych-a-ceskych-stredoskolakov-2024/
LOCATION:Praha\, Czech Republic
ATTACH;FMTTYPE=image/jpeg:https://www.uszz.sk/wp-content/uploads/2024/11/Medzinarodna-konferencia-slovenskych-a-ceskych-stredoskolakov-Premeny-tradicii-narodnostnych-mensin-v-CR-a-SR.jpg
END:VEVENT
BEGIN:VEVENT
DTSTART;VALUE=DATE:20241122
DTEND;VALUE=DATE:20241125
DTSTAMP:20260425T181046
CREATED:20241120T112752Z
LAST-MODIFIED:20241121T143334Z
UID:16240-1732233600-1732492799@www.uszz.sk
SUMMARY:Stretnutie v pivnickom poli
DESCRIPTION:
URL:https://www.uszz.sk/event/stretnutie-v-pivnickom-poli/
LOCATION:Pivnica\, Srbsko
ATTACH;FMTTYPE=image/jpeg:https://www.uszz.sk/wp-content/uploads/2024/11/Pozvanie-58.SVPP-harmonogram-scaled.jpg
END:VEVENT
END:VCALENDAR